BEGIN:VCALENDAR
VERSION:2.0
PRODID:-//Water Wrights - ECPv5.16.4//NONSGML v1.0//EN
CALSCALE:GREGORIAN
METHOD:PUBLISH
X-WR-CALNAME:Water Wrights
X-ORIGINAL-URL:https://waterwrights.net
X-WR-CALDESC:Events for Water Wrights
BEGIN:VTIMEZONE
TZID:America/Los_Angeles
BEGIN:DAYLIGHT
TZOFFSETFROM:-0800
TZOFFSETTO:-0700
TZNAME:PDT
DTSTART:20230312T100000
END:DAYLIGHT
BEGIN:STANDARD
TZOFFSETFROM:-0700
TZOFFSETTO:-0800
TZNAME:PST
DTSTART:20231105T090000
END:STANDARD
END:VTIMEZONE
BEGIN:VEVENT
DTSTART;TZID=America/Los_Angeles:20230705T140000
DTEND;TZID=America/Los_Angeles:20230705T160000
DTSTAMP:20260421T105826
CREATED:20230705T211505Z
LAST-MODIFIED:20230705T211505Z
UID:22362-1688565600-1688572800@waterwrights.net
SUMMARY:MCMULLIN AREA GSA
DESCRIPTION:MCMULLIN AREA GROUNDWATER\nSUSTAINABILITY AGENCY\nBOARD OF DIRECTORS\nREGULAR MEETING\nJuly 5\, 2023 \n15101 Kearney Blvd. \nKerman\, CA 93630
URL:https://waterwrights.net/event/mcmullin-area-gsa-3/
LOCATION:Mcmullin area gsa\, 15101 Kearney Blvd\, Kerman\, CA\, 93630\, United States
END:VEVENT
END:VCALENDAR