BEGIN:VCALENDAR
VERSION:2.0
PRODID:-//Water Wrights - ECPv5.16.4//NONSGML v1.0//EN
CALSCALE:GREGORIAN
METHOD:PUBLISH
X-WR-CALNAME:Water Wrights
X-ORIGINAL-URL:https://waterwrights.net
X-WR-CALDESC:Events for Water Wrights
BEGIN:VTIMEZONE
TZID:America/Los_Angeles
BEGIN:DAYLIGHT
TZOFFSETFROM:-0800
TZOFFSETTO:-0700
TZNAME:PDT
DTSTART:20230312T100000
END:DAYLIGHT
BEGIN:STANDARD
TZOFFSETFROM:-0700
TZOFFSETTO:-0800
TZNAME:PST
DTSTART:20231105T090000
END:STANDARD
END:VTIMEZONE
BEGIN:VEVENT
DTSTART;TZID=America/Los_Angeles:20230706T090000
DTEND;TZID=America/Los_Angeles:20230706T110000
DTSTAMP:20260421T105516
CREATED:20230629T234229Z
LAST-MODIFIED:20230706T141329Z
UID:22256-1688634000-1688641200@waterwrights.net
SUMMARY:Glenn-Colusa ID 9AM Cancelled
DESCRIPTION:1st & 3rd Thursdays 9am Cancelled
URL:https://waterwrights.net/event/glenn-colusa-id-9am-20/
LOCATION:Glenn Colusa ID Meeting\, 344 E Laurel Street Willows\, California\, 95988
END:VEVENT
BEGIN:VEVENT
DTSTART;TZID=America/Los_Angeles:20230706T100000
DTEND;TZID=America/Los_Angeles:20230706T120000
DTSTAMP:20260421T105516
CREATED:20230705T205658Z
LAST-MODIFIED:20230705T205658Z
UID:22358-1688637600-1688644800@waterwrights.net
SUMMARY:Kern River GSA 10AM
DESCRIPTION:Regular Meeting Agenda \n10:00 A.M.
URL:https://waterwrights.net/event/kern-river-gsa-10am-10/
LOCATION:1000 Buena Vista Road\, Bakersfield CA 93311\, 1000 buena Vista Road\,\, Bakersfield\, CA\, 93311\, United States
END:VEVENT
BEGIN:VEVENT
DTSTART;TZID=America/Los_Angeles:20230706T130000
DTEND;TZID=America/Los_Angeles:20230706T150000
DTSTAMP:20260421T105516
CREATED:20230626T061105Z
LAST-MODIFIED:20230706T141601Z
UID:22129-1688648400-1688655600@waterwrights.net
SUMMARY:Tri County Water Authority 1PM Cancelled
DESCRIPTION:1s Thursday 1pm Cancelled
URL:https://waterwrights.net/event/tri-county-water-authority-1pm-4/
LOCATION:California
END:VEVENT
END:VCALENDAR