BEGIN:VCALENDAR
VERSION:2.0
PRODID:-//Water Wrights - ECPv5.16.4//NONSGML v1.0//EN
CALSCALE:GREGORIAN
METHOD:PUBLISH
X-WR-CALNAME:Water Wrights
X-ORIGINAL-URL:https://waterwrights.net
X-WR-CALDESC:Events for Water Wrights
BEGIN:VTIMEZONE
TZID:America/Los_Angeles
BEGIN:DAYLIGHT
TZOFFSETFROM:-0800
TZOFFSETTO:-0700
TZNAME:PDT
DTSTART:20230312T100000
END:DAYLIGHT
BEGIN:STANDARD
TZOFFSETFROM:-0700
TZOFFSETTO:-0800
TZNAME:PST
DTSTART:20231105T090000
END:STANDARD
END:VTIMEZONE
BEGIN:VEVENT
DTSTART;TZID=America/Los_Angeles:20230712T080000
DTEND;TZID=America/Los_Angeles:20230712T100000
DTSTAMP:20260421T110950
CREATED:20230628T031846Z
LAST-MODIFIED:20230628T031846Z
UID:22184-1689148800-1689156000@waterwrights.net
SUMMARY:Wheeler Ridge Maricopa WD 8AM
DESCRIPTION:2nd Wednesday 8am
URL:https://waterwrights.net/event/wheeler-ridge-maricopa-wd-8am-3/
LOCATION:Wheeler Ridge Maricopa WD\, 12109 High Way 166\, Bakerfield\, California\, 93312
END:VEVENT
BEGIN:VEVENT
DTSTART;TZID=America/Los_Angeles:20230712T090000
DTEND;TZID=America/Los_Angeles:20230712T110000
DTSTAMP:20260421T110950
CREATED:20230628T032100Z
LAST-MODIFIED:20230628T032100Z
UID:22186-1689152400-1689159600@waterwrights.net
SUMMARY:Shafter Wasco ID 9AM
DESCRIPTION:2nd Wednesday 9am
URL:https://waterwrights.net/event/shafter-wasco-id-9am-5/
LOCATION:Shafter Wasco ID\, 16294 Highway 43\, Wasco\, California\, 93280
END:VEVENT
BEGIN:VEVENT
DTSTART;TZID=America/Los_Angeles:20230712T090000
DTEND;TZID=America/Los_Angeles:20230712T110000
DTSTAMP:20260421T110950
CREATED:20230628T035057Z
LAST-MODIFIED:20230705T174656Z
UID:22211-1689152400-1689159600@waterwrights.net
SUMMARY:Exchange Contractors 9AM
DESCRIPTION:1st Friday 9am
URL:https://waterwrights.net/event/exchange-contractors-9am-9/
LOCATION:541 H Street Los Banos CA 93635\, 541 H street\, Los Banos\, CA\, 93635\, United States
END:VEVENT
BEGIN:VEVENT
DTSTART;TZID=America/Los_Angeles:20230712T113000
DTEND;TZID=America/Los_Angeles:20230712T133000
DTSTAMP:20260421T110950
CREATED:20230626T060252Z
LAST-MODIFIED:20230626T060252Z
UID:22123-1689161400-1689168600@waterwrights.net
SUMMARY:Orange Cove ID 11:45 AM
DESCRIPTION:2nd Wednesday 11:45am
URL:https://waterwrights.net/event/orange-cove-id-1145-am/
LOCATION:Orange Cove ID\, 1130 Park Ave\, Orange Cove\, California\, 93646
END:VEVENT
BEGIN:VEVENT
DTSTART;TZID=America/Los_Angeles:20230712T123000
DTEND;TZID=America/Los_Angeles:20230712T143000
DTSTAMP:20260421T110950
CREATED:20230628T031518Z
LAST-MODIFIED:20230628T031518Z
UID:22179-1689165000-1689172200@waterwrights.net
SUMMARY:Semitropic WD 12:30PM
DESCRIPTION:2nd Wednesday 12:30
URL:https://waterwrights.net/event/semitropic-wd-1230pm-2/
LOCATION:Semitropic WD\, 1101 Central Avenue\, Wasco\, California\, 93280
END:VEVENT
BEGIN:VEVENT
DTSTART;TZID=America/Los_Angeles:20230712T130000
DTEND;TZID=America/Los_Angeles:20230712T150000
DTSTAMP:20260421T110950
CREATED:20230626T055312Z
LAST-MODIFIED:20230626T055312Z
UID:22119-1689166800-1689174000@waterwrights.net
SUMMARY:Consolidated ID 1PM
DESCRIPTION:2nd Wednesday 1pm
URL:https://waterwrights.net/event/consolidated-id-1pm-9/
LOCATION:California
END:VEVENT
BEGIN:VEVENT
DTSTART;TZID=America/Los_Angeles:20230712T130000
DTEND;TZID=America/Los_Angeles:20230712T150000
DTSTAMP:20260421T110950
CREATED:20230628T004620Z
LAST-MODIFIED:20230628T004620Z
UID:22156-1689166800-1689174000@waterwrights.net
SUMMARY:Dudley Ridge WD 1PM
DESCRIPTION:2nd Wednesday 1pm
URL:https://waterwrights.net/event/dudley-ridge-wd-1pm-3/
LOCATION:286 W. Cromwell Fresno CA 93711\, 286 W. Cromwell\, Fresno\, CA\, 93711\, United States
END:VEVENT
BEGIN:VEVENT
DTSTART;TZID=America/Los_Angeles:20230712T133000
DTEND;TZID=America/Los_Angeles:20230712T153000
DTSTAMP:20260421T110950
CREATED:20230623T015245Z
LAST-MODIFIED:20230623T015245Z
UID:22089-1689168600-1689175800@waterwrights.net
SUMMARY:Chowchilla WD 1:30PM
DESCRIPTION:2nd Wednesday 1:30pm
URL:https://waterwrights.net/event/chowchilla-wd-130pm-7/
LOCATION:Chowchilla WD\, 327 S Chowchilla Blvd\,\, Chowchilla\,\, California\, 93610
END:VEVENT
END:VCALENDAR