BEGIN:VCALENDAR
VERSION:2.0
PRODID:-//Water Wrights - ECPv5.16.4//NONSGML v1.0//EN
CALSCALE:GREGORIAN
METHOD:PUBLISH
X-WR-CALNAME:Water Wrights
X-ORIGINAL-URL:https://waterwrights.net
X-WR-CALDESC:Events for Water Wrights
BEGIN:VTIMEZONE
TZID:America/Los_Angeles
BEGIN:DAYLIGHT
TZOFFSETFROM:-0800
TZOFFSETTO:-0700
TZNAME:PDT
DTSTART:20230312T100000
END:DAYLIGHT
BEGIN:STANDARD
TZOFFSETFROM:-0700
TZOFFSETTO:-0800
TZNAME:PST
DTSTART:20231105T090000
END:STANDARD
END:VTIMEZONE
BEGIN:VEVENT
DTSTART;TZID=America/Los_Angeles:20230713T073000
DTEND;TZID=America/Los_Angeles:20230713T120000
DTSTAMP:20260421T105646
CREATED:20230710T151737Z
LAST-MODIFIED:20230710T151737Z
UID:22415-1689233400-1689249600@waterwrights.net
SUMMARY:Kaweah Subbasin GSA Gathering 7:30am Tulare Ag Expo
DESCRIPTION:East Kaweah\, Greater Kaweah\, Mid Kaweah GSAs joint meeting and outreach event. 7:30am International Ag Expo Grounds\, Tulare CA.
URL:https://waterwrights.net/event/kaweah-subbasin-gsa-gathering-730am-tulare-ag-expo/
END:VEVENT
BEGIN:VEVENT
DTSTART;TZID=America/Los_Angeles:20230713T080000
DTEND;TZID=America/Los_Angeles:20230713T170000
DTSTAMP:20260421T105646
CREATED:20230629T232844Z
LAST-MODIFIED:20230629T232844Z
UID:22250-1689235200-1689267600@waterwrights.net
SUMMARY:Butte WD 10AM
DESCRIPTION:2nd Thursday 10am
URL:https://waterwrights.net/event/butte-wd-10am-2/
LOCATION:Butte WD\, 735 Virginia Street\, Gridley\, California\, 95948
END:VEVENT
BEGIN:VEVENT
DTSTART;TZID=America/Los_Angeles:20230713T090000
DTEND;TZID=America/Los_Angeles:20230713T110000
DTSTAMP:20260421T105646
CREATED:20230628T032357Z
LAST-MODIFIED:20230628T032357Z
UID:22190-1689238800-1689246000@waterwrights.net
SUMMARY:Cawelo WD 9AM
DESCRIPTION:2nd Thursday 9am
URL:https://waterwrights.net/event/cawelo-wd-9am-4/
LOCATION:Cawelo WD\, 17207 Industrial Farm Road\, Bakersfield\, California\, 93308
END:VEVENT
BEGIN:VEVENT
DTSTART;TZID=America/Los_Angeles:20230713T093000
DTEND;TZID=America/Los_Angeles:20230713T113000
DTSTAMP:20260421T105646
CREATED:20230626T055617Z
LAST-MODIFIED:20230626T055617Z
UID:22121-1689240600-1689247800@waterwrights.net
SUMMARY:Alta ID 9:30AM
DESCRIPTION:2nd Thursday 9:30am
URL:https://waterwrights.net/event/alta-id-930am-11/
END:VEVENT
BEGIN:VEVENT
DTSTART;TZID=America/Los_Angeles:20230713T093000
DTEND;TZID=America/Los_Angeles:20230713T113000
DTSTAMP:20260421T105646
CREATED:20230628T034817Z
LAST-MODIFIED:20230628T034817Z
UID:22209-1689240600-1689247800@waterwrights.net
SUMMARY:San Luis Delta Mendota 9:30AM
DESCRIPTION:2nd Thur after 1st Mon 9:30
URL:https://waterwrights.net/event/san-luis-delta-mendota-930am-14/
LOCATION:San Luis Delta Mendota\, 842 6th Street\, Los Banos\, California\, 93635
END:VEVENT
BEGIN:VEVENT
DTSTART;TZID=America/Los_Angeles:20230713T100000
DTEND;TZID=America/Los_Angeles:20230713T120000
DTSTAMP:20260421T105646
CREATED:20230623T021452Z
LAST-MODIFIED:20230626T054005Z
UID:22091-1689242400-1689249600@waterwrights.net
SUMMARY:Triangle T WD & GSA 10AM
DESCRIPTION:2nd Thursday 10am
URL:https://waterwrights.net/event/triangle-t-wd-gsa/
LOCATION:Triangle T WD/GSA\, 4400 Hays Drive\, Chowchilla\, California\, 93610
END:VEVENT
BEGIN:VEVENT
DTSTART;TZID=America/Los_Angeles:20230713T123000
DTEND;TZID=America/Los_Angeles:20230713T143000
DTSTAMP:20260421T105646
CREATED:20230628T033520Z
LAST-MODIFIED:20230628T033520Z
UID:22203-1689251400-1689258600@waterwrights.net
SUMMARY:Kern Tulare WD 2:30PM
DESCRIPTION:2nd Thursday 2:30pm
URL:https://waterwrights.net/event/kern-tulare-wd-230pm-2/
LOCATION:Kern Tulare WD\, 5001 California Ave Ste 202\, Bakersfield\, 93309
END:VEVENT
BEGIN:VEVENT
DTSTART;TZID=America/Los_Angeles:20230713T133000
DTEND;TZID=America/Los_Angeles:20230713T153000
DTSTAMP:20260421T105646
CREATED:20230628T010428Z
LAST-MODIFIED:20230628T010428Z
UID:22163-1689255000-1689262200@waterwrights.net
SUMMARY:Exeter ID 1:30PM
DESCRIPTION:2nd Thursday 1:30pm
URL:https://waterwrights.net/event/exeter-id-130pm/
LOCATION:150 E Street Exeter CA 93221\, 150 E street\, exeter\, CA\, 93221\, United States
END:VEVENT
BEGIN:VEVENT
DTSTART;TZID=America/Los_Angeles:20230713T150000
DTEND;TZID=America/Los_Angeles:20230713T170000
DTSTAMP:20260421T105646
CREATED:20230710T044527Z
LAST-MODIFIED:20230710T044527Z
UID:22411-1689260400-1689267600@waterwrights.net
SUMMARY:Fresno ID 3PM
DESCRIPTION:FRESNO IRRIGATION DISTRICT\nBOARD OF DIRECTORS REGULAR MEETING\n2907 S MAPLE AVENUE – FRESNO\, CA 93725\nTHURSDAY\, JULY 13\, 2023 – 3:00 PM
URL:https://waterwrights.net/event/fresno-id-3pm-7/
LOCATION:Fresno Irrigation District\, 2097 S. Mapel Ave\, Fresno\, California\, 93725
END:VEVENT
BEGIN:VEVENT
DTSTART;TZID=America/Los_Angeles:20230713T160000
DTEND;TZID=America/Los_Angeles:20230713T180000
DTSTAMP:20260421T105646
CREATED:20230628T033312Z
LAST-MODIFIED:20230628T033312Z
UID:22201-1689264000-1689271200@waterwrights.net
SUMMARY:Delano Earlimart ID 4PM
DESCRIPTION:2nd Thursday 4pm
URL:https://waterwrights.net/event/delano-earlimart-id-4pm-4/
LOCATION:Delano Earlimart ID\, 14181 Avenue 24\, Delano\, 93215
END:VEVENT
BEGIN:VEVENT
DTSTART;TZID=America/Los_Angeles:20230713T173000
DTEND;TZID=America/Los_Angeles:20230713T193000
DTSTAMP:20260421T105646
CREATED:20230712T042601Z
LAST-MODIFIED:20230712T042601Z
UID:22469-1689269400-1689276600@waterwrights.net
SUMMARY:South Fork Kings 5:30PM
DESCRIPTION:SPECIAL SFKGSA BOARD MEETING\nCity of Lemoore Council Chambers\n429 C Street Lemoore\, CA 93245\nJuly 13\, 2023 @ 5:30
URL:https://waterwrights.net/event/south-fork-kings-530pm/
LOCATION:South Fork Kings GSA\, 429 C Street\, Lemoore\, CA\, 93245\, United States
END:VEVENT
END:VCALENDAR