BEGIN:VCALENDAR
VERSION:2.0
PRODID:-//Water Wrights - ECPv5.16.4//NONSGML v1.0//EN
CALSCALE:GREGORIAN
METHOD:PUBLISH
X-WR-CALNAME:Water Wrights
X-ORIGINAL-URL:https://waterwrights.net
X-WR-CALDESC:Events for Water Wrights
BEGIN:VTIMEZONE
TZID:America/Los_Angeles
BEGIN:DAYLIGHT
TZOFFSETFROM:-0800
TZOFFSETTO:-0700
TZNAME:PDT
DTSTART:20230312T100000
END:DAYLIGHT
BEGIN:STANDARD
TZOFFSETFROM:-0700
TZOFFSETTO:-0800
TZNAME:PST
DTSTART:20231105T090000
END:STANDARD
END:VTIMEZONE
BEGIN:VEVENT
DTSTART;TZID=America/Los_Angeles:20230718T090000
DTEND;TZID=America/Los_Angeles:20230718T123000
DTSTAMP:20260421T105650
CREATED:20230623T024309Z
LAST-MODIFIED:20230705T172035Z
UID:22095-1689670800-1689683400@waterwrights.net
SUMMARY:Westlands WD 9AM
DESCRIPTION:3rd Tuesday 9am
URL:https://waterwrights.net/event/westlands-wd-3/
LOCATION:Westlands WD\, 3130 N. Fresno St\, Fresno\, California\, 93703
END:VEVENT
BEGIN:VEVENT
DTSTART;TZID=America/Los_Angeles:20230718T090000
DTEND;TZID=America/Los_Angeles:20230718T110000
DTSTAMP:20260421T105650
CREATED:20230629T233854Z
LAST-MODIFIED:20230629T233854Z
UID:22254-1689670800-1689678000@waterwrights.net
SUMMARY:Yuba County WA 9AM
DESCRIPTION:1st & 3rd Tuesdays 9am
URL:https://waterwrights.net/event/yuba-county-wa-9am-8/
LOCATION:Yuba County WA\, 1220 F Street\, Marysville\, California\, 995901
END:VEVENT
BEGIN:VEVENT
DTSTART;TZID=America/Los_Angeles:20230718T090000
DTEND;TZID=America/Los_Angeles:20230718T110000
DTSTAMP:20260421T105650
CREATED:20230629T235114Z
LAST-MODIFIED:20230629T235114Z
UID:22262-1689670800-1689678000@waterwrights.net
SUMMARY:Western Canal WD 9AM
DESCRIPTION:3rd Tuesday 9am
URL:https://waterwrights.net/event/western-canal-wd-9am-5/
LOCATION:Western Canal WD\, PO Box 190 Richval\, Richval\, California\, 95974
END:VEVENT
BEGIN:VEVENT
DTSTART;TZID=America/Los_Angeles:20230718T130000
DTEND;TZID=America/Los_Angeles:20230718T150000
DTSTAMP:20260421T105650
CREATED:20230623T014810Z
LAST-MODIFIED:20230623T014810Z
UID:22087-1689685200-1689692400@waterwrights.net
SUMMARY:Madera Id 1PM
DESCRIPTION:3rd Tuesday 1pm
URL:https://waterwrights.net/event/madera-id-1pm-5/
LOCATION:Madera Irrigation District  12152 Road 28 ¼  Madera\, CA 93637\, Irrigation District 12152 Road 28 ¼\, madera\, CA\, 93637\, United States
END:VEVENT
BEGIN:VEVENT
DTSTART;TZID=America/Los_Angeles:20230718T130000
DTEND;TZID=America/Los_Angeles:20230718T150000
DTSTAMP:20260421T105650
CREATED:20230628T032720Z
LAST-MODIFIED:20230706T141858Z
UID:22195-1689685200-1689692400@waterwrights.net
SUMMARY:Kern Delta WD 1PM
DESCRIPTION:1st & 3rdTuesdays 1pm
URL:https://waterwrights.net/event/kern-delta-wd-1pm-7/
LOCATION:Kern Delta WD\, 501 Taft High Way\, Bakersfield\, California\, 93307
END:VEVENT
BEGIN:VEVENT
DTSTART;TZID=America/Los_Angeles:20230718T150000
DTEND;TZID=America/Los_Angeles:20230718T170000
DTSTAMP:20260421T105650
CREATED:20230705T211021Z
LAST-MODIFIED:20230705T211021Z
UID:22360-1689692400-1689699600@waterwrights.net
SUMMARY:Mid-Kaweah GSA 3PM
DESCRIPTION:Mid-Kaweah Advisory Committee will be\nJuly 18\, 2023 at Tulare ID (hybrid) from 3-5pm
URL:https://waterwrights.net/event/mid-kaweah-gsa-3pm-10/
LOCATION:Mid Kaweah GSA\, 491 North M Street\, tulare\, CA\, 93274\, United States
END:VEVENT
END:VCALENDAR