BEGIN:VCALENDAR
VERSION:2.0
PRODID:-//Water Wrights - ECPv5.16.4//NONSGML v1.0//EN
CALSCALE:GREGORIAN
METHOD:PUBLISH
X-WR-CALNAME:Water Wrights
X-ORIGINAL-URL:https://waterwrights.net
X-WR-CALDESC:Events for Water Wrights
BEGIN:VTIMEZONE
TZID:America/Los_Angeles
BEGIN:DAYLIGHT
TZOFFSETFROM:-0800
TZOFFSETTO:-0700
TZNAME:PDT
DTSTART:20230312T100000
END:DAYLIGHT
BEGIN:STANDARD
TZOFFSETFROM:-0700
TZOFFSETTO:-0800
TZNAME:PST
DTSTART:20231105T090000
END:STANDARD
END:VTIMEZONE
BEGIN:VEVENT
DTSTART;TZID=America/Los_Angeles:20230720T090000
DTEND;TZID=America/Los_Angeles:20230720T110000
DTSTAMP:20260421T122601
CREATED:20230629T231335Z
LAST-MODIFIED:20230629T231335Z
UID:22242-1689843600-1689850800@waterwrights.net
SUMMARY:Oakdale ID 9AM
DESCRIPTION:3rd Thursday 9am
URL:https://waterwrights.net/event/oakdale-id-9am-3/
LOCATION:Oakdale ID\, 1205 East F Street\, Oakdale\, California\, 95361
END:VEVENT
BEGIN:VEVENT
DTSTART;TZID=America/Los_Angeles:20230720T090000
DTEND;TZID=America/Los_Angeles:20230720T110000
DTSTAMP:20260421T122601
CREATED:20230629T234339Z
LAST-MODIFIED:20230629T234339Z
UID:22258-1689843600-1689850800@waterwrights.net
SUMMARY:Glenn-Colusa ID 9AM
DESCRIPTION:1st & 3rd Thursdays 9am
URL:https://waterwrights.net/event/glenn-colusa-id-9am-21/
LOCATION:Glenn Colusa ID Meeting\, 344 E Laurel Street Willows\, California\, 95988
END:VEVENT
BEGIN:VEVENT
DTSTART;TZID=America/Los_Angeles:20230720T100000
DTEND;TZID=America/Los_Angeles:20230720T120000
DTSTAMP:20260421T122601
CREATED:20230715T044733Z
LAST-MODIFIED:20230715T044733Z
UID:22584-1689847200-1689854400@waterwrights.net
SUMMARY:South of Kern River GSP 10AM
DESCRIPTION:South of Kern River Executive Committee \nRegular Meeting\nThursday\, July 20\, 2023\n10:00 a.m.to 11:30 a.m.
URL:https://waterwrights.net/event/south-of-kern-river-gsp-10am/
LOCATION:20401 E. Bear Mountain Blvd. Arvin\, CA 93203\, 20401 E. Bear mountain blvd\, Arvin\, CA\, 93203\, United States
END:VEVENT
BEGIN:VEVENT
DTSTART;TZID=America/Los_Angeles:20230720T133000
DTEND;TZID=America/Los_Angeles:20230720T153000
DTSTAMP:20260421T122601
CREATED:20230629T235011Z
LAST-MODIFIED:20230629T235011Z
UID:22260-1689859800-1689867000@waterwrights.net
SUMMARY:Richvale ID 1:30PM
DESCRIPTION:3rd Thursday 1:30pm
URL:https://waterwrights.net/event/richvale-id-130pm-2/
LOCATION:Richvale Irrigation District\, PO Box 147\, Richvale\, California\, 95974
END:VEVENT
BEGIN:VEVENT
DTSTART;TZID=America/Los_Angeles:20230720T133000
DTEND;TZID=America/Los_Angeles:20230720T153000
DTSTAMP:20260421T122601
CREATED:20230720T022554Z
LAST-MODIFIED:20230720T022554Z
UID:22629-1689859800-1689867000@waterwrights.net
SUMMARY:Greater Kaweah GSA 1:30PM
DESCRIPTION:GKGSA Technical Advisory Committee Meeting \nThursday\, July 20\, 2023 @ 1:30 p.m \nFurther information is not reachable
URL:https://waterwrights.net/event/greater-kaweah-gsa-130pm-2/
LOCATION:Greater Kaweah GSA\, Kaweah Delta WCD offices\, California
END:VEVENT
BEGIN:VEVENT
DTSTART;TZID=America/Los_Angeles:20230720T150000
DTEND;TZID=America/Los_Angeles:20230720T170000
DTSTAMP:20260421T122601
CREATED:20230626T054709Z
LAST-MODIFIED:20230626T054709Z
UID:22115-1689865200-1689872400@waterwrights.net
SUMMARY:Fresno ID 3PM
DESCRIPTION:3rd Thursday 3pm
URL:https://waterwrights.net/event/fresno-id-3pm-6/
LOCATION:Fresno Irrigation District\, 2097 S. Mapel Ave\, Fresno\, California\, 93725
END:VEVENT
END:VCALENDAR