BEGIN:VCALENDAR
VERSION:2.0
PRODID:-//Water Wrights - ECPv5.16.4//NONSGML v1.0//EN
CALSCALE:GREGORIAN
METHOD:PUBLISH
X-WR-CALNAME:Water Wrights
X-ORIGINAL-URL:https://waterwrights.net
X-WR-CALDESC:Events for Water Wrights
BEGIN:VTIMEZONE
TZID:America/Los_Angeles
BEGIN:DAYLIGHT
TZOFFSETFROM:-0800
TZOFFSETTO:-0700
TZNAME:PDT
DTSTART:20230312T100000
END:DAYLIGHT
BEGIN:STANDARD
TZOFFSETFROM:-0700
TZOFFSETTO:-0800
TZNAME:PST
DTSTART:20231105T090000
END:STANDARD
END:VTIMEZONE
BEGIN:VEVENT
DTSTART;TZID=America/Los_Angeles:20230727T080000
DTEND;TZID=America/Los_Angeles:20230727T170000
DTSTAMP:20260421T110501
CREATED:20230630T000217Z
LAST-MODIFIED:20230630T000217Z
UID:22264-1690444800-1690477200@waterwrights.net
SUMMARY:North Kings GSA 6PM
DESCRIPTION:4th Thursday 6pm
URL:https://waterwrights.net/event/north-kings-gsa-6pm-15/
LOCATION:North Kings GSA\, FID 2907 S Maple Avenue\, Fresno\, California\, 93725
END:VEVENT
BEGIN:VEVENT
DTSTART;TZID=America/Los_Angeles:20230727T100000
DTEND;TZID=America/Los_Angeles:20230727T120000
DTSTAMP:20260421T110501
CREATED:20230628T025554Z
LAST-MODIFIED:20230628T025554Z
UID:22175-1690452000-1690459200@waterwrights.net
SUMMARY:Friant Water Authority 10AM
DESCRIPTION:Last Thursday 10am
URL:https://waterwrights.net/event/friant-water-authority-10am-5/
LOCATION:Friant Water Authority\, 854 N Harvard Ave\,\, Lindsay\, California\, 93247
END:VEVENT
BEGIN:VEVENT
DTSTART;TZID=America/Los_Angeles:20230727T173000
DTEND;TZID=America/Los_Angeles:20230727T193000
DTSTAMP:20260421T110501
CREATED:20230722T051212Z
LAST-MODIFIED:20230722T051237Z
UID:22699-1690479000-1690486200@waterwrights.net
SUMMARY:South Fork kings GSA 5:30PM
DESCRIPTION:Special board meeting \nWebsite not working giving no further information
URL:https://waterwrights.net/event/south-fork-kings-gsa-530pm-7/
LOCATION:California
END:VEVENT
END:VCALENDAR