BEGIN:VCALENDAR
VERSION:2.0
PRODID:-//Water Wrights - ECPv5.16.4//NONSGML v1.0//EN
CALSCALE:GREGORIAN
METHOD:PUBLISH
X-WR-CALNAME:Water Wrights
X-ORIGINAL-URL:https://waterwrights.net
X-WR-CALDESC:Events for Water Wrights
BEGIN:VTIMEZONE
TZID:America/Los_Angeles
BEGIN:DAYLIGHT
TZOFFSETFROM:-0800
TZOFFSETTO:-0700
TZNAME:PDT
DTSTART:20230312T100000
END:DAYLIGHT
BEGIN:STANDARD
TZOFFSETFROM:-0700
TZOFFSETTO:-0800
TZNAME:PST
DTSTART:20231105T090000
END:STANDARD
END:VTIMEZONE
BEGIN:VEVENT
DTSTART;TZID=America/Los_Angeles:20230801T090000
DTEND;TZID=America/Los_Angeles:20230801T110000
DTSTAMP:20260421T092426
CREATED:20230726T043656Z
LAST-MODIFIED:20230726T043656Z
UID:22785-1690880400-1690887600@waterwrights.net
SUMMARY:Kaweah Delta WCD 9AM
DESCRIPTION:1st Tuesday 9am
URL:https://waterwrights.net/event/kaweah-delta-wcd-9am-15/
LOCATION:Kaweah Delta WCD\, 2975 N. Farmersville Blvd Farmersville\, California\, 93223
END:VEVENT
BEGIN:VEVENT
DTSTART;TZID=America/Los_Angeles:20230801T090000
DTEND;TZID=America/Los_Angeles:20230801T110000
DTSTAMP:20260421T092426
CREATED:20230726T044946Z
LAST-MODIFIED:20230726T044946Z
UID:22794-1690880400-1690887600@waterwrights.net
SUMMARY:Yuba County WA (entire county) 9AM
DESCRIPTION:1st & 3rd Tuesdays 9am
URL:https://waterwrights.net/event/yuba-county-wa-entire-county-9am/
LOCATION:Yuba County WA\, 1220 F Street\, Marysville\, California\, 995901
END:VEVENT
BEGIN:VEVENT
DTSTART;TZID=America/Los_Angeles:20230801T130000
DTEND;TZID=America/Los_Angeles:20230801T150000
DTSTAMP:20260421T092426
CREATED:20230726T043948Z
LAST-MODIFIED:20230726T043948Z
UID:22790-1690894800-1690902000@waterwrights.net
SUMMARY:Kern Delta WD 1PM
DESCRIPTION:1st & 3rdTuesdays 1pm
URL:https://waterwrights.net/event/kern-delta-wd-1pm-8/
LOCATION:Kern Delta WD\, 501 Taft High Way\, Bakersfield\, California\, 93307
END:VEVENT
BEGIN:VEVENT
DTSTART;TZID=America/Los_Angeles:20230801T140000
DTEND;TZID=America/Los_Angeles:20230801T160000
DTSTAMP:20260421T092426
CREATED:20230726T045744Z
LAST-MODIFIED:20230726T045744Z
UID:22798-1690898400-1690905600@waterwrights.net
SUMMARY:Eastern Tule GSA 2PM
DESCRIPTION:1st Tuesday 2pm
URL:https://waterwrights.net/event/eastern-tule-gsa-2pm-13/
LOCATION:Eastern Tule GSA\, 881 W. Morton Avenue\, Suite D\, Porterville\, California\, 93257
END:VEVENT
END:VCALENDAR