BEGIN:VCALENDAR
VERSION:2.0
PRODID:-//Water Wrights - ECPv5.16.4//NONSGML v1.0//EN
CALSCALE:GREGORIAN
METHOD:PUBLISH
X-WR-CALNAME:Water Wrights
X-ORIGINAL-URL:https://waterwrights.net
X-WR-CALDESC:Events for Water Wrights
BEGIN:VTIMEZONE
TZID:America/Los_Angeles
BEGIN:DAYLIGHT
TZOFFSETFROM:-0800
TZOFFSETTO:-0700
TZNAME:PDT
DTSTART:20230312T100000
END:DAYLIGHT
BEGIN:STANDARD
TZOFFSETFROM:-0700
TZOFFSETTO:-0800
TZNAME:PST
DTSTART:20231105T090000
END:STANDARD
END:VTIMEZONE
BEGIN:VEVENT
DTSTART;TZID=America/Los_Angeles:20230808T080000
DTEND;TZID=America/Los_Angeles:20230808T100000
DTSTAMP:20260421T092419
CREATED:20230804T002021Z
LAST-MODIFIED:20230804T002021Z
UID:22989-1691481600-1691488800@waterwrights.net
SUMMARY:Rosedale Rio Bravo WSD 8AM
DESCRIPTION:2nd Tuesday 8am
URL:https://waterwrights.net/event/rosedale-rio-bravo-wsd-8am-3/
LOCATION:Rosedale Rio Bravo WSD\, 849 Allen Road\, Bakersfield\, California\, 93314
END:VEVENT
BEGIN:VEVENT
DTSTART;TZID=America/Los_Angeles:20230808T090000
DTEND;TZID=America/Los_Angeles:20230808T110000
DTSTAMP:20260421T092419
CREATED:20230802T055429Z
LAST-MODIFIED:20230802T055429Z
UID:22954-1691485200-1691492400@waterwrights.net
SUMMARY:Corcoran ID 9AM
DESCRIPTION:2nd Tuesday 9am
URL:https://waterwrights.net/event/corcoran-id-9am-4/
LOCATION:1150 6 1/2 Ave Corcoran CA 93212\, 1150 6 1/2 Ave\, corcoran\, CA\, 93212\, United States
END:VEVENT
BEGIN:VEVENT
DTSTART;TZID=America/Los_Angeles:20230808T090000
DTEND;TZID=America/Los_Angeles:20230808T110000
DTSTAMP:20260421T092419
CREATED:20230802T055717Z
LAST-MODIFIED:20230802T055717Z
UID:22958-1691485200-1691492400@waterwrights.net
SUMMARY:Tulare ID 9AM
DESCRIPTION:2nd Tuesday 9am
URL:https://waterwrights.net/event/tulare-id-9am-16/
LOCATION:Tulare ID\, 6826 Avenue 240\, Tulare\, California\, 93274
END:VEVENT
BEGIN:VEVENT
DTSTART;TZID=America/Los_Angeles:20230808T090000
DTEND;TZID=America/Los_Angeles:20230808T110000
DTSTAMP:20260421T092419
CREATED:20230803T230243Z
LAST-MODIFIED:20230803T230243Z
UID:22969-1691485200-1691492400@waterwrights.net
SUMMARY:Lower Tule River ID 9AM
DESCRIPTION:2nd Tuesday 9am
URL:https://waterwrights.net/event/lower-tule-river-id-9am-12/
LOCATION:Lower Tule River ID\, 357 East Olive Ave\, Tipton\, California\, 93272
END:VEVENT
BEGIN:VEVENT
DTSTART;TZID=America/Los_Angeles:20230808T090000
DTEND;TZID=America/Los_Angeles:20230808T110000
DTSTAMP:20260421T092419
CREATED:20230803T230658Z
LAST-MODIFIED:20230803T230658Z
UID:22971-1691485200-1691492400@waterwrights.net
SUMMARY:Porterville ID 9AM
DESCRIPTION:2nd Tuesday 9am \nPO Box 1248 Porterville CA 93258
URL:https://waterwrights.net/event/porterville-id-9am-13/
LOCATION:California
END:VEVENT
BEGIN:VEVENT
DTSTART;TZID=America/Los_Angeles:20230808T090000
DTEND;TZID=America/Los_Angeles:20230808T110000
DTSTAMP:20260421T092419
CREATED:20230804T003730Z
LAST-MODIFIED:20230804T003730Z
UID:23003-1691485200-1691492400@waterwrights.net
SUMMARY:Modesto ID 9AM
DESCRIPTION:2nd Tuesday 9am
URL:https://waterwrights.net/event/modesto-id-9am-4/
LOCATION:Modesto ID\, 1231 11 Street\, Modesto\, California\, 95354
END:VEVENT
BEGIN:VEVENT
DTSTART;TZID=America/Los_Angeles:20230808T093000
DTEND;TZID=America/Los_Angeles:20230808T113000
DTSTAMP:20260421T092419
CREATED:20230804T005618Z
LAST-MODIFIED:20230804T005939Z
UID:23007-1691487000-1691494200@waterwrights.net
SUMMARY:Central Delta WA 9:30AM
DESCRIPTION:2nd Tuesday 9:30am
URL:https://waterwrights.net/event/central-delta-wa-930am-3/
LOCATION:Central Delta WA\, 235 E Weber\, Stockton\, CA\, 95202\, United States
END:VEVENT
BEGIN:VEVENT
DTSTART;TZID=America/Los_Angeles:20230808T100000
DTEND;TZID=America/Los_Angeles:20230808T120000
DTSTAMP:20260421T092419
CREATED:20230802T052408Z
LAST-MODIFIED:20230802T052408Z
UID:22941-1691488800-1691496000@waterwrights.net
SUMMARY:James ID 10AM
DESCRIPTION:2nd Tuesday 10am
URL:https://waterwrights.net/event/james-id-10am-4/
LOCATION:California
END:VEVENT
BEGIN:VEVENT
DTSTART;TZID=America/Los_Angeles:20230808T120000
DTEND;TZID=America/Los_Angeles:20230808T140000
DTSTAMP:20260421T092419
CREATED:20230804T002517Z
LAST-MODIFIED:20230804T002517Z
UID:22993-1691496000-1691503200@waterwrights.net
SUMMARY:Arvin Edison WSD 12PM
DESCRIPTION:2nd Tuesday Noon
URL:https://waterwrights.net/event/arvin-edison-wsd-12pm-2/
LOCATION:20401 E. Bear Mountain Blvd. Arvin\, CA 93203\, 20401 E. Bear mountain blvd\, Arvin\, CA\, 93203\, United States
END:VEVENT
BEGIN:VEVENT
DTSTART;TZID=America/Los_Angeles:20230808T130000
DTEND;TZID=America/Los_Angeles:20230808T150000
DTSTAMP:20260421T092419
CREATED:20230805T060721Z
LAST-MODIFIED:20230805T060721Z
UID:23055-1691499600-1691506800@waterwrights.net
SUMMARY:Mid Kings River GSA 1PM
DESCRIPTION:2nd Tuesday 1pm
URL:https://waterwrights.net/event/mid-kings-river-gsa-1pm-6/
LOCATION:Mid Kings River GSA\, 200 Campus Dr.\, Hanford\, CA\, 93230\, United States
END:VEVENT
BEGIN:VEVENT
DTSTART;TZID=America/Los_Angeles:20230808T130000
DTEND;TZID=America/Los_Angeles:20230808T150000
DTSTAMP:20260421T092419
CREATED:20230805T061101Z
LAST-MODIFIED:20230805T061101Z
UID:23058-1691499600-1691506800@waterwrights.net
SUMMARY:El Rico GSA 1PM
DESCRIPTION:2nd Tuesday 1pm
URL:https://waterwrights.net/event/el-rico-gsa-1pm-7/
LOCATION:El Rico GSA\, 1001 Chase Avenue\,\, Corcoran\, California\, 93212
END:VEVENT
BEGIN:VEVENT
DTSTART;TZID=America/Los_Angeles:20230808T133000
DTEND;TZID=America/Los_Angeles:20230808T153000
DTSTAMP:20260421T092419
CREATED:20230803T225623Z
LAST-MODIFIED:20230803T225623Z
UID:22966-1691501400-1691508600@waterwrights.net
SUMMARY:Lindsay Strathmore ID 1:30PM
DESCRIPTION:2nd Tuesday 1:30pm
URL:https://waterwrights.net/event/lindsay-strathmore-id-130pm-4/
LOCATION:Lindsay Strathmore ID\, 23260 Round vally Road\, Lindsay\, CA\, 93247\, United States
END:VEVENT
BEGIN:VEVENT
DTSTART;TZID=America/Los_Angeles:20230808T140000
DTEND;TZID=America/Los_Angeles:20230808T160000
DTSTAMP:20260421T092419
CREATED:20230803T223520Z
LAST-MODIFIED:20230803T223520Z
UID:22964-1691503200-1691510400@waterwrights.net
SUMMARY:Lindmore ID 2PM
DESCRIPTION:2nd Tuesday 2pm
URL:https://waterwrights.net/event/lindmore-id-2pm-4/
LOCATION:Lindmore ID\, 315 E. Lindmore Street\, Lindsay\, California\, 93247
END:VEVENT
BEGIN:VEVENT
DTSTART;TZID=America/Los_Angeles:20230808T150000
DTEND;TZID=America/Los_Angeles:20230808T170000
DTSTAMP:20260421T092419
CREATED:20230804T003111Z
LAST-MODIFIED:20230804T003111Z
UID:22999-1691506800-1691514000@waterwrights.net
SUMMARY:Kern Water Bank 3PM
DESCRIPTION:2nd Tuesday 3pm
URL:https://waterwrights.net/event/kern-water-bank-3pm-21/
LOCATION:1620 Mill Rock Way\, Suite 500\, Bakersfield\, California\, 1620 mill rock way\, suite 500\, Bakersfield\, CA\, United States
END:VEVENT
BEGIN:VEVENT
DTSTART;TZID=America/Los_Angeles:20230808T150000
DTEND;TZID=America/Los_Angeles:20230808T170000
DTSTAMP:20260421T092419
CREATED:20230805T055743Z
LAST-MODIFIED:20230805T060118Z
UID:23050-1691506800-1691514000@waterwrights.net
SUMMARY:Mid Kaweah GSA 3PM
DESCRIPTION:Board of Directors Meeting\nAugust 8\, 2023 @ 3:00 PM\n*New Location* Tulare Public Library\n491 North M Street\, Tulare\, CA 93274
URL:https://waterwrights.net/event/mid-kaweah-gsa-3pm-11/
LOCATION:Mid Kaweah GSA\, 491 North M Street\, tulare\, CA\, 93274\, United States
END:VEVENT
END:VCALENDAR