BEGIN:VCALENDAR
VERSION:2.0
PRODID:-//Water Wrights - ECPv5.16.4//NONSGML v1.0//EN
CALSCALE:GREGORIAN
METHOD:PUBLISH
X-WR-CALNAME:Water Wrights
X-ORIGINAL-URL:https://waterwrights.net
X-WR-CALDESC:Events for Water Wrights
BEGIN:VTIMEZONE
TZID:America/Los_Angeles
BEGIN:DAYLIGHT
TZOFFSETFROM:-0800
TZOFFSETTO:-0700
TZNAME:PDT
DTSTART:20230312T100000
END:DAYLIGHT
BEGIN:STANDARD
TZOFFSETFROM:-0700
TZOFFSETTO:-0800
TZNAME:PST
DTSTART:20231105T090000
END:STANDARD
END:VTIMEZONE
BEGIN:VEVENT
DTSTART;TZID=America/Los_Angeles:20230817T090000
DTEND;TZID=America/Los_Angeles:20230817T110000
DTSTAMP:20260421T092418
CREATED:20230804T003841Z
LAST-MODIFIED:20230804T003841Z
UID:23005-1692262800-1692270000@waterwrights.net
SUMMARY:Oakdale ID 9AM
DESCRIPTION:3rd Thursday 9am
URL:https://waterwrights.net/event/oakdale-id-9am-4/
LOCATION:Oakdale ID\, 1205 East F Street\, Oakdale\, California\, 95361
END:VEVENT
BEGIN:VEVENT
DTSTART;TZID=America/Los_Angeles:20230817T090000
DTEND;TZID=America/Los_Angeles:20230817T110000
DTSTAMP:20260421T092418
CREATED:20230804T011325Z
LAST-MODIFIED:20230817T012842Z
UID:23015-1692262800-1692270000@waterwrights.net
SUMMARY:Glenn-Colusa ID 9AM Cancelled
DESCRIPTION:1st & 3rd Thursdays 9am
URL:https://waterwrights.net/event/glenn-colusa-id-9am-23/
LOCATION:Glenn Colusa ID Meeting\, 344 E Laurel Street Willows\, California\, 95988
END:VEVENT
BEGIN:VEVENT
DTSTART;TZID=America/Los_Angeles:20230817T130000
DTEND;TZID=America/Los_Angeles:20230817T150000
DTSTAMP:20260421T092418
CREATED:20230804T002238Z
LAST-MODIFIED:20230804T002238Z
UID:22991-1692277200-1692284400@waterwrights.net
SUMMARY:Kern Delta WD 1PM
DESCRIPTION:1st & 3rdTuesdays 1pm
URL:https://waterwrights.net/event/kern-delta-wd-1pm-9/
LOCATION:Kern Delta WD\, 501 Taft High Way\, Bakersfield\, California\, 93307
END:VEVENT
BEGIN:VEVENT
DTSTART;TZID=America/Los_Angeles:20230817T133000
DTEND;TZID=America/Los_Angeles:20230817T153000
DTSTAMP:20260421T092418
CREATED:20230804T011649Z
LAST-MODIFIED:20230804T011649Z
UID:23017-1692279000-1692286200@waterwrights.net
SUMMARY:Richvale ID 1:30PM
DESCRIPTION:3rd Thursday 1:30pm
URL:https://waterwrights.net/event/richvale-id-130pm-3/
LOCATION:Richvale Irrigation District\, PO Box 147\, Richvale\, California\, 95974
END:VEVENT
BEGIN:VEVENT
DTSTART;TZID=America/Los_Angeles:20230817T133000
DTEND;TZID=America/Los_Angeles:20230817T153000
DTSTAMP:20260421T092418
CREATED:20230814T073452Z
LAST-MODIFIED:20230814T073452Z
UID:23104-1692279000-1692286200@waterwrights.net
SUMMARY:Greater Kaweah GSA 1:30PM
DESCRIPTION:GKGSA Technical Advisory Committee Meeting \nThursday\, August 17\, 2023 @ 1:30 p.m. \n2975 N. Farmersville Blvd. Farmersville\, CA 93223
URL:https://waterwrights.net/event/greater-kaweah-gsa-130pm-3/
LOCATION:Greater Kaweah GSA\, Kaweah Delta WCD offices\, California
END:VEVENT
END:VCALENDAR