BEGIN:VCALENDAR
VERSION:2.0
PRODID:-//Water Wrights - ECPv5.16.4//NONSGML v1.0//EN
CALSCALE:GREGORIAN
METHOD:PUBLISH
X-WR-CALNAME:Water Wrights
X-ORIGINAL-URL:https://waterwrights.net
X-WR-CALDESC:Events for Water Wrights
BEGIN:VTIMEZONE
TZID:America/Los_Angeles
BEGIN:DAYLIGHT
TZOFFSETFROM:-0800
TZOFFSETTO:-0700
TZNAME:PDT
DTSTART:20230312T100000
END:DAYLIGHT
BEGIN:STANDARD
TZOFFSETFROM:-0700
TZOFFSETTO:-0800
TZNAME:PST
DTSTART:20231105T090000
END:STANDARD
END:VTIMEZONE
BEGIN:VEVENT
DTSTART;TZID=America/Los_Angeles:20230822T090000
DTEND;TZID=America/Los_Angeles:20230822T110000
DTSTAMP:20260421T092335
CREATED:20230819T050728Z
LAST-MODIFIED:20230819T050728Z
UID:23123-1692694800-1692702000@waterwrights.net
SUMMARY:Modesto ID 9AM
DESCRIPTION:MEETING OF THE BOARD OF DIRECTORS\nMODESTO IRRIGATION DISTRICT \nIn-Person and Webinar Digital Platform or Phone Meeting \nSpecial Board Meeting \nClosed Session – 8:00 A.M.; Open Session Following Closed Session \n1231 Eleventh Street\, Modesto\, CA 95354\nAugust 22\, 2023 – 09:00 A.M.
URL:https://waterwrights.net/event/modesto-id-9am-5/
LOCATION:Modesto ID\, 1231 11 Street\, Modesto\, California\, 95354
END:VEVENT
BEGIN:VEVENT
DTSTART;TZID=America/Los_Angeles:20230822T150000
DTEND;TZID=America/Los_Angeles:20230822T170000
DTSTAMP:20260421T092335
CREATED:20230821T021956Z
LAST-MODIFIED:20230821T021956Z
UID:23128-1692716400-1692723600@waterwrights.net
SUMMARY:Mid Kaweah GSA Advisory meeting 3PM
DESCRIPTION:Mid-Kaweah Groundwater Sustainability Agency\nAdvisory Committee Regular Meeting\nAugust 22\, 2023 – 3:00 pm\nMKGSA Advisory Committee Meeting\nTulare Irrigation District\n6826 Avenue 240\, Tulare\, CA 93274
URL:https://waterwrights.net/event/mid-kaweah-gsa-advisory-meeting-3pm/
LOCATION:Mid Kaweah GSA\, 491 North M Street\, tulare\, CA\, 93274\, United States
END:VEVENT
END:VCALENDAR