BEGIN:VCALENDAR
VERSION:2.0
PRODID:-//Water Wrights - ECPv5.16.4//NONSGML v1.0//EN
CALSCALE:GREGORIAN
METHOD:PUBLISH
X-WR-CALNAME:Water Wrights
X-ORIGINAL-URL:https://waterwrights.net
X-WR-CALDESC:Events for Water Wrights
BEGIN:VTIMEZONE
TZID:America/Los_Angeles
BEGIN:DAYLIGHT
TZOFFSETFROM:-0800
TZOFFSETTO:-0700
TZNAME:PDT
DTSTART:20230312T100000
END:DAYLIGHT
BEGIN:STANDARD
TZOFFSETFROM:-0700
TZOFFSETTO:-0800
TZNAME:PST
DTSTART:20231105T090000
END:STANDARD
END:VTIMEZONE
BEGIN:VEVENT
DTSTART;TZID=America/Los_Angeles:20230828T083000
DTEND;TZID=America/Los_Angeles:20230828T103000
DTSTAMP:20260421T073234
CREATED:20230803T231309Z
LAST-MODIFIED:20230819T174913Z
UID:22975-1693211400-1693218600@waterwrights.net
SUMMARY:FWA Finance Committee 8:30AM
DESCRIPTION:3rd Monday 8:30am
URL:https://waterwrights.net/event/fwa-executive-committee-830am-6/
END:VEVENT
BEGIN:VEVENT
DTSTART;TZID=America/Los_Angeles:20230828T140000
DTEND;TZID=America/Los_Angeles:20230828T160000
DTSTAMP:20260421T073234
CREATED:20230804T010041Z
LAST-MODIFIED:20230804T010041Z
UID:23009-1693231200-1693238400@waterwrights.net
SUMMARY:North San Joaquin WCD 2PM
DESCRIPTION:Last Monday 2pm
URL:https://waterwrights.net/event/north-san-joaquin-wcd-2pm-2/
LOCATION:North San Joaquin WCD\, 498 East Kettleman Lane\, Lodi\, CA\, 95240\, United States
END:VEVENT
BEGIN:VEVENT
DTSTART;TZID=America/Los_Angeles:20230828T150000
DTEND;TZID=America/Los_Angeles:20230828T170000
DTSTAMP:20260421T073234
CREATED:20230823T032034Z
LAST-MODIFIED:20230823T032034Z
UID:23139-1693234800-1693242000@waterwrights.net
SUMMARY:Lindmore ID 3PM
DESCRIPTION:Special Meeting of Board Directors \nMonday August 28
URL:https://waterwrights.net/event/lindmore-id-3pm/
LOCATION:Lindmore ID\, 315 E. Lindmore Street\, Lindsay\, California\, 93247
END:VEVENT
END:VCALENDAR