BEGIN:VCALENDAR
VERSION:2.0
PRODID:-//Water Wrights - ECPv5.16.4//NONSGML v1.0//EN
CALSCALE:GREGORIAN
METHOD:PUBLISH
X-WR-CALNAME:Water Wrights
X-ORIGINAL-URL:https://waterwrights.net
X-WR-CALDESC:Events for Water Wrights
BEGIN:VTIMEZONE
TZID:America/Los_Angeles
BEGIN:DAYLIGHT
TZOFFSETFROM:-0800
TZOFFSETTO:-0700
TZNAME:PDT
DTSTART:20230312T100000
END:DAYLIGHT
BEGIN:STANDARD
TZOFFSETFROM:-0700
TZOFFSETTO:-0800
TZNAME:PST
DTSTART:20231105T090000
END:STANDARD
END:VTIMEZONE
BEGIN:VEVENT
DTSTART;TZID=America/Los_Angeles:20230912T080000
DTEND;TZID=America/Los_Angeles:20230912T100000
DTSTAMP:20260421T092658
CREATED:20230906T030346Z
LAST-MODIFIED:20230906T030346Z
UID:23268-1694505600-1694512800@waterwrights.net
SUMMARY:Rosedale Rio Bravo WSD 8AM
DESCRIPTION:2nd Tuesday 8am
URL:https://waterwrights.net/event/rosedale-rio-bravo-wsd-8am-4/
LOCATION:Rosedale Rio Bravo WSD\, 849 Allen Road\, Bakersfield\, California\, 93314
END:VEVENT
BEGIN:VEVENT
DTSTART;TZID=America/Los_Angeles:20230912T090000
DTEND;TZID=America/Los_Angeles:20230912T110000
DTSTAMP:20260421T092658
CREATED:20230905T204443Z
LAST-MODIFIED:20230905T204443Z
UID:23235-1694509200-1694516400@waterwrights.net
SUMMARY:Corcoran ID 9AM
DESCRIPTION:2nd Tuesday 9am
URL:https://waterwrights.net/event/corcoran-id-9am-5/
LOCATION:1150 6 1/2 Ave Corcoran CA 93212\, 1150 6 1/2 Ave\, corcoran\, CA\, 93212\, United States
END:VEVENT
BEGIN:VEVENT
DTSTART;TZID=America/Los_Angeles:20230912T090000
DTEND;TZID=America/Los_Angeles:20230912T110000
DTSTAMP:20260421T092658
CREATED:20230905T204846Z
LAST-MODIFIED:20230905T204846Z
UID:23239-1694509200-1694516400@waterwrights.net
SUMMARY:Tulare ID 9AM
DESCRIPTION:2nd Tuesday 9am
URL:https://waterwrights.net/event/tulare-id-9am-17/
LOCATION:Tulare ID\, 6826 Avenue 240\, Tulare\, California\, 93274
END:VEVENT
BEGIN:VEVENT
DTSTART;TZID=America/Los_Angeles:20230912T090000
DTEND;TZID=America/Los_Angeles:20230912T110000
DTSTAMP:20260421T092658
CREATED:20230906T015207Z
LAST-MODIFIED:20230906T015207Z
UID:23247-1694509200-1694516400@waterwrights.net
SUMMARY:Lower Tule River ID 9AM
DESCRIPTION:2nd Tuesday 9am
URL:https://waterwrights.net/event/lower-tule-river-id-9am-13/
LOCATION:Lower Tule River ID\, 357 East Olive Ave\, Tipton\, California\, 93272
END:VEVENT
BEGIN:VEVENT
DTSTART;TZID=America/Los_Angeles:20230912T090000
DTEND;TZID=America/Los_Angeles:20230912T110000
DTSTAMP:20260421T092658
CREATED:20230906T023141Z
LAST-MODIFIED:20230909T040706Z
UID:23249-1694509200-1694516400@waterwrights.net
SUMMARY:Porterville ID 9AM ZOOM MEETING
DESCRIPTION:2nd Tuesday 9am
URL:https://waterwrights.net/event/porterville-id-9am-14/
LOCATION:California
END:VEVENT
BEGIN:VEVENT
DTSTART;TZID=America/Los_Angeles:20230912T090000
DTEND;TZID=America/Los_Angeles:20230912T110000
DTSTAMP:20260421T092658
CREATED:20230906T033132Z
LAST-MODIFIED:20230906T033132Z
UID:23282-1694509200-1694516400@waterwrights.net
SUMMARY:Modesto ID 9AM
DESCRIPTION:2nd Tuesday 9am
URL:https://waterwrights.net/event/modesto-id-9am-6/
LOCATION:Modesto ID\, 1231 11 Street\, Modesto\, California\, 95354
END:VEVENT
BEGIN:VEVENT
DTSTART;TZID=America/Los_Angeles:20230912T093000
DTEND;TZID=America/Los_Angeles:20230912T113000
DTSTAMP:20260421T092658
CREATED:20230906T034037Z
LAST-MODIFIED:20230906T034037Z
UID:23286-1694511000-1694518200@waterwrights.net
SUMMARY:Central Delta WA 9:30AM
DESCRIPTION:2nd Tuesday 9:30am
URL:https://waterwrights.net/event/central-delta-wa-930am-4/
LOCATION:Central Delta WA\, 235 E Weber\, Stockton\, CA\, 95202\, United States
END:VEVENT
BEGIN:VEVENT
DTSTART;TZID=America/Los_Angeles:20230912T100000
DTEND;TZID=America/Los_Angeles:20230912T120000
DTSTAMP:20260421T092658
CREATED:20230905T202626Z
LAST-MODIFIED:20230905T202855Z
UID:23220-1694512800-1694520000@waterwrights.net
SUMMARY:James ID 10AM
DESCRIPTION:2nd Tuesday 10am
URL:https://waterwrights.net/event/james-id-10am-5/
LOCATION:James ID\, 8749 ninth street\, san joaquin\, CA\, 93660\, United States
END:VEVENT
BEGIN:VEVENT
DTSTART;TZID=America/Los_Angeles:20230912T120000
DTEND;TZID=America/Los_Angeles:20230912T140000
DTSTAMP:20260421T092659
CREATED:20230906T030706Z
LAST-MODIFIED:20230906T030706Z
UID:23272-1694520000-1694527200@waterwrights.net
SUMMARY:Arvin Edison WSD 12PM
DESCRIPTION:2nd Tuesday Noon
URL:https://waterwrights.net/event/arvin-edison-wsd-12pm-3/
LOCATION:Arvin Edison WSD\, 20401 Bear Mountain Blvd\, Arvin\, California\, 93203
END:VEVENT
BEGIN:VEVENT
DTSTART;TZID=America/Los_Angeles:20230912T130000
DTEND;TZID=America/Los_Angeles:20230912T150000
DTSTAMP:20260421T092659
CREATED:20230909T033717Z
LAST-MODIFIED:20230909T033717Z
UID:23327-1694523600-1694530800@waterwrights.net
SUMMARY:Mid Kings River GSA 1PM
DESCRIPTION:2nd Tuesday 1pm
URL:https://waterwrights.net/event/mid-kings-river-gsa-1pm-7/
LOCATION:Mid Kings River GSA\, 200 Campus Dr.\, Hanford\, CA\, 93230\, United States
END:VEVENT
BEGIN:VEVENT
DTSTART;TZID=America/Los_Angeles:20230912T130000
DTEND;TZID=America/Los_Angeles:20230912T150000
DTSTAMP:20260421T092659
CREATED:20230909T034138Z
LAST-MODIFIED:20230909T034138Z
UID:23329-1694523600-1694530800@waterwrights.net
SUMMARY:El Rico GSA 1PM
DESCRIPTION:2nd Tuesday 1pm
URL:https://waterwrights.net/event/el-rico-gsa-1pm-8/
LOCATION:El Rico GSA\, 1001 Chase Avenue\,\, Corcoran\, California\, 93212
END:VEVENT
BEGIN:VEVENT
DTSTART;TZID=America/Los_Angeles:20230912T133000
DTEND;TZID=America/Los_Angeles:20230912T153000
DTSTAMP:20260421T092659
CREATED:20230906T014837Z
LAST-MODIFIED:20230906T014837Z
UID:23245-1694525400-1694532600@waterwrights.net
SUMMARY:Lindsay Strathmore ID 1:30PM
DESCRIPTION:2nd Tuesday 1:30pm
URL:https://waterwrights.net/event/lindsay-strathmore-id-130pm-5/
LOCATION:Lindsay Strathmore ID\, 23260 Round vally Road\, Lindsay\, CA\, 93247\, United States
END:VEVENT
BEGIN:VEVENT
DTSTART;TZID=America/Los_Angeles:20230912T140000
DTEND;TZID=America/Los_Angeles:20230912T160000
DTSTAMP:20260421T092659
CREATED:20230906T014455Z
LAST-MODIFIED:20230906T014532Z
UID:23243-1694527200-1694534400@waterwrights.net
SUMMARY:Lindmore ID 2PM
DESCRIPTION:2nd Tuesday 2pm
URL:https://waterwrights.net/event/lindmore-id-2pm-5/
LOCATION:Lindmore ID\, 315 E. Lindmore Street\, Lindsay\, California\, 93247
END:VEVENT
BEGIN:VEVENT
DTSTART;TZID=America/Los_Angeles:20230912T150000
DTEND;TZID=America/Los_Angeles:20230912T170000
DTSTAMP:20260421T092659
CREATED:20230906T031936Z
LAST-MODIFIED:20230906T031936Z
UID:23278-1694530800-1694538000@waterwrights.net
SUMMARY:Kern Water Bank 3PM
DESCRIPTION:2nd Tuesday 3pm
URL:https://waterwrights.net/event/kern-water-bank-3pm-22/
LOCATION:Kern Water Bank\, 1620 Mill Rock Way\, Ste 500\, Bakersfield\, California\, 93311
END:VEVENT
BEGIN:VEVENT
DTSTART;TZID=America/Los_Angeles:20230912T150000
DTEND;TZID=America/Los_Angeles:20230912T170000
DTSTAMP:20260421T092659
CREATED:20230909T033520Z
LAST-MODIFIED:20230909T033520Z
UID:23325-1694530800-1694538000@waterwrights.net
SUMMARY:Mid Kaweah GSA 3PM
DESCRIPTION:2nd Tuesday 3pm
URL:https://waterwrights.net/event/mid-kaweah-gsa-3pm-12/
LOCATION:Mid Kaweah GSA\, 491 North M Street\, tulare\, CA\, 93274\, United States
END:VEVENT
END:VCALENDAR