BEGIN:VCALENDAR
VERSION:2.0
PRODID:-//Water Wrights - ECPv5.16.4//NONSGML v1.0//EN
CALSCALE:GREGORIAN
METHOD:PUBLISH
X-WR-CALNAME:Water Wrights
X-ORIGINAL-URL:https://waterwrights.net
X-WR-CALDESC:Events for Water Wrights
BEGIN:VTIMEZONE
TZID:America/Los_Angeles
BEGIN:DAYLIGHT
TZOFFSETFROM:-0800
TZOFFSETTO:-0700
TZNAME:PDT
DTSTART:20230312T100000
END:DAYLIGHT
BEGIN:STANDARD
TZOFFSETFROM:-0700
TZOFFSETTO:-0800
TZNAME:PST
DTSTART:20231105T090000
END:STANDARD
END:VTIMEZONE
BEGIN:VEVENT
DTSTART;TZID=America/Los_Angeles:20230913T080000
DTEND;TZID=America/Los_Angeles:20230913T100000
DTSTAMP:20260421T073354
CREATED:20230906T025334Z
LAST-MODIFIED:20230913T015708Z
UID:23259-1694592000-1694599200@waterwrights.net
SUMMARY:Wheeler Ridge Maricopa WD 8AM
DESCRIPTION:2nd Wednesday 8AM
URL:https://waterwrights.net/event/wheeler-ridge-maricopa-wd-8am-5/
LOCATION:Wheeler Ridge Maricopa WD\, 12109 High Way 166\, Bakerfield\, California\, 93312
END:VEVENT
BEGIN:VEVENT
DTSTART;TZID=America/Los_Angeles:20230913T090000
DTEND;TZID=America/Los_Angeles:20230913T110000
DTSTAMP:20260421T073354
CREATED:20230906T025435Z
LAST-MODIFIED:20230906T025435Z
UID:23261-1694595600-1694602800@waterwrights.net
SUMMARY:Shafter Wasco ID 9AM
DESCRIPTION:2nd Wednesday 9am
URL:https://waterwrights.net/event/shafter-wasco-id-9am-7/
LOCATION:Shafter Wasco ID\, 16294 Highway 43\, Wasco\, California\, 93280
END:VEVENT
BEGIN:VEVENT
DTSTART;TZID=America/Los_Angeles:20230913T113000
DTEND;TZID=America/Los_Angeles:20230913T133000
DTSTAMP:20260421T073354
CREATED:20230905T203931Z
LAST-MODIFIED:20230905T203931Z
UID:23233-1694604600-1694611800@waterwrights.net
SUMMARY:Orange Cove ID 11:45AM
DESCRIPTION:2nd Wednesday 11:45am
URL:https://waterwrights.net/event/orange-cove-id-1145am-5/
LOCATION:Orange Cove ID\, 1130 Park Ave\, Orange Cove\, California\, 93646
END:VEVENT
BEGIN:VEVENT
DTSTART;TZID=America/Los_Angeles:20230913T123000
DTEND;TZID=America/Los_Angeles:20230913T143000
DTSTAMP:20260421T073354
CREATED:20230906T024335Z
LAST-MODIFIED:20230906T024335Z
UID:23255-1694608200-1694615400@waterwrights.net
SUMMARY:Semitropic WD 12:30 PM
DESCRIPTION:2nd Wednesday 12:30
URL:https://waterwrights.net/event/semitropic-wd-1230-pm-12/
LOCATION:Semitropic WD\, 1101 Central Avenue\, Wasco\, California\, 93280
END:VEVENT
BEGIN:VEVENT
DTSTART;TZID=America/Los_Angeles:20230913T130000
DTEND;TZID=America/Los_Angeles:20230913T150000
DTSTAMP:20260421T073354
CREATED:20230905T203537Z
LAST-MODIFIED:20230905T203537Z
UID:23229-1694610000-1694617200@waterwrights.net
SUMMARY:Consolidated ID 1PM
DESCRIPTION:2nd Wednesday 1pm
URL:https://waterwrights.net/event/consolidated-id-1pm-11/
LOCATION:2255 Chandler Street\, Selma\, CA 93662
END:VEVENT
BEGIN:VEVENT
DTSTART;TZID=America/Los_Angeles:20230913T130000
DTEND;TZID=America/Los_Angeles:20230913T150000
DTSTAMP:20260421T073354
CREATED:20230905T204640Z
LAST-MODIFIED:20230905T204640Z
UID:23237-1694610000-1694617200@waterwrights.net
SUMMARY:Dudley Ridge WD 1PM
DESCRIPTION:2nd Wednesday 1pm
URL:https://waterwrights.net/event/dudley-ridge-wd-1pm-4/
LOCATION:286 W. Cromwell Fresno CA 93711\, 286 W. Cromwell\, Fresno\, CA\, 93711\, United States
END:VEVENT
BEGIN:VEVENT
DTSTART;TZID=America/Los_Angeles:20230913T130000
DTEND;TZID=America/Los_Angeles:20230913T150000
DTSTAMP:20260421T073354
CREATED:20230909T035344Z
LAST-MODIFIED:20230909T035344Z
UID:23335-1694610000-1694617200@waterwrights.net
SUMMARY:Central Kings GSA 1PM
DESCRIPTION:Central Kings Groundwater Sustainability Agency (CKGSA)\nConsolidated Irrigation District
URL:https://waterwrights.net/event/central-kings-gsa-1pm-5/
LOCATION:2255 Chandler Street\, Selma\, CA 93662
END:VEVENT
BEGIN:VEVENT
DTSTART;TZID=America/Los_Angeles:20230913T133000
DTEND;TZID=America/Los_Angeles:20230913T153000
DTSTAMP:20260421T073354
CREATED:20230905T202334Z
LAST-MODIFIED:20230905T202334Z
UID:23216-1694611800-1694619000@waterwrights.net
SUMMARY:Chowchilla WD 1:30PM
DESCRIPTION:2nd Wednesday 1:30pm
URL:https://waterwrights.net/event/chowchilla-wd-130pm-9/
LOCATION:Chowchilla WD\, 327 S Chowchilla Blvd\,\, Chowchilla\,\, California\, 93610
END:VEVENT
END:VCALENDAR