BEGIN:VCALENDAR
VERSION:2.0
PRODID:-//Water Wrights - ECPv5.16.4//NONSGML v1.0//EN
CALSCALE:GREGORIAN
METHOD:PUBLISH
X-WR-CALNAME:Water Wrights
X-ORIGINAL-URL:https://waterwrights.net
X-WR-CALDESC:Events for Water Wrights
BEGIN:VTIMEZONE
TZID:America/Los_Angeles
BEGIN:DAYLIGHT
TZOFFSETFROM:-0800
TZOFFSETTO:-0700
TZNAME:PDT
DTSTART:20230312T100000
END:DAYLIGHT
BEGIN:STANDARD
TZOFFSETFROM:-0700
TZOFFSETTO:-0800
TZNAME:PST
DTSTART:20231105T090000
END:STANDARD
END:VTIMEZONE
BEGIN:VEVENT
DTSTART;TZID=America/Los_Angeles:20230920T070000
DTEND;TZID=America/Los_Angeles:20230920T090000
DTSTAMP:20260421T092633
CREATED:20230906T030126Z
LAST-MODIFIED:20230906T030126Z
UID:23264-1695193200-1695200400@waterwrights.net
SUMMARY:North Kern WSD 7AM
DESCRIPTION:3rd Wednesday 7am
URL:https://waterwrights.net/event/north-kern-wsd-7am-4/
LOCATION:North Kern Water Service District\, 33380 Cawelo Extended\, Bakersfield\, California\, 93308
END:VEVENT
BEGIN:VEVENT
DTSTART;TZID=America/Los_Angeles:20230920T080000
DTEND;TZID=America/Los_Angeles:20230920T173000
DTSTAMP:20260421T092633
CREATED:20230906T025052Z
LAST-MODIFIED:20230906T025052Z
UID:23257-1695196800-1695231000@waterwrights.net
SUMMARY:Buena Vista WSD
DESCRIPTION:3rd Wednesday time varies
URL:https://waterwrights.net/event/buena-vista-wsd-8/
LOCATION:525 Main Street Buttonwillow CA 93206\, 525 Main street\, buttonwillow\, CA\, 93206\, United States
END:VEVENT
BEGIN:VEVENT
DTSTART;TZID=America/Los_Angeles:20230920T100000
DTEND;TZID=America/Los_Angeles:20230920T120000
DTSTAMP:20260421T092633
CREATED:20230919T224934Z
LAST-MODIFIED:20230919T224934Z
UID:23427-1695204000-1695211200@waterwrights.net
SUMMARY:Madera ID 10AM Special meeting
DESCRIPTION:MADERA IRRIGATION DISTRICT\nBOARD OF DIRECTORS\nSPECIAL MEETING
URL:https://waterwrights.net/event/madera-id-10am-special-meeting/
LOCATION:Madera Irrigation District  12152 Road 28 ¼  Madera\, CA 93637\, Irrigation District 12152 Road 28 ¼\, madera\, CA\, 93637\, United States
END:VEVENT
END:VCALENDAR