BEGIN:VCALENDAR
VERSION:2.0
PRODID:-//Water Wrights - ECPv5.16.4//NONSGML v1.0//EN
CALSCALE:GREGORIAN
METHOD:PUBLISH
X-WR-CALNAME:Water Wrights
X-ORIGINAL-URL:https://waterwrights.net
X-WR-CALDESC:Events for Water Wrights
BEGIN:VTIMEZONE
TZID:America/Los_Angeles
BEGIN:DAYLIGHT
TZOFFSETFROM:-0800
TZOFFSETTO:-0700
TZNAME:PDT
DTSTART:20230312T100000
END:DAYLIGHT
BEGIN:STANDARD
TZOFFSETFROM:-0700
TZOFFSETTO:-0800
TZNAME:PST
DTSTART:20231105T090000
END:STANDARD
END:VTIMEZONE
BEGIN:VEVENT
DTSTART;TZID=America/Los_Angeles:20231005T090000
DTEND;TZID=America/Los_Angeles:20231005T110000
DTSTAMP:20260421T060749
CREATED:20231001T064641Z
LAST-MODIFIED:20231001T064641Z
UID:23755-1696496400-1696503600@waterwrights.net
SUMMARY:Glenn-Colusa ID 9AM
DESCRIPTION:1st & 3rd Thursdays 9am
URL:https://waterwrights.net/event/glenn-colusa-id-9am-26/
LOCATION:Glenn Colusa ID Meeting\, 344 E Laurel Street Willows\, California\, 95988
END:VEVENT
BEGIN:VEVENT
DTSTART;TZID=America/Los_Angeles:20231005T093000
DTEND;TZID=America/Los_Angeles:20231005T113000
DTSTAMP:20260421T060749
CREATED:20231001T051433Z
LAST-MODIFIED:20231001T051433Z
UID:23739-1696498200-1696505400@waterwrights.net
SUMMARY:San Luis & Delta-Mendota WA 9:30AM
DESCRIPTION:Notice of San Luis & Delta-Mendota Water Authority\nBoard of Directors Regular Meeting\nThursday\, October 5\, 2023\, 9:30 a.m.\nSLDMWA Boardroom\n842 6th Street\, Los Banos
URL:https://waterwrights.net/event/san-luis-delta-mendota-wa-930am-6/
LOCATION:San Luis Delta Mendota\, 842 6th Street\, Los Banos\, California\, 93635
END:VEVENT
BEGIN:VEVENT
DTSTART;TZID=America/Los_Angeles:20231005T100000
DTEND;TZID=America/Los_Angeles:20231005T120000
DTSTAMP:20260421T060749
CREATED:20231001T053627Z
LAST-MODIFIED:20231001T053627Z
UID:23745-1696500000-1696507200@waterwrights.net
SUMMARY:Kern River GSA 10AM
DESCRIPTION:Kern River Groundwater Sustainability Agency\nOctober 5\, 2023\n10 a.m. \nCity of Bakersfield Water Resources Department \n1000 Buena Vista Road\, Bakersfield CA 93311 \nLarge Conference Room
URL:https://waterwrights.net/event/kern-river-gsa-10am-12/
LOCATION:Kern River GSA\, N. 1600 Truxtun Ave\, Bakersfield\, CA\, 93301\, United States
END:VEVENT
BEGIN:VEVENT
DTSTART;TZID=America/Los_Angeles:20231005T130000
DTEND;TZID=America/Los_Angeles:20231005T150000
DTSTAMP:20260421T060749
CREATED:20231001T050802Z
LAST-MODIFIED:20231001T050802Z
UID:23737-1696510800-1696518000@waterwrights.net
SUMMARY:Kings county WD 1PM
DESCRIPTION:MEETING OF THE\nBOARD OF DIRECTORS\nThursday\, October 5\, 2023 – Convenes at 1:00 p.m.\nThe public may either attend in person\, or via Conference\nCall. Seating in the Board Room can\nonly accommodate ten (10) members of the public.
URL:https://waterwrights.net/event/kings-county-wd-1pm-2/
LOCATION:Kings County WD\, 200 Campus Drive\, Hanford\, California\, 93230
END:VEVENT
BEGIN:VEVENT
DTSTART;TZID=America/Los_Angeles:20231005T130000
DTEND;TZID=America/Los_Angeles:20231005T150000
DTSTAMP:20260421T060749
CREATED:20231001T060155Z
LAST-MODIFIED:20231001T060155Z
UID:23747-1696510800-1696518000@waterwrights.net
SUMMARY:Tri County WA 1PM
DESCRIPTION:1s Thursday 1pm
URL:https://waterwrights.net/event/tri-county-wa-1pm/
LOCATION:944 Whitley Ave. Ste. E Corcoran CA 93212\, 944 Whitley Ave.\, California\, 93212
END:VEVENT
BEGIN:VEVENT
DTSTART;TZID=America/Los_Angeles:20231005T140000
DTEND;TZID=America/Los_Angeles:20231005T170000
DTSTAMP:20260421T060749
CREATED:20231001T065122Z
LAST-MODIFIED:20231001T065122Z
UID:23757-1696514400-1696525200@waterwrights.net
SUMMARY:Eastern Tule GSA 2PM
DESCRIPTION:1st Tuesday 2pm
URL:https://waterwrights.net/event/eastern-tule-gsa-2pm-15/
LOCATION:Eastern Tule GSA\, 881 W. Morton Avenue\, Suite D\, Porterville\, California\, 93257
END:VEVENT
BEGIN:VEVENT
DTSTART;TZID=America/Los_Angeles:20231005T150000
DTEND;TZID=America/Los_Angeles:20231005T170000
DTSTAMP:20260421T060749
CREATED:20230929T052523Z
LAST-MODIFIED:20230929T052523Z
UID:23588-1696518000-1696525200@waterwrights.net
SUMMARY:Fresno ID 3PM
DESCRIPTION:FRESNO IRRIGATION DISTRICT\nFINANCE COMMITTEE MEETING\n2907 S MAPLE AVENUE – FRESNO\, CA 93725\nTHURSDAY\, OCTOBER 5\, 2023\, at 3:00 P.M.
URL:https://waterwrights.net/event/fresno-id-3pm-10/
LOCATION:Fresno Irrigation District\, 2097 S. Mapel Ave\, Fresno\, California\, 93725
END:VEVENT
BEGIN:VEVENT
DTSTART;TZID=America/Los_Angeles:20231005T170000
DTEND;TZID=America/Los_Angeles:20231005T190000
DTSTAMP:20260421T060749
CREATED:20231002T135332Z
LAST-MODIFIED:20231002T135332Z
UID:23761-1696525200-1696532400@waterwrights.net
SUMMARY:Kern County Farm Bureau Annual Meeting
DESCRIPTION:ANNUAL MEETING Thursday\, October 5\, 2023 at 5:00 PM \n1800 30th St\, Ste 390\, Bakersfield\, CA 93301
URL:https://waterwrights.net/event/kern-county-farm-bureau-annual-meeting/
LOCATION:California
END:VEVENT
END:VCALENDAR