BEGIN:VCALENDAR
VERSION:2.0
PRODID:-//Water Wrights - ECPv5.16.4//NONSGML v1.0//EN
CALSCALE:GREGORIAN
METHOD:PUBLISH
X-WR-CALNAME:Water Wrights
X-ORIGINAL-URL:https://waterwrights.net
X-WR-CALDESC:Events for Water Wrights
BEGIN:VTIMEZONE
TZID:America/Los_Angeles
BEGIN:DAYLIGHT
TZOFFSETFROM:-0800
TZOFFSETTO:-0700
TZNAME:PDT
DTSTART:20230312T100000
END:DAYLIGHT
BEGIN:STANDARD
TZOFFSETFROM:-0700
TZOFFSETTO:-0800
TZNAME:PST
DTSTART:20231105T090000
END:STANDARD
END:VTIMEZONE
BEGIN:VEVENT
DTSTART;TZID=America/Los_Angeles:20231010T080000
DTEND;TZID=America/Los_Angeles:20231010T100000
DTSTAMP:20260421T060806
CREATED:20231005T031257Z
LAST-MODIFIED:20231005T031257Z
UID:23949-1696924800-1696932000@waterwrights.net
SUMMARY:Rosedale Rio Bravo WSD 8AM
DESCRIPTION:2nd Tuesday 8am
URL:https://waterwrights.net/event/rosedale-rio-bravo-wsd-8am-5/
LOCATION:Rosedale Rio Bravo WSD\, 849 Allen Road\, Bakersfield\, California\, 93314
END:VEVENT
BEGIN:VEVENT
DTSTART;TZID=America/Los_Angeles:20231010T090000
DTEND;TZID=America/Los_Angeles:20231010T110000
DTSTAMP:20260421T060806
CREATED:20231004T035548Z
LAST-MODIFIED:20231004T035548Z
UID:23845-1696928400-1696935600@waterwrights.net
SUMMARY:Corcoran ID 9AM
DESCRIPTION:2nd Tuesday 9am
URL:https://waterwrights.net/event/corcoran-id-9am-6/
LOCATION:1150 6 1/2 Ave Corcoran CA 93212\, 1150 6 1/2 Ave\, corcoran\, CA\, 93212\, United States
END:VEVENT
BEGIN:VEVENT
DTSTART;TZID=America/Los_Angeles:20231010T090000
DTEND;TZID=America/Los_Angeles:20231010T110000
DTSTAMP:20260421T060806
CREATED:20231004T035854Z
LAST-MODIFIED:20231004T035854Z
UID:23849-1696928400-1696935600@waterwrights.net
SUMMARY:Tulare ID 9AM
DESCRIPTION:2nd Tuesday 9am
URL:https://waterwrights.net/event/tulare-id-9am-18/
LOCATION:Tulare Irrigation District 6826 Avenue 240\, Tulare\, CA 9327\, Tulare Irrigation District 6826 avenue 240\, tulare\, CA\, 9327\, United States
END:VEVENT
BEGIN:VEVENT
DTSTART;TZID=America/Los_Angeles:20231010T090000
DTEND;TZID=America/Los_Angeles:20231010T110000
DTSTAMP:20260421T060806
CREATED:20231004T041107Z
LAST-MODIFIED:20231004T041107Z
UID:23857-1696928400-1696935600@waterwrights.net
SUMMARY:Lower Tule River ID 9AM
DESCRIPTION:2nd Tuesday 9am
URL:https://waterwrights.net/event/lower-tule-river-id-9am-14/
LOCATION:Lower Tule River ID\, 357 East Olive Ave\, Tipton\, California\, 93272
END:VEVENT
BEGIN:VEVENT
DTSTART;TZID=America/Los_Angeles:20231010T090000
DTEND;TZID=America/Los_Angeles:20231010T110000
DTSTAMP:20260421T060806
CREATED:20231004T041209Z
LAST-MODIFIED:20231004T041209Z
UID:23859-1696928400-1696935600@waterwrights.net
SUMMARY:Porterville ID 9AM
DESCRIPTION:2nd Tuesday 9am \nPO Box 1248 Porterville CA 93258
URL:https://waterwrights.net/event/porterville-id-9am-15/
LOCATION:California
END:VEVENT
BEGIN:VEVENT
DTSTART;TZID=America/Los_Angeles:20231010T090000
DTEND;TZID=America/Los_Angeles:20231010T110000
DTSTAMP:20260421T060806
CREATED:20231005T033450Z
LAST-MODIFIED:20231005T033450Z
UID:23961-1696928400-1696935600@waterwrights.net
SUMMARY:Modesto ID 9AM
DESCRIPTION:2nd Tuesday 9am
URL:https://waterwrights.net/event/modesto-id-9am-7/
LOCATION:Modesto ID\, 1231 11 Street\, Modesto\, California\, 95354
END:VEVENT
BEGIN:VEVENT
DTSTART;TZID=America/Los_Angeles:20231010T093000
DTEND;TZID=America/Los_Angeles:20231010T113000
DTSTAMP:20260421T060806
CREATED:20231005T033804Z
LAST-MODIFIED:20231005T033804Z
UID:23965-1696930200-1696937400@waterwrights.net
SUMMARY:Central Delta WA 9:30AM
DESCRIPTION:2nd Tuesday 9:30am
URL:https://waterwrights.net/event/central-delta-wa-930am-5/
LOCATION:Central Delta WA\, 235 E Weber\, Stockton\, CA\, 95202\, United States
END:VEVENT
BEGIN:VEVENT
DTSTART;TZID=America/Los_Angeles:20231010T100000
DTEND;TZID=America/Los_Angeles:20231010T120000
DTSTAMP:20260421T060806
CREATED:20231004T034140Z
LAST-MODIFIED:20231004T034140Z
UID:23833-1696932000-1696939200@waterwrights.net
SUMMARY:James ID 10AM
DESCRIPTION:2nd Tuesday 10am
URL:https://waterwrights.net/event/james-id-10am-6/
LOCATION:James ID\, 8749 ninth street\, san joaquin\, CA\, 93660\, United States
END:VEVENT
BEGIN:VEVENT
DTSTART;TZID=America/Los_Angeles:20231010T120000
DTEND;TZID=America/Los_Angeles:20231010T140000
DTSTAMP:20260421T060806
CREATED:20231005T031518Z
LAST-MODIFIED:20231005T031518Z
UID:23953-1696939200-1696946400@waterwrights.net
SUMMARY:Arvin Edison WSD 12PM
DESCRIPTION:2nd Tuesday Noon
URL:https://waterwrights.net/event/arvin-edison-wsd-12pm-4/
LOCATION:Arvin Edison WSD\, 20401 Bear Mountain Blvd\, Arvin\, California\, 93203
END:VEVENT
BEGIN:VEVENT
DTSTART;TZID=America/Los_Angeles:20231010T130000
DTEND;TZID=America/Los_Angeles:20231010T150000
DTSTAMP:20260421T060806
CREATED:20231005T041707Z
LAST-MODIFIED:20231005T041707Z
UID:23985-1696942800-1696950000@waterwrights.net
SUMMARY:Mid Kings River GSA 1PM
DESCRIPTION:2nd Tuesday 1pm
URL:https://waterwrights.net/event/mid-kings-river-gsa-1pm-8/
LOCATION:Mid Kings River GSA\, 200 Campus Dr.\, Hanford\, CA\, 93230\, United States
END:VEVENT
BEGIN:VEVENT
DTSTART;TZID=America/Los_Angeles:20231010T130000
DTEND;TZID=America/Los_Angeles:20231010T150000
DTSTAMP:20260421T060806
CREATED:20231005T041837Z
LAST-MODIFIED:20231005T041837Z
UID:23987-1696942800-1696950000@waterwrights.net
SUMMARY:El Rico GSA 1PM
DESCRIPTION:2nd Tuesday 1pm
URL:https://waterwrights.net/event/el-rico-gsa-1pm-9/
LOCATION:El Rico GSA\, 1001 Chase Avenue\,\, Corcoran\, California\, 93212
END:VEVENT
BEGIN:VEVENT
DTSTART;TZID=America/Los_Angeles:20231010T133000
DTEND;TZID=America/Los_Angeles:20231010T153000
DTSTAMP:20260421T060806
CREATED:20231004T040954Z
LAST-MODIFIED:20231004T040954Z
UID:23855-1696944600-1696951800@waterwrights.net
SUMMARY:Lindsay Strathmore ID 1:30PM
DESCRIPTION:2nd Tuesday 1:30pm
URL:https://waterwrights.net/event/lindsay-strathmore-id-130pm-6/
LOCATION:Lindsay Strathmore ID\, 23260 Round vally Road\, Lindsay\, CA\, 93247\, United States
END:VEVENT
BEGIN:VEVENT
DTSTART;TZID=America/Los_Angeles:20231010T140000
DTEND;TZID=America/Los_Angeles:20231010T160000
DTSTAMP:20260421T060806
CREATED:20231004T040849Z
LAST-MODIFIED:20231004T040849Z
UID:23853-1696946400-1696953600@waterwrights.net
SUMMARY:Lindmore ID 2PM
DESCRIPTION:2nd Tuesday 2pm
URL:https://waterwrights.net/event/lindmore-id-2pm-6/
LOCATION:Lindmore ID\, 315 E. Lindmore Street\, Lindsay\, California\, 93247
END:VEVENT
BEGIN:VEVENT
DTSTART;TZID=America/Los_Angeles:20231010T150000
DTEND;TZID=America/Los_Angeles:20231010T170000
DTSTAMP:20260421T060806
CREATED:20231005T031936Z
LAST-MODIFIED:20231005T031936Z
UID:23959-1696950000-1696957200@waterwrights.net
SUMMARY:Kern Water Bank 3PM
DESCRIPTION:2nd Tuesday 3pm
URL:https://waterwrights.net/event/kern-water-bank-3pm-23/
LOCATION:Kern Water Bank\, 1620 Mill Rock Way\, Ste 500\, Bakersfield\, California\, 93311
END:VEVENT
BEGIN:VEVENT
DTSTART;TZID=America/Los_Angeles:20231010T150000
DTEND;TZID=America/Los_Angeles:20231010T170000
DTSTAMP:20260421T060806
CREATED:20231005T041539Z
LAST-MODIFIED:20231005T041539Z
UID:23983-1696950000-1696957200@waterwrights.net
SUMMARY:Mid Kaweah GSA 3PM
DESCRIPTION:2nd Tuesday 3pm
URL:https://waterwrights.net/event/mid-kaweah-gsa-3pm-15/
LOCATION:Mid Kaweah GSA\, 491 North M Street\, tulare\, CA\, 93274\, United States
END:VEVENT
END:VCALENDAR