BEGIN:VCALENDAR
VERSION:2.0
PRODID:-//Water Wrights - ECPv5.16.4//NONSGML v1.0//EN
CALSCALE:GREGORIAN
METHOD:PUBLISH
X-WR-CALNAME:Water Wrights
X-ORIGINAL-URL:https://waterwrights.net
X-WR-CALDESC:Events for Water Wrights
BEGIN:VTIMEZONE
TZID:America/Los_Angeles
BEGIN:DAYLIGHT
TZOFFSETFROM:-0800
TZOFFSETTO:-0700
TZNAME:PDT
DTSTART:20230312T100000
END:DAYLIGHT
BEGIN:STANDARD
TZOFFSETFROM:-0700
TZOFFSETTO:-0800
TZNAME:PST
DTSTART:20231105T090000
END:STANDARD
END:VTIMEZONE
BEGIN:VEVENT
DTSTART;TZID=America/Los_Angeles:20231011T090000
DTEND;TZID=America/Los_Angeles:20231011T110000
DTSTAMP:20260421T060903
CREATED:20231005T030412Z
LAST-MODIFIED:20231005T030412Z
UID:23943-1697014800-1697022000@waterwrights.net
SUMMARY:Shafter Wasco ID 9AM
DESCRIPTION:2nd Wednesday 9am
URL:https://waterwrights.net/event/shafter-wasco-id-9am-8/
LOCATION:Shafter Wasco ID\, 16294 Highway 43\, Wasco\, California\, 93280
END:VEVENT
BEGIN:VEVENT
DTSTART;TZID=America/Los_Angeles:20231011T093000
DTEND;TZID=America/Los_Angeles:20231011T113000
DTSTAMP:20260421T060903
CREATED:20231005T030206Z
LAST-MODIFIED:20231009T035633Z
UID:23941-1697016600-1697023800@waterwrights.net
SUMMARY:Wheeler Ridge Maricopa WD 9:30AM open session
DESCRIPTION:2nd Wednesday 8 am closed session
URL:https://waterwrights.net/event/wheeler-ridge-maricopa-wd-8am-6/
LOCATION:Wheeler Ridge Maricopa WD\, 12109 High Way 166\, Bakerfield\, California\, 93312
END:VEVENT
BEGIN:VEVENT
DTSTART;TZID=America/Los_Angeles:20231011T113000
DTEND;TZID=America/Los_Angeles:20231011T133000
DTSTAMP:20260421T060903
CREATED:20231004T035150Z
LAST-MODIFIED:20231004T035150Z
UID:23843-1697023800-1697031000@waterwrights.net
SUMMARY:Orange Cove ID 11:45AM
DESCRIPTION:2nd Wednesday 11:45am
URL:https://waterwrights.net/event/orange-cove-id-1145am-6/
LOCATION:Orange Cove ID\, 1130 Park Ave\, Orange Cove\, California\, 93646
END:VEVENT
BEGIN:VEVENT
DTSTART;TZID=America/Los_Angeles:20231011T123000
DTEND;TZID=America/Los_Angeles:20231011T143000
DTSTAMP:20260421T060903
CREATED:20231005T025712Z
LAST-MODIFIED:20231005T025712Z
UID:23932-1697027400-1697034600@waterwrights.net
SUMMARY:Semitropic WD 12:30PM
DESCRIPTION:2nd Wednesday 12:30
URL:https://waterwrights.net/event/semitropic-wd-1230pm-4/
LOCATION:Semitropic WD\, 1101 Central Avenue\, Wasco\, California\, 93280
END:VEVENT
BEGIN:VEVENT
DTSTART;TZID=America/Los_Angeles:20231011T130000
DTEND;TZID=America/Los_Angeles:20231011T150000
DTSTAMP:20260421T060903
CREATED:20231004T034526Z
LAST-MODIFIED:20231004T034526Z
UID:23839-1697029200-1697036400@waterwrights.net
SUMMARY:Consolidated ID 1PM
DESCRIPTION:2nd Wednesday 1pm
URL:https://waterwrights.net/event/consolidated-id-1pm-12/
LOCATION:2255 Chandler Street\, Selma\, CA 93662
END:VEVENT
BEGIN:VEVENT
DTSTART;TZID=America/Los_Angeles:20231011T130000
DTEND;TZID=America/Los_Angeles:20231011T150000
DTSTAMP:20260421T060903
CREATED:20231004T035721Z
LAST-MODIFIED:20231004T035721Z
UID:23847-1697029200-1697036400@waterwrights.net
SUMMARY:Dudley Ridge WD 1PM
DESCRIPTION:2nd Wednesday 1pm
URL:https://waterwrights.net/event/dudley-ridge-wd-1pm-5/
LOCATION:286 W. Cromwell Fresno CA 93711\, 286 W. Cromwell\, Fresno\, CA\, 93711\, United States
END:VEVENT
BEGIN:VEVENT
DTSTART;TZID=America/Los_Angeles:20231011T130000
DTEND;TZID=America/Los_Angeles:20231011T150000
DTSTAMP:20260421T060903
CREATED:20231009T035302Z
LAST-MODIFIED:20231009T035302Z
UID:24037-1697029200-1697036400@waterwrights.net
SUMMARY:Central Kings GSA 1PM
DESCRIPTION:Central Kings Groundwater Sustainability Agency (CKGSA)\nConsolidated Irrigation District\nDate: October 11\, 2023\nTime: 1:00 P.M.\nLocation: 2255 Chandler Street\, Selma\, CA 93662
URL:https://waterwrights.net/event/central-kings-gsa-1pm-6/
LOCATION:2255 Chandler Street\, Selma\, CA 93662
END:VEVENT
BEGIN:VEVENT
DTSTART;TZID=America/Los_Angeles:20231011T133000
DTEND;TZID=America/Los_Angeles:20231011T153000
DTSTAMP:20260421T060903
CREATED:20231004T033235Z
LAST-MODIFIED:20231004T033235Z
UID:23829-1697031000-1697038200@waterwrights.net
SUMMARY:Chowchilla WD 1:30PM
DESCRIPTION:2nd Wednesday 1:30pm
URL:https://waterwrights.net/event/chowchilla-wd-130pm-10/
LOCATION:Chowchilla WD\, 327 S Chowchilla Blvd\,\, Chowchilla\,\, California\, 93610
END:VEVENT
END:VCALENDAR