BEGIN:VCALENDAR
VERSION:2.0
PRODID:-//Water Wrights - ECPv5.16.4//NONSGML v1.0//EN
CALSCALE:GREGORIAN
METHOD:PUBLISH
X-WR-CALNAME:Water Wrights
X-ORIGINAL-URL:https://waterwrights.net
X-WR-CALDESC:Events for Water Wrights
BEGIN:VTIMEZONE
TZID:America/Los_Angeles
BEGIN:DAYLIGHT
TZOFFSETFROM:-0800
TZOFFSETTO:-0700
TZNAME:PDT
DTSTART:20230312T100000
END:DAYLIGHT
BEGIN:STANDARD
TZOFFSETFROM:-0700
TZOFFSETTO:-0800
TZNAME:PST
DTSTART:20231105T090000
END:STANDARD
END:VTIMEZONE
BEGIN:VEVENT
DTSTART;TZID=America/Los_Angeles:20231019T090000
DTEND;TZID=America/Los_Angeles:20231019T110000
DTSTAMP:20260421T060806
CREATED:20231005T033705Z
LAST-MODIFIED:20231005T033705Z
UID:23963-1697706000-1697713200@waterwrights.net
SUMMARY:Oakdale ID 9AM
DESCRIPTION:3rd Thursday 9am
URL:https://waterwrights.net/event/oakdale-id-9am-6/
LOCATION:Oakdale ID\, 1205 East F Street\, Oakdale\, California\, 95361
END:VEVENT
BEGIN:VEVENT
DTSTART;TZID=America/Los_Angeles:20231019T090000
DTEND;TZID=America/Los_Angeles:20231019T110000
DTSTAMP:20260421T060806
CREATED:20231005T035524Z
LAST-MODIFIED:20231005T035524Z
UID:23973-1697706000-1697713200@waterwrights.net
SUMMARY:Glenn-Colusa ID 9AM
DESCRIPTION:1st & 3rd Thursdays 9am
URL:https://waterwrights.net/event/glenn-colusa-id-9am-27/
LOCATION:Glenn Colusa ID Meeting\, 344 E Laurel Street Willows\, California\, 95988
END:VEVENT
BEGIN:VEVENT
DTSTART;TZID=America/Los_Angeles:20231019T100000
DTEND;TZID=America/Los_Angeles:20231019T120000
DTSTAMP:20260421T060806
CREATED:20231019T010312Z
LAST-MODIFIED:20231019T010312Z
UID:24155-1697709600-1697716800@waterwrights.net
SUMMARY:Wheeler Ridge Maricopa WSD 10AM
DESCRIPTION:Wheeler Ridge-Maricopa Water Storage District \nWheeler Ridge-Maricopa GSA\nSpecial Board Meeting \nProjects & Management Actions (P/MA) Committee \nThursday\, October 19\, 2023 @ 10:00 A.M.\nDistrict Headquarters Board Room\n12109 Hwy 166\, 6.5 miles west of Mettler\, CA
URL:https://waterwrights.net/event/wheeler-ridge-maricopa-wsd-10am-3/
LOCATION:Wheeler Ridge Maricopa WD\, 12109 High Way 166\, Bakerfield\, California\, 93312
END:VEVENT
BEGIN:VEVENT
DTSTART;TZID=America/Los_Angeles:20231019T130000
DTEND;TZID=America/Los_Angeles:20231019T150000
DTSTAMP:20260421T060806
CREATED:20231005T031410Z
LAST-MODIFIED:20231005T031410Z
UID:23951-1697720400-1697727600@waterwrights.net
SUMMARY:Kern Delta WD 1PM
DESCRIPTION:1st & 3rdTuesdays 1pm
URL:https://waterwrights.net/event/kern-delta-wd-1pm-13/
LOCATION:Kern Delta WD\, 501 Taft High Way\, Bakersfield\, California\, 93307
END:VEVENT
BEGIN:VEVENT
DTSTART;TZID=America/Los_Angeles:20231019T130000
DTEND;TZID=America/Los_Angeles:20231019T150000
DTSTAMP:20260421T060806
CREATED:20231019T010637Z
LAST-MODIFIED:20231019T010637Z
UID:24157-1697720400-1697727600@waterwrights.net
SUMMARY:Consolidated ID
DESCRIPTION:Agenda\nConsolidated Irrigation District\nBoard of Equalization Meeting\nDate: October 19\, 2023\nTime: 1:00 P.M.\nLocation: 2255 Chandler Street\, Selma\, CA 93662
URL:https://waterwrights.net/event/consolidated-id-7/
LOCATION:2255 Chandler Street\, Selma\, CA 93662
END:VEVENT
BEGIN:VEVENT
DTSTART;TZID=America/Los_Angeles:20231019T133000
DTEND;TZID=America/Los_Angeles:20231019T153000
DTSTAMP:20260421T060806
CREATED:20231005T035826Z
LAST-MODIFIED:20231005T035826Z
UID:23975-1697722200-1697729400@waterwrights.net
SUMMARY:Richvale ID 1:30PM
DESCRIPTION:3rd Thursday 1:30pm
URL:https://waterwrights.net/event/richvale-id-130pm-5/
LOCATION:Richvale Irrigation District\, PO Box 147\, Richvale\, California\, 95974
END:VEVENT
BEGIN:VEVENT
DTSTART;TZID=America/Los_Angeles:20231019T173000
DTEND;TZID=America/Los_Angeles:20231019T193000
DTSTAMP:20260421T060806
CREATED:20231019T010053Z
LAST-MODIFIED:20231019T010053Z
UID:24153-1697736600-1697743800@waterwrights.net
SUMMARY:South Fork Kings GSA 5:30PM
DESCRIPTION:The agenda for this month’s SFKGSA Board Meeting\, scheduled for October 19\, 2023 @ 5:30 PM is now available on our website. \n 
URL:https://waterwrights.net/event/south-fork-kings-gsa-530pm-9/
LOCATION:South Fork Kings GSA\, 429 C Street\, Lemoore\, CA\, 93245\, United States
END:VEVENT
END:VCALENDAR