BEGIN:VCALENDAR
VERSION:2.0
PRODID:-//Water Wrights - ECPv5.16.4//NONSGML v1.0//EN
CALSCALE:GREGORIAN
METHOD:PUBLISH
X-WR-CALNAME:Water Wrights
X-ORIGINAL-URL:https://waterwrights.net
X-WR-CALDESC:Events for Water Wrights
BEGIN:VTIMEZONE
TZID:America/Los_Angeles
BEGIN:DAYLIGHT
TZOFFSETFROM:-0800
TZOFFSETTO:-0700
TZNAME:PDT
DTSTART:20230312T100000
END:DAYLIGHT
BEGIN:STANDARD
TZOFFSETFROM:-0700
TZOFFSETTO:-0800
TZNAME:PST
DTSTART:20231105T090000
END:STANDARD
END:VTIMEZONE
BEGIN:VEVENT
DTSTART;TZID=America/Los_Angeles:20231102T090000
DTEND;TZID=America/Los_Angeles:20231102T110000
DTSTAMP:20260421T043343
CREATED:20231029T023026Z
LAST-MODIFIED:20231029T023026Z
UID:24292-1698915600-1698922800@waterwrights.net
SUMMARY:Glenn-Colusa ID 9AM
DESCRIPTION:1st & 3rd Thursdays 9am
URL:https://waterwrights.net/event/glenn-colusa-id-9am-28/
LOCATION:Glenn Colusa ID Meeting\, 344 E Laurel Street Willows\, California\, 95988
END:VEVENT
BEGIN:VEVENT
DTSTART;TZID=America/Los_Angeles:20231102T100000
DTEND;TZID=America/Los_Angeles:20231102T120000
DTSTAMP:20260421T043343
CREATED:20231029T030501Z
LAST-MODIFIED:20231029T030501Z
UID:24318-1698919200-1698926400@waterwrights.net
SUMMARY:Kern River GSA 10AM
DESCRIPTION:1st Thursday 10am
URL:https://waterwrights.net/event/kern-river-gsa-10am-13/
LOCATION:Kern River GSA\, N. 1600 Truxtun Ave\, Bakersfield\, CA\, 93301\, United States
END:VEVENT
BEGIN:VEVENT
DTSTART;TZID=America/Los_Angeles:20231102T130000
DTEND;TZID=America/Los_Angeles:20231102T150000
DTSTAMP:20260421T043343
CREATED:20231029T002040Z
LAST-MODIFIED:20231029T002040Z
UID:24230-1698930000-1698937200@waterwrights.net
SUMMARY:Tri County Water Authority 1PM
DESCRIPTION:1s Thursday 1pm
URL:https://waterwrights.net/event/tri-county-water-authority-1pm-6/
LOCATION:944 Whitley Ave. Ste. E Corcoran CA 93212\, 944 Whitley Ave.\, California\, 93212
END:VEVENT
BEGIN:VEVENT
DTSTART;TZID=America/Los_Angeles:20231102T140000
DTEND;TZID=America/Los_Angeles:20231102T163000
DTSTAMP:20260421T043343
CREATED:20231029T025505Z
LAST-MODIFIED:20231029T025505Z
UID:24310-1698933600-1698942600@waterwrights.net
SUMMARY:Eastern Tule GSA 2PM
DESCRIPTION:BOARD MEETING\nNOVEMBER 2 @ 2:00 PM – 4:30 PM
URL:https://waterwrights.net/event/eastern-tule-gsa-2pm-16/
LOCATION:Eastern Tule GSA\, 881 W. Morton Avenue\, Suite D\, Porterville\, California\, 93257
END:VEVENT
END:VCALENDAR