BEGIN:VCALENDAR
VERSION:2.0
PRODID:-//Water Wrights - ECPv5.16.4//NONSGML v1.0//EN
CALSCALE:GREGORIAN
METHOD:PUBLISH
X-WR-CALNAME:Water Wrights
X-ORIGINAL-URL:https://waterwrights.net
X-WR-CALDESC:Events for Water Wrights
BEGIN:VTIMEZONE
TZID:America/Los_Angeles
BEGIN:DAYLIGHT
TZOFFSETFROM:-0800
TZOFFSETTO:-0700
TZNAME:PDT
DTSTART:20230312T100000
END:DAYLIGHT
BEGIN:STANDARD
TZOFFSETFROM:-0700
TZOFFSETTO:-0800
TZNAME:PST
DTSTART:20231105T090000
END:STANDARD
END:VTIMEZONE
BEGIN:VEVENT
DTSTART;TZID=America/Los_Angeles:20231108T080000
DTEND;TZID=America/Los_Angeles:20231108T100000
DTSTAMP:20260421T043107
CREATED:20231029T013631Z
LAST-MODIFIED:20231029T013631Z
UID:24252-1699430400-1699437600@waterwrights.net
SUMMARY:Wheeler Ridge Maricopa WD 8AM
DESCRIPTION:2nd Wednesday 8am
URL:https://waterwrights.net/event/wheeler-ridge-maricopa-wd-8am-7/
LOCATION:Wheeler Ridge Maricopa WD\, 12109 High Way 166\, Bakerfield\, California\, 93312
END:VEVENT
BEGIN:VEVENT
DTSTART;TZID=America/Los_Angeles:20231108T090000
DTEND;TZID=America/Los_Angeles:20231108T110000
DTSTAMP:20260421T043107
CREATED:20231029T013803Z
LAST-MODIFIED:20231029T013803Z
UID:24254-1699434000-1699441200@waterwrights.net
SUMMARY:Shafter Wasco ID 9AM
DESCRIPTION:2nd Wednesday 9am
URL:https://waterwrights.net/event/shafter-wasco-id-9am-9/
LOCATION:Shafter Wasco ID\, 16294 Highway 43\, Wasco\, California\, 93280
END:VEVENT
BEGIN:VEVENT
DTSTART;TZID=America/Los_Angeles:20231108T113000
DTEND;TZID=America/Los_Angeles:20231108T133000
DTSTAMP:20260421T043107
CREATED:20231029T000903Z
LAST-MODIFIED:20231029T000903Z
UID:24224-1699443000-1699450200@waterwrights.net
SUMMARY:Orange Cove ID 11:45AM
DESCRIPTION:2nd Wednesday 11:45am
URL:https://waterwrights.net/event/orange-cove-id-1145am-7/
LOCATION:Orange Cove ID\, 1130 Park Ave\, Orange Cove\, California\, 93646
END:VEVENT
BEGIN:VEVENT
DTSTART;TZID=America/Los_Angeles:20231108T123000
DTEND;TZID=America/Los_Angeles:20231108T143000
DTSTAMP:20260421T043107
CREATED:20231029T011416Z
LAST-MODIFIED:20231029T011416Z
UID:24248-1699446600-1699453800@waterwrights.net
SUMMARY:Semitropic WD 12:30PM
DESCRIPTION:2nd Wednesday 12:30
URL:https://waterwrights.net/event/semitropic-wd-1230pm-5/
LOCATION:Semitropic WD\, 1101 Central Avenue\, Wasco\, California\, 93280
END:VEVENT
BEGIN:VEVENT
DTSTART;TZID=America/Los_Angeles:20231108T130000
DTEND;TZID=America/Los_Angeles:20231108T150000
DTSTAMP:20260421T043107
CREATED:20231029T000208Z
LAST-MODIFIED:20231029T000208Z
UID:24220-1699448400-1699455600@waterwrights.net
SUMMARY:Consolidated ID 1PM
DESCRIPTION:2nd Wednesday 1pm
URL:https://waterwrights.net/event/consolidated-id-1pm-13/
LOCATION:2255 Chandler Street\, Selma\, CA 93662
END:VEVENT
BEGIN:VEVENT
DTSTART;TZID=America/Los_Angeles:20231108T130000
DTEND;TZID=America/Los_Angeles:20231108T150000
DTSTAMP:20260421T043107
CREATED:20231029T001656Z
LAST-MODIFIED:20231029T001656Z
UID:24228-1699448400-1699455600@waterwrights.net
SUMMARY:Dudley Ridge WD 1PM
DESCRIPTION:2nd Wednesday 1pm
URL:https://waterwrights.net/event/dudley-ridge-wd-1pm-6/
LOCATION:286 W. Cromwell Fresno CA 93711\, 286 W. Cromwell\, Fresno\, CA\, 93711\, United States
END:VEVENT
BEGIN:VEVENT
DTSTART;TZID=America/Los_Angeles:20231108T130000
DTEND;TZID=America/Los_Angeles:20231108T150000
DTSTAMP:20260421T043107
CREATED:20231108T054320Z
LAST-MODIFIED:20231108T054320Z
UID:24363-1699448400-1699455600@waterwrights.net
SUMMARY:Central Kings GSA 1PM
DESCRIPTION:Central Kings Groundwater Sustainability Agency (CKGSA)\nConsolidated Irrigation District\nDate: November 8\, 2023\nTime: 1:00 P.M.\nLocation: 2255 Chandler Street\, Selma\, CA 93662
URL:https://waterwrights.net/event/central-kings-gsa-1pm-7/
LOCATION:2255 Chandler Street\, Selma\, CA 93662
END:VEVENT
BEGIN:VEVENT
DTSTART;TZID=America/Los_Angeles:20231108T133000
DTEND;TZID=America/Los_Angeles:20231108T153000
DTSTAMP:20260421T043107
CREATED:20231028T234612Z
LAST-MODIFIED:20231028T234612Z
UID:24210-1699450200-1699457400@waterwrights.net
SUMMARY:Chowchilla WD 1:30PM
DESCRIPTION:2nd Wednesday 1:30pm
URL:https://waterwrights.net/event/chowchilla-wd-130pm-11/
LOCATION:California
END:VEVENT
END:VCALENDAR