BEGIN:VCALENDAR
VERSION:2.0
PRODID:-//Water Wrights - ECPv5.16.4//NONSGML v1.0//EN
CALSCALE:GREGORIAN
METHOD:PUBLISH
X-WR-CALNAME:Water Wrights
X-ORIGINAL-URL:https://waterwrights.net
X-WR-CALDESC:Events for Water Wrights
BEGIN:VTIMEZONE
TZID:America/Los_Angeles
BEGIN:DAYLIGHT
TZOFFSETFROM:-0800
TZOFFSETTO:-0700
TZNAME:PDT
DTSTART:20230312T100000
END:DAYLIGHT
BEGIN:STANDARD
TZOFFSETFROM:-0700
TZOFFSETTO:-0800
TZNAME:PST
DTSTART:20231105T090000
END:STANDARD
END:VTIMEZONE
BEGIN:VEVENT
DTSTART;TZID=America/Los_Angeles:20231114T080000
DTEND;TZID=America/Los_Angeles:20231114T100000
DTSTAMP:20260421T043308
CREATED:20231029T015342Z
LAST-MODIFIED:20231029T015342Z
UID:24260-1699948800-1699956000@waterwrights.net
SUMMARY:Rosedale Rio Bravo WSD 8AM
DESCRIPTION:2nd Tuesday 8am
URL:https://waterwrights.net/event/rosedale-rio-bravo-wsd-8am-6/
LOCATION:Rosedale Rio Bravo WSD\, 849 Allen Road\, Bakersfield\, California\, 93314
END:VEVENT
BEGIN:VEVENT
DTSTART;TZID=America/Los_Angeles:20231114T090000
DTEND;TZID=America/Los_Angeles:20231114T110000
DTSTAMP:20260421T043308
CREATED:20231029T001500Z
LAST-MODIFIED:20231029T001500Z
UID:24226-1699952400-1699959600@waterwrights.net
SUMMARY:Corcoran ID 9AM
DESCRIPTION:2nd Tuesday 9am
URL:https://waterwrights.net/event/corcoran-id-9am-7/
LOCATION:1150 6 1/2 Ave Corcoran CA 93212\, 1150 6 1/2 Ave\, corcoran\, CA\, 93212\, United States
END:VEVENT
BEGIN:VEVENT
DTSTART;TZID=America/Los_Angeles:20231114T090000
DTEND;TZID=America/Los_Angeles:20231114T110000
DTSTAMP:20260421T043308
CREATED:20231029T002416Z
LAST-MODIFIED:20231029T002416Z
UID:24234-1699952400-1699959600@waterwrights.net
SUMMARY:Tulare ID 9AM
DESCRIPTION:2nd Tuesday 9am
URL:https://waterwrights.net/event/tulare-id-9am-19/
LOCATION:Tulare Irrigation District 6826 Avenue 240\, Tulare\, CA 9327\, Tulare Irrigation District 6826 avenue 240\, tulare\, CA\, 9327\, United States
END:VEVENT
BEGIN:VEVENT
DTSTART;TZID=America/Los_Angeles:20231114T090000
DTEND;TZID=America/Los_Angeles:20231114T110000
DTSTAMP:20260421T043308
CREATED:20231029T005054Z
LAST-MODIFIED:20231029T005054Z
UID:24242-1699952400-1699959600@waterwrights.net
SUMMARY:Lower Tule River ID 9AM
DESCRIPTION:2nd Tuesday 9am
URL:https://waterwrights.net/event/lower-tule-river-id-9am-15/
LOCATION:Lower Tule River ID\, 357 East Olive Ave\, Tipton\, California\, 93272
END:VEVENT
BEGIN:VEVENT
DTSTART;TZID=America/Los_Angeles:20231114T090000
DTEND;TZID=America/Los_Angeles:20231114T110000
DTSTAMP:20260421T043308
CREATED:20231029T005232Z
LAST-MODIFIED:20231029T005232Z
UID:24244-1699952400-1699959600@waterwrights.net
SUMMARY:Porterville ID 9AM
DESCRIPTION:2nd Tuesday 9am
URL:https://waterwrights.net/event/porterville-id-9am-16/
LOCATION:California
END:VEVENT
BEGIN:VEVENT
DTSTART;TZID=America/Los_Angeles:20231114T090000
DTEND;TZID=America/Los_Angeles:20231114T110000
DTSTAMP:20260421T043308
CREATED:20231029T021357Z
LAST-MODIFIED:20231029T021357Z
UID:24278-1699952400-1699959600@waterwrights.net
SUMMARY:Modesto ID 9AM
DESCRIPTION:2nd Tuesday 9am
URL:https://waterwrights.net/event/modesto-id-9am-9/
LOCATION:Modesto ID\, 1231 11 Street\, Modesto\, California\, 95354
END:VEVENT
BEGIN:VEVENT
DTSTART;TZID=America/Los_Angeles:20231114T093000
DTEND;TZID=America/Los_Angeles:20231114T113000
DTSTAMP:20260421T043308
CREATED:20231029T022302Z
LAST-MODIFIED:20231029T022302Z
UID:24282-1699954200-1699961400@waterwrights.net
SUMMARY:Central Delta WA 9:30AM
DESCRIPTION:2nd Tuesday 9:30am
URL:https://waterwrights.net/event/central-delta-wa-930am-6/
LOCATION:Central Delta WA\, 235 E Weber\, Stockton\, CA\, 95202\, United States
END:VEVENT
BEGIN:VEVENT
DTSTART;TZID=America/Los_Angeles:20231114T100000
DTEND;TZID=America/Los_Angeles:20231114T120000
DTSTAMP:20260421T043308
CREATED:20231028T235152Z
LAST-MODIFIED:20231028T235152Z
UID:24214-1699956000-1699963200@waterwrights.net
SUMMARY:James ID 10AM
DESCRIPTION:2nd Tuesday 10am
URL:https://waterwrights.net/event/james-id-10am-7/
LOCATION:James ID\, 8749 ninth street\, san joaquin\, CA\, 93660\, United States
END:VEVENT
BEGIN:VEVENT
DTSTART;TZID=America/Los_Angeles:20231114T120000
DTEND;TZID=America/Los_Angeles:20231114T140000
DTSTAMP:20260421T043308
CREATED:20231029T020517Z
LAST-MODIFIED:20231029T020517Z
UID:24266-1699963200-1699970400@waterwrights.net
SUMMARY:Arvin Edison WSD 12PM
DESCRIPTION:2nd Tuesday Noon
URL:https://waterwrights.net/event/arvin-edison-wsd-12pm-5/
LOCATION:Arvin Edison WSD\, 20401 Bear Mountain Blvd\, Arvin\, California\, 93203
END:VEVENT
BEGIN:VEVENT
DTSTART;TZID=America/Los_Angeles:20231114T130000
DTEND;TZID=America/Los_Angeles:20231114T150000
DTSTAMP:20260421T043308
CREATED:20231029T025613Z
LAST-MODIFIED:20231029T025613Z
UID:24312-1699966800-1699974000@waterwrights.net
SUMMARY:Mid Kings River GSA 1PM
DESCRIPTION:2nd Tuesday 1pm
URL:https://waterwrights.net/event/mid-kings-river-gsa-1pm-9/
LOCATION:Mid Kings River GSA\, 200 Campus Dr.\, Hanford\, CA\, 93230\, United States
END:VEVENT
BEGIN:VEVENT
DTSTART;TZID=America/Los_Angeles:20231114T130000
DTEND;TZID=America/Los_Angeles:20231114T150000
DTSTAMP:20260421T043308
CREATED:20231029T025711Z
LAST-MODIFIED:20231029T025711Z
UID:24314-1699966800-1699974000@waterwrights.net
SUMMARY:El Rico GSA 1PM
DESCRIPTION:2nd Tuesday 1pm
URL:https://waterwrights.net/event/el-rico-gsa-1pm-10/
LOCATION:El Rico GSA\, 1001 Chase Avenue\,\, Corcoran\, California\, 93212
END:VEVENT
BEGIN:VEVENT
DTSTART;TZID=America/Los_Angeles:20231114T133000
DTEND;TZID=America/Los_Angeles:20231114T153000
DTSTAMP:20260421T043308
CREATED:20231029T004954Z
LAST-MODIFIED:20231029T004954Z
UID:24240-1699968600-1699975800@waterwrights.net
SUMMARY:Lindsay Strathmore ID 1:30PM
DESCRIPTION:2nd Tuesday 1:30pm
URL:https://waterwrights.net/event/lindsay-strathmore-id-130pm-7/
LOCATION:Lindsay Strathmore ID\, 23260 Round vally Road\, Lindsay\, CA\, 93247\, United States
END:VEVENT
BEGIN:VEVENT
DTSTART;TZID=America/Los_Angeles:20231114T140000
DTEND;TZID=America/Los_Angeles:20231114T160000
DTSTAMP:20260421T043308
CREATED:20231029T003306Z
LAST-MODIFIED:20231029T003306Z
UID:24238-1699970400-1699977600@waterwrights.net
SUMMARY:Lindmore ID 2PM
DESCRIPTION:2nd Tuesday 2pm
URL:https://waterwrights.net/event/lindmore-id-2pm-7/
LOCATION:Lindmore ID\, 315 E. Lindmore Street\, Lindsay\, California\, 93247
END:VEVENT
BEGIN:VEVENT
DTSTART;TZID=America/Los_Angeles:20231114T150000
DTEND;TZID=America/Los_Angeles:20231114T170000
DTSTAMP:20260421T043308
CREATED:20231029T020843Z
LAST-MODIFIED:20231029T020843Z
UID:24272-1699974000-1699981200@waterwrights.net
SUMMARY:Kern Water Bank 3PM
DESCRIPTION:2nd Tuesday 3pm
URL:https://waterwrights.net/event/kern-water-bank-3pm-24/
LOCATION:Kern Water Bank\, 1620 Mill Rock Way\, Ste 500\, Bakersfield\, California\, 93311
END:VEVENT
BEGIN:VEVENT
DTSTART;TZID=America/Los_Angeles:20231114T150000
DTEND;TZID=America/Los_Angeles:20231114T170000
DTSTAMP:20260421T043308
CREATED:20231029T025032Z
LAST-MODIFIED:20231029T025032Z
UID:24308-1699974000-1699981200@waterwrights.net
SUMMARY:Mid Kaweah GSA 3PM
DESCRIPTION:2nd Tuesday 3pm
URL:https://waterwrights.net/event/mid-kaweah-gsa-3pm-17/
LOCATION:Mid Kaweah GSA\, 491 North M Street\, tulare\, CA\, 93274\, United States
END:VEVENT
END:VCALENDAR