BEGIN:VCALENDAR
VERSION:2.0
PRODID:-//Water Wrights - ECPv5.16.4//NONSGML v1.0//EN
CALSCALE:GREGORIAN
METHOD:PUBLISH
X-WR-CALNAME:Water Wrights
X-ORIGINAL-URL:https://waterwrights.net
X-WR-CALDESC:Events for Water Wrights
BEGIN:VTIMEZONE
TZID:America/Los_Angeles
BEGIN:DAYLIGHT
TZOFFSETFROM:-0800
TZOFFSETTO:-0700
TZNAME:PDT
DTSTART:20230312T100000
END:DAYLIGHT
BEGIN:STANDARD
TZOFFSETFROM:-0700
TZOFFSETTO:-0800
TZNAME:PST
DTSTART:20231105T090000
END:STANDARD
END:VTIMEZONE
BEGIN:VEVENT
DTSTART;TZID=America/Los_Angeles:20231121T090000
DTEND;TZID=America/Los_Angeles:20231121T110000
DTSTAMP:20260420T020754
CREATED:20231028T235823Z
LAST-MODIFIED:20231028T235823Z
UID:24216-1700557200-1700564400@waterwrights.net
SUMMARY:Westlands WD 9AM
DESCRIPTION:3rd Tuesday 9AM
URL:https://waterwrights.net/event/westlands-wd-9am-6/
LOCATION:Westlands WD\, 3130 N. Fresno St\, Fresno\, California\, 93703
END:VEVENT
BEGIN:VEVENT
DTSTART;TZID=America/Los_Angeles:20231121T090000
DTEND;TZID=America/Los_Angeles:20231121T110000
DTSTAMP:20260420T020754
CREATED:20231029T022847Z
LAST-MODIFIED:20231029T022847Z
UID:24290-1700557200-1700564400@waterwrights.net
SUMMARY:Yuba County WA (entire county) 9AM
DESCRIPTION:1st & 3rd Tuesdays 9am
URL:https://waterwrights.net/event/yuba-county-wa-entire-county-9am-7/
LOCATION:Yuba County WA\, 1220 F Street\, Marysville\, California\, 995901
END:VEVENT
BEGIN:VEVENT
DTSTART;TZID=America/Los_Angeles:20231121T090000
DTEND;TZID=America/Los_Angeles:20231121T110000
DTSTAMP:20260420T020754
CREATED:20231029T023315Z
LAST-MODIFIED:20231119T163035Z
UID:24298-1700557200-1700564400@waterwrights.net
SUMMARY:Western Canal WD 9AM Cancelled
DESCRIPTION:3rd Tuesday 9am Cancelled
URL:https://waterwrights.net/event/western-canal-wd-9am-9/
LOCATION:Western Canal WD\, PO Box 190 Richval\, Richval\, California\, 95974
END:VEVENT
BEGIN:VEVENT
DTSTART;TZID=America/Los_Angeles:20231121T100000
DTEND;TZID=America/Los_Angeles:20231121T120000
DTSTAMP:20260420T020754
CREATED:20231120T230314Z
LAST-MODIFIED:20231120T230314Z
UID:24507-1700560800-1700568000@waterwrights.net
SUMMARY:South of Kern River GSP 10AM
DESCRIPTION:Tuesday\, November 21\, 2023\n10:00 a.m.to 11:30 a.m. \nIn Person: Arvin-Edison Water Storage District Headquarters\n20401 E. Bear Mountain Blvd. Arvin\, CA 93203
URL:https://waterwrights.net/event/south-of-kern-river-gsp-10am-5/
LOCATION:20401 E. Bear Mountain Blvd. Arvin\, CA 93203\, 20401 E. Bear mountain blvd\, Arvin\, CA\, 93203\, United States
END:VEVENT
BEGIN:VEVENT
DTSTART;TZID=America/Los_Angeles:20231121T130000
DTEND;TZID=America/Los_Angeles:20231121T150000
DTSTAMP:20260420T020754
CREATED:20231028T234402Z
LAST-MODIFIED:20231028T235839Z
UID:24208-1700571600-1700578800@waterwrights.net
SUMMARY:Madera ID 1PM
DESCRIPTION:3rd Tuesday 1pm
URL:https://waterwrights.net/event/madera-id-1pm-9/
LOCATION:Madera ID\, 12152 Rd 28 1/4\,\, Madera\,\, California\, 93637
END:VEVENT
BEGIN:VEVENT
DTSTART;TZID=America/Los_Angeles:20231121T130000
DTEND;TZID=America/Los_Angeles:20231121T150000
DTSTAMP:20260420T020754
CREATED:20231029T015551Z
LAST-MODIFIED:20231029T015551Z
UID:24264-1700571600-1700578800@waterwrights.net
SUMMARY:Kern Delta WD 1PM
DESCRIPTION:1st & 3rdTuesdays 1pm
URL:https://waterwrights.net/event/kern-delta-wd-1pm-15/
LOCATION:Kern Delta WD\, 501 Taft High Way\, Bakersfield\, California\, 93307
END:VEVENT
END:VCALENDAR