BEGIN:VCALENDAR
VERSION:2.0
PRODID:-//Water Wrights - ECPv5.16.4//NONSGML v1.0//EN
CALSCALE:GREGORIAN
METHOD:PUBLISH
X-WR-CALNAME:Water Wrights
X-ORIGINAL-URL:https://waterwrights.net
X-WR-CALDESC:Events for Water Wrights
BEGIN:VTIMEZONE
TZID:America/Los_Angeles
BEGIN:DAYLIGHT
TZOFFSETFROM:-0800
TZOFFSETTO:-0700
TZNAME:PDT
DTSTART:20230312T100000
END:DAYLIGHT
BEGIN:STANDARD
TZOFFSETFROM:-0700
TZOFFSETTO:-0800
TZNAME:PST
DTSTART:20231105T090000
END:STANDARD
END:VTIMEZONE
BEGIN:VEVENT
DTSTART;VALUE=DATE:20231205
DTEND;VALUE=DATE:20231208
DTSTAMP:20260419T155443
CREATED:20231128T221612Z
LAST-MODIFIED:20231128T221754Z
UID:24535-1701734400-1701993599@waterwrights.net
SUMMARY:The Almond Conference\, Sacramento Ca 5th\, 6th & 7th
DESCRIPTION:For more information about the Almond Conference click here. \nBe sure to say hello to WaterWrights.net advertisers like: Duarte Nursery and Aqua4d.
URL:https://waterwrights.net/event/the-almond-conference-sacramento-ca-5th-6th-7th/
END:VEVENT
BEGIN:VEVENT
DTSTART;TZID=America/Los_Angeles:20231205T090000
DTEND;TZID=America/Los_Angeles:20231205T110000
DTSTAMP:20260419T155443
CREATED:20231129T061318Z
LAST-MODIFIED:20231129T061318Z
UID:24540-1701766800-1701774000@waterwrights.net
SUMMARY:Kaweah Delta WCD 9AM
DESCRIPTION:1st Tuesday 9am
URL:https://waterwrights.net/event/kaweah-delta-wcd-9am-19/
LOCATION:Kaweah Delta WCD\, 2975 N. Farmersville Blvd Farmersville\, California\, 93223
END:VEVENT
BEGIN:VEVENT
DTSTART;TZID=America/Los_Angeles:20231205T090000
DTEND;TZID=America/Los_Angeles:20231205T110000
DTSTAMP:20260419T155443
CREATED:20231129T061834Z
LAST-MODIFIED:20231129T061834Z
UID:24546-1701766800-1701774000@waterwrights.net
SUMMARY:Yuba County WA (entire county) 9AM
DESCRIPTION:1st & 3rd Tuesdays 9am
URL:https://waterwrights.net/event/yuba-county-wa-entire-county-9am-8/
LOCATION:Yuba County WA\, 1220 F Street\, Marysville\, California\, 995901
END:VEVENT
BEGIN:VEVENT
DTSTART;TZID=America/Los_Angeles:20231205T090000
DTEND;TZID=America/Los_Angeles:20231205T110000
DTSTAMP:20260419T155443
CREATED:20231203T092515Z
LAST-MODIFIED:20231204T184335Z
UID:24650-1701766800-1701774000@waterwrights.net
SUMMARY:Tehama Colusa Canal Authority 9AM
DESCRIPTION:SPECIAL MEETING OF THE BOARD OF DIRECTORS\nof the Tehama-Colusa Canal Authority\n5513 Hwy 162\nWillows\, CA 95988\nALL AGENDA ITEMS ARE FOR DISCUSSION AND POSSIBLE ACTION BY THE\nBOARD OF DIRECTORS\nDecember 05\, 2023\n9:00 A.M.
URL:https://waterwrights.net/event/tehama-colusa-canal-authority-3/
LOCATION:Tehama Colusa Canal Authority\, 5513 Highway 162\, willows\, CA\, 95988\, United States
END:VEVENT
BEGIN:VEVENT
DTSTART;TZID=America/Los_Angeles:20231205T130000
DTEND;TZID=America/Los_Angeles:20231205T150000
DTSTAMP:20260419T155443
CREATED:20231129T061450Z
LAST-MODIFIED:20231129T061450Z
UID:24542-1701781200-1701788400@waterwrights.net
SUMMARY:Kern Delta WD 1PM
DESCRIPTION:1st & 3rdTuesdays 1pm
URL:https://waterwrights.net/event/kern-delta-wd-1pm-16/
LOCATION:Kern Delta WD\, 501 Taft High Way\, Bakersfield\, California\, 93307
END:VEVENT
BEGIN:VEVENT
DTSTART;TZID=America/Los_Angeles:20231205T140000
DTEND;TZID=America/Los_Angeles:20231205T160000
DTSTAMP:20260419T155443
CREATED:20231129T062138Z
LAST-MODIFIED:20231129T062138Z
UID:24550-1701784800-1701792000@waterwrights.net
SUMMARY:Eastern Tule GSA 2PM
DESCRIPTION:1st Tuesday 2pm
URL:https://waterwrights.net/event/eastern-tule-gsa-2pm-17/
LOCATION:Eastern Tule GSA\, 881 W. Morton Avenue\, Suite D\, Porterville\, California\, 93257
END:VEVENT
END:VCALENDAR