BEGIN:VCALENDAR
VERSION:2.0
PRODID:-//Water Wrights - ECPv5.16.4//NONSGML v1.0//EN
CALSCALE:GREGORIAN
METHOD:PUBLISH
X-WR-CALNAME:Water Wrights
X-ORIGINAL-URL:https://waterwrights.net
X-WR-CALDESC:Events for Water Wrights
BEGIN:VTIMEZONE
TZID:America/Los_Angeles
BEGIN:DAYLIGHT
TZOFFSETFROM:-0800
TZOFFSETTO:-0700
TZNAME:PDT
DTSTART:20230312T100000
END:DAYLIGHT
BEGIN:STANDARD
TZOFFSETFROM:-0700
TZOFFSETTO:-0800
TZNAME:PST
DTSTART:20231105T090000
END:STANDARD
END:VTIMEZONE
BEGIN:VEVENT
DTSTART;VALUE=DATE:20231205
DTEND;VALUE=DATE:20231208
DTSTAMP:20260421T030314
CREATED:20231128T221612Z
LAST-MODIFIED:20231128T221754Z
UID:24535-1701734400-1701993599@waterwrights.net
SUMMARY:The Almond Conference\, Sacramento Ca 5th\, 6th & 7th
DESCRIPTION:For more information about the Almond Conference click here. \nBe sure to say hello to WaterWrights.net advertisers like: Duarte Nursery and Aqua4d.
URL:https://waterwrights.net/event/the-almond-conference-sacramento-ca-5th-6th-7th/
END:VEVENT
BEGIN:VEVENT
DTSTART;TZID=America/Los_Angeles:20231207T090000
DTEND;TZID=America/Los_Angeles:20231207T110000
DTSTAMP:20260421T030314
CREATED:20231129T062022Z
LAST-MODIFIED:20231129T062022Z
UID:24548-1701939600-1701946800@waterwrights.net
SUMMARY:Glenn-Colusa ID 9AM
DESCRIPTION:1st & 3rd Thursdays 9am
URL:https://waterwrights.net/event/glenn-colusa-id-9am-30/
LOCATION:Glenn Colusa ID Meeting\, 344 E Laurel Street Willows\, California\, 95988
END:VEVENT
BEGIN:VEVENT
DTSTART;TZID=America/Los_Angeles:20231207T093000
DTEND;TZID=America/Los_Angeles:20231207T113000
DTSTAMP:20260421T030314
CREATED:20231203T085316Z
LAST-MODIFIED:20231203T090802Z
UID:24630-1701941400-1701948600@waterwrights.net
SUMMARY:San Luis Delta Mendota 9:30PM
DESCRIPTION:The San Luis & Delta-Mendota Water Authority Regular Meeting of the Board of Directors is scheduled to meet on December 7\, 2023\, 9:30 a.m.
URL:https://waterwrights.net/event/san-luis-delta-mendota-930pm-2/
LOCATION:San Luis Delta Mendota\, 842 6th Street\, Los Banos\, California\, 93635
END:VEVENT
BEGIN:VEVENT
DTSTART;TZID=America/Los_Angeles:20231207T100000
DTEND;TZID=America/Los_Angeles:20231207T120000
DTSTAMP:20260421T030314
CREATED:20231129T062324Z
LAST-MODIFIED:20231129T062324Z
UID:24552-1701943200-1701950400@waterwrights.net
SUMMARY:Kern River GSA 10AM
DESCRIPTION:1st Thursday 10am
URL:https://waterwrights.net/event/kern-river-gsa-10am-14/
LOCATION:Kern River GSA\, N. 1600 Truxtun Ave\, Bakersfield\, CA\, 93301\, United States
END:VEVENT
BEGIN:VEVENT
DTSTART;TZID=America/Los_Angeles:20231207T130000
DTEND;TZID=America/Los_Angeles:20231207T150000
DTSTAMP:20260421T030314
CREATED:20231129T061135Z
LAST-MODIFIED:20231129T061135Z
UID:24538-1701954000-1701961200@waterwrights.net
SUMMARY:Tri County Water Authority 1PM
DESCRIPTION:1s Thursday 1pm
URL:https://waterwrights.net/event/tri-county-water-authority-1pm-7/
LOCATION:944 Whitley Ave. Ste. E Corcoran CA 93212\, 944 Whitley Ave.\, California\, 93212
END:VEVENT
END:VCALENDAR