BEGIN:VCALENDAR
VERSION:2.0
PRODID:-//Water Wrights - ECPv5.16.4//NONSGML v1.0//EN
CALSCALE:GREGORIAN
METHOD:PUBLISH
X-WR-CALNAME:Water Wrights
X-ORIGINAL-URL:https://waterwrights.net
X-WR-CALDESC:Events for Water Wrights
BEGIN:VTIMEZONE
TZID:America/Los_Angeles
BEGIN:DAYLIGHT
TZOFFSETFROM:-0800
TZOFFSETTO:-0700
TZNAME:PDT
DTSTART:20230312T100000
END:DAYLIGHT
BEGIN:STANDARD
TZOFFSETFROM:-0700
TZOFFSETTO:-0800
TZNAME:PST
DTSTART:20231105T090000
END:STANDARD
END:VTIMEZONE
BEGIN:VEVENT
DTSTART;TZID=America/Los_Angeles:20231212T080000
DTEND;TZID=America/Los_Angeles:20231212T100000
DTSTAMP:20260419T155839
CREATED:20231203T084544Z
LAST-MODIFIED:20231203T084544Z
UID:24618-1702368000-1702375200@waterwrights.net
SUMMARY:Rosedale Rio Bravo WSD 8AM
DESCRIPTION:2nd Tuesday 8am
URL:https://waterwrights.net/event/rosedale-rio-bravo-wsd-8am-7/
LOCATION:Rosedale Rio Bravo WSD\, 849 Allen Road\, Bakersfield\, California\, 93314
END:VEVENT
BEGIN:VEVENT
DTSTART;TZID=America/Los_Angeles:20231212T090000
DTEND;TZID=America/Los_Angeles:20231212T110000
DTSTAMP:20260419T155839
CREATED:20231202T222951Z
LAST-MODIFIED:20231202T222951Z
UID:24586-1702371600-1702378800@waterwrights.net
SUMMARY:Corcoran ID 9AM
DESCRIPTION:2nd Tuesday 9am
URL:https://waterwrights.net/event/corcoran-id-9am-8/
LOCATION:1150 6 1/2 Ave Corcoran CA 93212\, 1150 6 1/2 Ave\, corcoran\, CA\, 93212\, United States
END:VEVENT
BEGIN:VEVENT
DTSTART;TZID=America/Los_Angeles:20231212T090000
DTEND;TZID=America/Los_Angeles:20231212T110000
DTSTAMP:20260419T155839
CREATED:20231202T223442Z
LAST-MODIFIED:20231202T223442Z
UID:24590-1702371600-1702378800@waterwrights.net
SUMMARY:Tulare ID 9AM
DESCRIPTION:2nd Tuesday 9am
URL:https://waterwrights.net/event/tulare-id-9am-20/
LOCATION:Tulare ID\, 6826 Avenue 240\, Tulare\, California\, 93274
END:VEVENT
BEGIN:VEVENT
DTSTART;TZID=America/Los_Angeles:20231212T090000
DTEND;TZID=America/Los_Angeles:20231212T110000
DTSTAMP:20260419T155839
CREATED:20231203T080601Z
LAST-MODIFIED:20231203T080723Z
UID:24600-1702371600-1702378800@waterwrights.net
SUMMARY:Lower Tule River ID 9AM
DESCRIPTION:2nd Tuesday 9am
URL:https://waterwrights.net/event/lower-tule-river-id-9am-16/
LOCATION:Lower Tule River ID\, 357 East Olive Ave\, Tipton\, California\, 93272
END:VEVENT
BEGIN:VEVENT
DTSTART;TZID=America/Los_Angeles:20231212T090000
DTEND;TZID=America/Los_Angeles:20231212T110000
DTSTAMP:20260419T155839
CREATED:20231203T080845Z
LAST-MODIFIED:20231203T080845Z
UID:24602-1702371600-1702378800@waterwrights.net
SUMMARY:Porterville ID 9AM
DESCRIPTION:2nd Tuesday 9am
URL:https://waterwrights.net/event/porterville-id-9am-17/
LOCATION:California
END:VEVENT
BEGIN:VEVENT
DTSTART;TZID=America/Los_Angeles:20231212T090000
DTEND;TZID=America/Los_Angeles:20231212T110000
DTSTAMP:20260419T155840
CREATED:20231203T090939Z
LAST-MODIFIED:20231203T090939Z
UID:24632-1702371600-1702378800@waterwrights.net
SUMMARY:Modesto ID 9AM
DESCRIPTION:2nd Tuesday 9am
URL:https://waterwrights.net/event/modesto-id-9am-10/
LOCATION:Modesto ID\, 1231 11 Street\, Modesto\, California\, 95354
END:VEVENT
BEGIN:VEVENT
DTSTART;TZID=America/Los_Angeles:20231212T093000
DTEND;TZID=America/Los_Angeles:20231212T113000
DTSTAMP:20260419T155840
CREATED:20231203T091252Z
LAST-MODIFIED:20231203T091252Z
UID:24636-1702373400-1702380600@waterwrights.net
SUMMARY:Central Delta WA 9:30AM
DESCRIPTION:2nd Tuesday 9:30am
URL:https://waterwrights.net/event/central-delta-wa-930am-7/
LOCATION:Central Delta WA\, 235 E Weber\, Stockton\, CA\, 95202\, United States
END:VEVENT
BEGIN:VEVENT
DTSTART;TZID=America/Los_Angeles:20231212T100000
DTEND;TZID=America/Los_Angeles:20231212T120000
DTSTAMP:20260419T155840
CREATED:20231202T220455Z
LAST-MODIFIED:20231202T220508Z
UID:24574-1702375200-1702382400@waterwrights.net
SUMMARY:James ID 10AM
DESCRIPTION:2nd Tuesday 10am
URL:https://waterwrights.net/event/james-id-10am-8/
LOCATION:James ID\, 8749 ninth street\, san joaquin\, CA\, 93660\, United States
END:VEVENT
BEGIN:VEVENT
DTSTART;TZID=America/Los_Angeles:20231212T120000
DTEND;TZID=America/Los_Angeles:20231212T140000
DTSTAMP:20260419T155840
CREATED:20231203T084807Z
LAST-MODIFIED:20231203T084807Z
UID:24622-1702382400-1702389600@waterwrights.net
SUMMARY:Arvin Edison WSD 12PM
DESCRIPTION:2nd Tuesday Noon
URL:https://waterwrights.net/event/arvin-edison-wsd-12pm-6/
LOCATION:Arvin Edison WSD\, 20401 Bear Mountain Blvd\, Arvin\, California\, 93203
END:VEVENT
BEGIN:VEVENT
DTSTART;TZID=America/Los_Angeles:20231212T130000
DTEND;TZID=America/Los_Angeles:20231212T150000
DTSTAMP:20260419T155840
CREATED:20231202T175337Z
LAST-MODIFIED:20231202T175356Z
UID:24565-1702386000-1702393200@waterwrights.net
SUMMARY:USBR Biops Update 1-3pm
DESCRIPTION:On December 12\, 2023 from 1:00 – 3:00 pm\, Reclamation will hold a quarterly meeting to provide an update on the development of the Biological Assessment and Environmental Impact Statement for the 2021 Re-initiation of Consultation on the Long-Term Operation of the Central Valley Project and State Water Project\, pursuant to the Water Infrastructure Improvements for the Nation (WIIN) Act. The meeting will be held virtually (and unfortunately) on Microsoft Teams. \nMeeting Date: December 12\, 2023\nTime: 1:00 – 3:00 pm\nLocation: Teams Meeting \nMeeting ID: 262 767 956 444; Passcode: f74jJg
URL:https://waterwrights.net/event/usbr-biops-update-1-3pm/
LOCATION:California
END:VEVENT
BEGIN:VEVENT
DTSTART;TZID=America/Los_Angeles:20231212T130000
DTEND;TZID=America/Los_Angeles:20231212T150000
DTSTAMP:20260419T155840
CREATED:20231203T093204Z
LAST-MODIFIED:20231203T093204Z
UID:24658-1702386000-1702393200@waterwrights.net
SUMMARY:Mid Kings River GSA 1PM
DESCRIPTION:2nd Tuesday 1pm
URL:https://waterwrights.net/event/mid-kings-river-gsa-1pm-10/
LOCATION:Mid Kings River GSA\, 200 Campus Dr.\, Hanford\, CA\, 93230\, United States
END:VEVENT
BEGIN:VEVENT
DTSTART;TZID=America/Los_Angeles:20231212T130000
DTEND;TZID=America/Los_Angeles:20231212T150000
DTSTAMP:20260419T155840
CREATED:20231203T093309Z
LAST-MODIFIED:20231203T093309Z
UID:24660-1702386000-1702393200@waterwrights.net
SUMMARY:El Rico GSA 1PM
DESCRIPTION:2nd Tuesday 1pm
URL:https://waterwrights.net/event/el-rico-gsa-1pm-11/
LOCATION:El Rico GSA\, 1001 Chase Avenue\,\, Corcoran\, California\, 93212
END:VEVENT
BEGIN:VEVENT
DTSTART;TZID=America/Los_Angeles:20231212T133000
DTEND;TZID=America/Los_Angeles:20231212T153000
DTSTAMP:20260419T155840
CREATED:20231202T231250Z
LAST-MODIFIED:20231202T231250Z
UID:24596-1702387800-1702395000@waterwrights.net
SUMMARY:Lindsay Strathmore ID 1:30PM
DESCRIPTION:2nd Tuesday 1:30pm
URL:https://waterwrights.net/event/lindsay-strathmore-id-130pm-8/
LOCATION:Lindsay Strathmore ID\, 23260 Round vally Road\, Lindsay\, CA\, 93247\, United States
END:VEVENT
BEGIN:VEVENT
DTSTART;TZID=America/Los_Angeles:20231212T140000
DTEND;TZID=America/Los_Angeles:20231212T160000
DTSTAMP:20260419T155840
CREATED:20231202T231045Z
LAST-MODIFIED:20231211T090948Z
UID:24594-1702389600-1702396800@waterwrights.net
SUMMARY:Lindmore ID 2PM
DESCRIPTION:Lindmore Irrigation District Board Meeting on December 12\, 2023 \nLindmore Irrigation District Board Meeting\nJoin us for the upcoming Lindmore Irrigation District Board meeting on December 12\, 2023 at 2pm. Please find the board packet and board report attached for your reference. We look forward to seeing you there. \n 
URL:https://waterwrights.net/event/lindmore-id-2pm-8/
LOCATION:Lindmore ID\, 315 E. Lindmore Street\, Lindsay\, California\, 93247
END:VEVENT
BEGIN:VEVENT
DTSTART;TZID=America/Los_Angeles:20231212T140000
DTEND;TZID=America/Los_Angeles:20231212T160000
DTSTAMP:20260419T155840
CREATED:20231211T085857Z
LAST-MODIFIED:20231211T085857Z
UID:24695-1702389600-1702396800@waterwrights.net
SUMMARY:Porterville ID 2PM
DESCRIPTION:BOARD MEETING AGENDA\nDecember 12\, 2023 – 2:00 p.m.\n22086 Avenue 160\, Porterville CA 93257
URL:https://waterwrights.net/event/porterville-id-2pm-2/
LOCATION:22086 avenue 160\, Porterville CA 93257\, 22086 avenue 160\, Porterville\, CA\, 93257\, United States
END:VEVENT
BEGIN:VEVENT
DTSTART;TZID=America/Los_Angeles:20231212T150000
DTEND;TZID=America/Los_Angeles:20231212T170000
DTSTAMP:20260419T155840
CREATED:20231203T093045Z
LAST-MODIFIED:20231211T091111Z
UID:24656-1702393200-1702400400@waterwrights.net
SUMMARY:Mid Kaweah GSA 3PM
DESCRIPTION:Board of Directors Meeting\nDecember 12th\, 2023 @ 3:00 PM\n*New Location* Tulare Public Library\n491 North M Street\, Tulare\, CA 93274
URL:https://waterwrights.net/event/mid-kaweah-gsa-3pm-18/
LOCATION:Mid Kaweah GSA\, 491 North M Street\, tulare\, CA\, 93274\, United States
END:VEVENT
BEGIN:VEVENT
DTSTART;TZID=America/Los_Angeles:20231212T150000
DTEND;TZID=America/Los_Angeles:20231212T170000
DTSTAMP:20260419T155840
CREATED:20231211T085742Z
LAST-MODIFIED:20231211T085742Z
UID:24693-1702393200-1702400400@waterwrights.net
SUMMARY:Kern Water Bank Authority 3PM
DESCRIPTION:Regular Meeting of Board of Directors\nTuesday\, December 12\, 2023\, 3:00 P.M. i\nKern Water Bank Authority Conference Room\n1620 Mill Rock Way\, Suite 500\, Bakersfield\, California
URL:https://waterwrights.net/event/kern-water-bank-authority-3pm-4/
LOCATION:1620 Mill Rock Way\, Suite 500\, Bakersfield\, California\, 1620 mill rock way\, suite 500\, Bakersfield\, CA\, United States
END:VEVENT
END:VCALENDAR