BEGIN:VCALENDAR
VERSION:2.0
PRODID:-//Water Wrights - ECPv5.16.4//NONSGML v1.0//EN
CALSCALE:GREGORIAN
METHOD:PUBLISH
X-WR-CALNAME:Water Wrights
X-ORIGINAL-URL:https://waterwrights.net
X-WR-CALDESC:Events for Water Wrights
BEGIN:VTIMEZONE
TZID:America/Los_Angeles
BEGIN:DAYLIGHT
TZOFFSETFROM:-0800
TZOFFSETTO:-0700
TZNAME:PDT
DTSTART:20230312T100000
END:DAYLIGHT
BEGIN:STANDARD
TZOFFSETFROM:-0700
TZOFFSETTO:-0800
TZNAME:PST
DTSTART:20231105T090000
END:STANDARD
END:VTIMEZONE
BEGIN:VEVENT
DTSTART;TZID=America/Los_Angeles:20231214T090000
DTEND;TZID=America/Los_Angeles:20231214T110000
DTSTAMP:20260419T155839
CREATED:20231203T084311Z
LAST-MODIFIED:20231203T084405Z
UID:24616-1702544400-1702551600@waterwrights.net
SUMMARY:Cawelo WD 9AM
DESCRIPTION:2nd Thursday 9am
URL:https://waterwrights.net/event/cawelo-wd-9am-9/
LOCATION:Cawelo WD\, 17207 Industrial Farm Road\, Bakersfield\, California\, 93308
END:VEVENT
BEGIN:VEVENT
DTSTART;TZID=America/Los_Angeles:20231214T093000
DTEND;TZID=America/Los_Angeles:20231214T113000
DTSTAMP:20260419T155839
CREATED:20231202T221855Z
LAST-MODIFIED:20231202T221855Z
UID:24582-1702546200-1702553400@waterwrights.net
SUMMARY:Alta ID 9:30AM
DESCRIPTION:2nd Thursday 9:30am
URL:https://waterwrights.net/event/alta-id-930am-16/
LOCATION:Alta ID\, 289 N. L street\, dinuba\, CA\, 93646\, United States
END:VEVENT
BEGIN:VEVENT
DTSTART;TZID=America/Los_Angeles:20231214T100000
DTEND;TZID=America/Los_Angeles:20231214T120000
DTSTAMP:20260419T155839
CREATED:20231203T091628Z
LAST-MODIFIED:20231203T091628Z
UID:24640-1702548000-1702555200@waterwrights.net
SUMMARY:Butte WD 10AM
DESCRIPTION:2nd Thursday 10am
URL:https://waterwrights.net/event/butte-wd-10am-7/
LOCATION:Butte WD\, 735 Virginia Street\, Gridley\, California\, 95948
END:VEVENT
BEGIN:VEVENT
DTSTART;TZID=America/Los_Angeles:20231214T103000
DTEND;TZID=America/Los_Angeles:20231214T120000
DTSTAMP:20260419T155839
CREATED:20231202T220217Z
LAST-MODIFIED:20231202T220217Z
UID:24572-1702549800-1702555200@waterwrights.net
SUMMARY:Triangle T WD & GSA 10AM
DESCRIPTION:2nd Thursday 10am
URL:https://waterwrights.net/event/triangle-t-wd-gsa-10am-6/
LOCATION:Triangle T WD/GSA\, 4400 Hays Drive\, Chowchilla\, California\, 93610
END:VEVENT
BEGIN:VEVENT
DTSTART;TZID=America/Los_Angeles:20231214T130000
DTEND;TZID=America/Los_Angeles:20231214T150000
DTSTAMP:20260419T155839
CREATED:20231211T085451Z
LAST-MODIFIED:20231211T085451Z
UID:24691-1702558800-1702566000@waterwrights.net
SUMMARY:Kings county WD 1PM
DESCRIPTION:MEETING OF THE\nBOARD OF DIRECTORS \nThursday\, December 14\, 2023 – Convenes at 1:00 p.m.\nThe public may either attend in person\, or via Conference\nCall. Seating in the Board Room can\nonly accommodate ten (10) members of the public.
URL:https://waterwrights.net/event/kings-county-wd-1pm-3/
LOCATION:Kings County WD\, 200 Campus Drive\, Hanford\, California\, 93230
END:VEVENT
BEGIN:VEVENT
DTSTART;TZID=America/Los_Angeles:20231214T133000
DTEND;TZID=America/Los_Angeles:20231214T153000
DTSTAMP:20260419T155839
CREATED:20231202T230911Z
LAST-MODIFIED:20231202T230911Z
UID:24592-1702560600-1702567800@waterwrights.net
SUMMARY:Exeter ID 1:30PM
DESCRIPTION:2nd Thursday 1:30pm
URL:https://waterwrights.net/event/exeter-id-130pm-6/
LOCATION:150 E Street Exeter CA 93221\, 150 E street\, exeter\, CA\, 93221\, United States
END:VEVENT
BEGIN:VEVENT
DTSTART;TZID=America/Los_Angeles:20231214T143000
DTEND;TZID=America/Los_Angeles:20231214T163000
DTSTAMP:20260419T155839
CREATED:20231203T085035Z
LAST-MODIFIED:20231204T004207Z
UID:24626-1702564200-1702571400@waterwrights.net
SUMMARY:Kern Tulare WD 2:30PM
DESCRIPTION:2nd Thursday 2:30pm
URL:https://waterwrights.net/event/kern-tulare-wd-230pm-7/
LOCATION:Kern Tulare WD\, 5001 California Ave Ste 202\, Bakersfield\, 93309
END:VEVENT
BEGIN:VEVENT
DTSTART;TZID=America/Los_Angeles:20231214T150000
DTEND;TZID=America/Los_Angeles:20231214T170000
DTSTAMP:20260419T155839
CREATED:20231202T221224Z
LAST-MODIFIED:20231202T221224Z
UID:24578-1702566000-1702573200@waterwrights.net
SUMMARY:Fresno ID 3PM
DESCRIPTION:3rd Thursday 3pm
URL:https://waterwrights.net/event/fresno-id-3pm-14/
LOCATION:2907 S MAPLE AVENUE FRESNO\, CA 93725\, 2907 S Maple avenue\, Fresno\, CA\, 93725\, United States
END:VEVENT
BEGIN:VEVENT
DTSTART;TZID=America/Los_Angeles:20231214T150000
DTEND;TZID=America/Los_Angeles:20231214T170000
DTSTAMP:20260419T155839
CREATED:20231211T090306Z
LAST-MODIFIED:20231211T090306Z
UID:24697-1702566000-1702573200@waterwrights.net
SUMMARY:Fresno ID 3PM
DESCRIPTION:Fresno Irrigation District Regular Board of\nDirectors Meeting – December 14\, 2023 \nFresno Irrigation District Office\n2907 S. Maple Avenue\nFresno\, CA\, 93725
URL:https://waterwrights.net/event/fresno-id-3pm-15/
LOCATION:Fresno Irrigation District\, 2097 S. Mapel Ave\, Fresno\, California\, 93725
END:VEVENT
BEGIN:VEVENT
DTSTART;TZID=America/Los_Angeles:20231214T160000
DTEND;TZID=America/Los_Angeles:20231214T180000
DTSTAMP:20260419T155839
CREATED:20231203T084948Z
LAST-MODIFIED:20231203T084948Z
UID:24624-1702569600-1702576800@waterwrights.net
SUMMARY:Delano Earlimart ID 4PM
DESCRIPTION:2nd Thursday 4pm
URL:https://waterwrights.net/event/delano-earlimart-id-4pm-9/
LOCATION:Delano Earlimart ID\, 14181 Avenue 24\, Delano\, 93215
END:VEVENT
END:VCALENDAR