BEGIN:VCALENDAR
VERSION:2.0
PRODID:-//Water Wrights - ECPv5.16.4//NONSGML v1.0//EN
CALSCALE:GREGORIAN
METHOD:PUBLISH
X-WR-CALNAME:Water Wrights
X-ORIGINAL-URL:https://waterwrights.net
X-WR-CALDESC:Events for Water Wrights
BEGIN:VTIMEZONE
TZID:America/Los_Angeles
BEGIN:DAYLIGHT
TZOFFSETFROM:-0800
TZOFFSETTO:-0700
TZNAME:PDT
DTSTART:20240310T100000
END:DAYLIGHT
BEGIN:STANDARD
TZOFFSETFROM:-0700
TZOFFSETTO:-0800
TZNAME:PST
DTSTART:20241103T090000
END:STANDARD
END:VTIMEZONE
BEGIN:VEVENT
DTSTART;TZID=America/Los_Angeles:20240109T080000
DTEND;TZID=America/Los_Angeles:20240109T100000
DTSTAMP:20260421T012855
CREATED:20231227T105434Z
LAST-MODIFIED:20231227T105434Z
UID:24883-1704787200-1704794400@waterwrights.net
SUMMARY:Rosedale Rio Bravo WSD 8AM
DESCRIPTION:2nd Tuesday 8am
URL:https://waterwrights.net/event/rosedale-rio-bravo-wsd-8am-8/
LOCATION:Rosedale Rio Bravo WSD\, 849 Allen Road\, Bakersfield\, California\, 93314
END:VEVENT
BEGIN:VEVENT
DTSTART;TZID=America/Los_Angeles:20240109T090000
DTEND;TZID=America/Los_Angeles:20240109T110000
DTSTAMP:20260421T012855
CREATED:20231227T081611Z
LAST-MODIFIED:20231227T081611Z
UID:24847-1704790800-1704798000@waterwrights.net
SUMMARY:Corcoran ID 9AM
DESCRIPTION:2nd Tuesday 9am
URL:https://waterwrights.net/event/corcoran-id-9am-9/
LOCATION:1150 6 1/2 Ave Corcoran CA 93212\, 1150 6 1/2 Ave\, corcoran\, CA\, 93212\, United States
END:VEVENT
BEGIN:VEVENT
DTSTART;TZID=America/Los_Angeles:20240109T090000
DTEND;TZID=America/Los_Angeles:20240109T110000
DTSTAMP:20260421T012855
CREATED:20231227T093626Z
LAST-MODIFIED:20231227T093626Z
UID:24855-1704790800-1704798000@waterwrights.net
SUMMARY:Tulare ID 9AM
DESCRIPTION:2nd Tuesday 9am
URL:https://waterwrights.net/event/tulare-id-9am-21/
LOCATION:Tulare Irrigation District 6826 Avenue 240\, Tulare\, CA 9327\, Tulare Irrigation District 6826 avenue 240\, tulare\, CA\, 9327\, United States
END:VEVENT
BEGIN:VEVENT
DTSTART;TZID=America/Los_Angeles:20240109T090000
DTEND;TZID=America/Los_Angeles:20240109T110000
DTSTAMP:20260421T012855
CREATED:20231227T095057Z
LAST-MODIFIED:20231227T095057Z
UID:24863-1704790800-1704798000@waterwrights.net
SUMMARY:Lower Tule River ID 9AM
DESCRIPTION:2nd Tuesday 9am
URL:https://waterwrights.net/event/lower-tule-river-id-9am-17/
LOCATION:Lower Tule River ID\, 357 East Olive Ave\, Tipton\, California\, 93272
END:VEVENT
BEGIN:VEVENT
DTSTART;TZID=America/Los_Angeles:20240109T090000
DTEND;TZID=America/Los_Angeles:20240109T110000
DTSTAMP:20260421T012855
CREATED:20231227T095420Z
LAST-MODIFIED:20231227T095420Z
UID:24865-1704790800-1704798000@waterwrights.net
SUMMARY:Porterville ID 9AM
DESCRIPTION:2nd Tuesday 9am
URL:https://waterwrights.net/event/porterville-id-9am-18/
LOCATION:California
END:VEVENT
BEGIN:VEVENT
DTSTART;TZID=America/Los_Angeles:20240109T090000
DTEND;TZID=America/Los_Angeles:20240109T110000
DTSTAMP:20260421T012855
CREATED:20240103T061203Z
LAST-MODIFIED:20240103T061203Z
UID:24912-1704790800-1704798000@waterwrights.net
SUMMARY:Modesto ID 9AM
DESCRIPTION:2nd Tuesday 9am
URL:https://waterwrights.net/event/modesto-id-9am-11/
LOCATION:Modesto ID\, 1231 11 Street\, Modesto\, California\, 95354
END:VEVENT
BEGIN:VEVENT
DTSTART;TZID=America/Los_Angeles:20240109T093000
DTEND;TZID=America/Los_Angeles:20240109T113000
DTSTAMP:20260421T012855
CREATED:20240103T061459Z
LAST-MODIFIED:20240103T061459Z
UID:24916-1704792600-1704799800@waterwrights.net
SUMMARY:Central Delta WA 9:30AM
DESCRIPTION:2nd Tuesday 9:30am
URL:https://waterwrights.net/event/central-delta-wa-930am-8/
LOCATION:Central Delta WA\, 235 E Weber\, Stockton\, CA\, 95202\, United States
END:VEVENT
BEGIN:VEVENT
DTSTART;TZID=America/Los_Angeles:20240109T100000
DTEND;TZID=America/Los_Angeles:20240109T120000
DTSTAMP:20260421T012855
CREATED:20231227T060117Z
LAST-MODIFIED:20231227T060117Z
UID:24833-1704794400-1704801600@waterwrights.net
SUMMARY:James ID 10AM
DESCRIPTION:2nd Tuesday 10am
URL:https://waterwrights.net/event/james-id-10am-9/
LOCATION:James ID\, 8749 ninth street\, san joaquin\, CA\, 93660\, United States
END:VEVENT
BEGIN:VEVENT
DTSTART;TZID=America/Los_Angeles:20240109T120000
DTEND;TZID=America/Los_Angeles:20240109T140000
DTSTAMP:20260421T012855
CREATED:20231227T110656Z
LAST-MODIFIED:20231227T110656Z
UID:24889-1704801600-1704808800@waterwrights.net
SUMMARY:Arvin Edison WSD 12PM
DESCRIPTION:2nd Tuesday Noon
URL:https://waterwrights.net/event/arvin-edison-wsd-12pm-7/
LOCATION:Arvin Edison WSD\, 20401 Bear Mountain Blvd\, Arvin\, California\, 93203
END:VEVENT
BEGIN:VEVENT
DTSTART;TZID=America/Los_Angeles:20240109T130000
DTEND;TZID=America/Los_Angeles:20240109T150000
DTSTAMP:20260421T012855
CREATED:20240103T063728Z
LAST-MODIFIED:20240103T063728Z
UID:24936-1704805200-1704812400@waterwrights.net
SUMMARY:Mid Kings River GSA 1PM
DESCRIPTION:2nd Tuesday 1pm
URL:https://waterwrights.net/event/mid-kings-river-gsa-1pm-11/
LOCATION:Mid Kings River GSA\, 200 Campus Dr.\, Hanford\, CA\, 93230\, United States
END:VEVENT
BEGIN:VEVENT
DTSTART;TZID=America/Los_Angeles:20240109T130000
DTEND;TZID=America/Los_Angeles:20240109T150000
DTSTAMP:20260421T012855
CREATED:20240103T063828Z
LAST-MODIFIED:20240103T063828Z
UID:24938-1704805200-1704812400@waterwrights.net
SUMMARY:El Rico GSA 1PM
DESCRIPTION:2nd Tuesday 1pm
URL:https://waterwrights.net/event/el-rico-gsa-1pm-12/
LOCATION:El Rico GSA\, 1001 Chase Avenue\,\, Corcoran\, California\, 93212
END:VEVENT
BEGIN:VEVENT
DTSTART;TZID=America/Los_Angeles:20240109T133000
DTEND;TZID=America/Los_Angeles:20240109T153000
DTSTAMP:20260421T012855
CREATED:20231227T094527Z
LAST-MODIFIED:20231227T094527Z
UID:24861-1704807000-1704814200@waterwrights.net
SUMMARY:Lindsay Strathmore ID 1:30PM
DESCRIPTION:2nd Tuesday 1:30pm
URL:https://waterwrights.net/event/lindsay-strathmore-id-130pm-9/
LOCATION:Lindsay Strathmore ID\, 23260 Round vally Road\, Lindsay\, CA\, 93247\, United States
END:VEVENT
BEGIN:VEVENT
DTSTART;TZID=America/Los_Angeles:20240109T140000
DTEND;TZID=America/Los_Angeles:20240109T160000
DTSTAMP:20260421T012855
CREATED:20231227T094208Z
LAST-MODIFIED:20231227T094208Z
UID:24859-1704808800-1704816000@waterwrights.net
SUMMARY:Lindmore ID 2PM
DESCRIPTION:2nd Tuesday 2pm
URL:https://waterwrights.net/event/lindmore-id-2pm-10/
LOCATION:Lindmore ID\, 315 E. Lindmore Street\, Lindsay\, California\, 93247
END:VEVENT
BEGIN:VEVENT
DTSTART;TZID=America/Los_Angeles:20240109T150000
DTEND;TZID=America/Los_Angeles:20240109T170000
DTSTAMP:20260421T012855
CREATED:20240103T060046Z
LAST-MODIFIED:20240103T060046Z
UID:24908-1704812400-1704819600@waterwrights.net
SUMMARY:Kern Water Bank 3PM
DESCRIPTION:2nd Tuesday 3pm
URL:https://waterwrights.net/event/kern-water-bank-3pm-25/
LOCATION:Kern Water Bank\, 1620 Mill Rock Way\, Ste 500\, Bakersfield\, California\, 93311
END:VEVENT
END:VCALENDAR