BEGIN:VCALENDAR
VERSION:2.0
PRODID:-//Water Wrights - ECPv5.16.4//NONSGML v1.0//EN
CALSCALE:GREGORIAN
METHOD:PUBLISH
X-WR-CALNAME:Water Wrights
X-ORIGINAL-URL:https://waterwrights.net
X-WR-CALDESC:Events for Water Wrights
BEGIN:VTIMEZONE
TZID:America/Los_Angeles
BEGIN:DAYLIGHT
TZOFFSETFROM:-0800
TZOFFSETTO:-0700
TZNAME:PDT
DTSTART:20240310T100000
END:DAYLIGHT
BEGIN:STANDARD
TZOFFSETFROM:-0700
TZOFFSETTO:-0800
TZNAME:PST
DTSTART:20241103T090000
END:STANDARD
END:VTIMEZONE
BEGIN:VEVENT
DTSTART;TZID=America/Los_Angeles:20240110T080000
DTEND;TZID=America/Los_Angeles:20240110T100000
DTSTAMP:20260421T012702
CREATED:20231227T102056Z
LAST-MODIFIED:20231227T102056Z
UID:24875-1704873600-1704880800@waterwrights.net
SUMMARY:Wheeler Ridge Maricopa WD 8AM
DESCRIPTION:2nd Wednesday 8am
URL:https://waterwrights.net/event/wheeler-ridge-maricopa-wd-8am-9/
LOCATION:Wheeler Ridge Maricopa WD\, 12109 High Way 166\, Bakerfield\, California\, 93312
END:VEVENT
BEGIN:VEVENT
DTSTART;TZID=America/Los_Angeles:20240110T090000
DTEND;TZID=America/Los_Angeles:20240110T110000
DTSTAMP:20260421T012703
CREATED:20231227T102605Z
LAST-MODIFIED:20231227T102605Z
UID:24877-1704877200-1704884400@waterwrights.net
SUMMARY:Shafter Wasco ID 9AM
DESCRIPTION:2nd Wednesday 9am
URL:https://waterwrights.net/event/shafter-wasco-id-9am-11/
LOCATION:Shafter Wasco ID\, 16294 Highway 43\, Wasco\, California\, 93280
END:VEVENT
BEGIN:VEVENT
DTSTART;TZID=America/Los_Angeles:20240110T113000
DTEND;TZID=America/Los_Angeles:20240110T133000
DTSTAMP:20260421T012703
CREATED:20231227T073019Z
LAST-MODIFIED:20231227T073019Z
UID:24845-1704886200-1704893400@waterwrights.net
SUMMARY:Orange Cove ID 11:45AM
DESCRIPTION:2nd Wednesday 11:45am
URL:https://waterwrights.net/event/orange-cove-id-1145am-8/
LOCATION:Orange Cove ID\, 1130 Park Ave\, Orange Cove\, California\, 93646
END:VEVENT
BEGIN:VEVENT
DTSTART;TZID=America/Los_Angeles:20240110T123000
DTEND;TZID=America/Los_Angeles:20240110T143000
DTSTAMP:20260421T012703
CREATED:20231227T100052Z
LAST-MODIFIED:20231227T100052Z
UID:24871-1704889800-1704897000@waterwrights.net
SUMMARY:Semitropic WD 12:30PM
DESCRIPTION:2nd Wednesday 12:30
URL:https://waterwrights.net/event/semitropic-wd-1230pm-7/
LOCATION:Semitropic WD\, 1101 Central Avenue\, Wasco\, California\, 93280
END:VEVENT
BEGIN:VEVENT
DTSTART;TZID=America/Los_Angeles:20240110T130000
DTEND;TZID=America/Los_Angeles:20240110T150000
DTSTAMP:20260421T012703
CREATED:20231227T065028Z
LAST-MODIFIED:20231227T065028Z
UID:24839-1704891600-1704898800@waterwrights.net
SUMMARY:Consolidated ID 1PM
DESCRIPTION:2nd Wednesday 1pm
URL:https://waterwrights.net/event/consolidated-id-1pm-15/
LOCATION:2255 Chandler Street\, Selma\, CA 93662
END:VEVENT
BEGIN:VEVENT
DTSTART;TZID=America/Los_Angeles:20240110T130000
DTEND;TZID=America/Los_Angeles:20240110T150000
DTSTAMP:20260421T012703
CREATED:20231227T092702Z
LAST-MODIFIED:20231227T092702Z
UID:24849-1704891600-1704898800@waterwrights.net
SUMMARY:Dudley Ridge WD 1PM
DESCRIPTION:2nd Wednesday 1pm
URL:https://waterwrights.net/event/dudley-ridge-wd-1pm-8/
LOCATION:286 W. Cromwell Fresno CA 93711\, 286 W. Cromwell\, Fresno\, CA\, 93711\, United States
END:VEVENT
BEGIN:VEVENT
DTSTART;TZID=America/Los_Angeles:20240110T130000
DTEND;TZID=America/Los_Angeles:20240110T150000
DTSTAMP:20260421T012703
CREATED:20240108T045937Z
LAST-MODIFIED:20240108T045937Z
UID:24994-1704891600-1704898800@waterwrights.net
SUMMARY:Central Kings GSA 1PM
DESCRIPTION:Central Kings Groundwater Sustainability Agency (CKGSA)\nConsolidated Irrigation District\nDate: January 10\, 2024\nTime: 1:00 P.M.\nLocation: 2255 Chandler Street\, Selma\, CA 93662
URL:https://waterwrights.net/event/central-kings-gsa-1pm-9/
LOCATION:2255 Chandler Street\, Selma\, CA 93662
END:VEVENT
BEGIN:VEVENT
DTSTART;TZID=America/Los_Angeles:20240110T133000
DTEND;TZID=America/Los_Angeles:20240110T153000
DTSTAMP:20260421T012703
CREATED:20231227T053713Z
LAST-MODIFIED:20231227T053713Z
UID:24829-1704893400-1704900600@waterwrights.net
SUMMARY:Chowchilla WD 1:30PM
DESCRIPTION:2nd Wednesday 1:30pm
URL:https://waterwrights.net/event/chowchilla-wd-130pm-13/
LOCATION:Chowchilla WD\, 327 S Chowchilla Blvd\,\, Chowchilla\,\, California\, 93610
END:VEVENT
END:VCALENDAR