BEGIN:VCALENDAR
VERSION:2.0
PRODID:-//Water Wrights - ECPv5.16.4//NONSGML v1.0//EN
CALSCALE:GREGORIAN
METHOD:PUBLISH
X-WR-CALNAME:Water Wrights
X-ORIGINAL-URL:https://waterwrights.net
X-WR-CALDESC:Events for Water Wrights
BEGIN:VTIMEZONE
TZID:America/Los_Angeles
BEGIN:DAYLIGHT
TZOFFSETFROM:-0800
TZOFFSETTO:-0700
TZNAME:PDT
DTSTART:20240310T100000
END:DAYLIGHT
BEGIN:STANDARD
TZOFFSETFROM:-0700
TZOFFSETTO:-0800
TZNAME:PST
DTSTART:20241103T090000
END:STANDARD
END:VTIMEZONE
BEGIN:VEVENT
DTSTART;TZID=America/Los_Angeles:20240118T090000
DTEND;TZID=America/Los_Angeles:20240118T110000
DTSTAMP:20260421T011449
CREATED:20240103T061344Z
LAST-MODIFIED:20240103T061344Z
UID:24914-1705568400-1705575600@waterwrights.net
SUMMARY:Oakdale ID 9AM
DESCRIPTION:3rd Thursday 9am
URL:https://waterwrights.net/event/oakdale-id-9am-9/
LOCATION:Oakdale ID\, 1205 East F Street\, Oakdale\, California\, 95361
END:VEVENT
BEGIN:VEVENT
DTSTART;TZID=America/Los_Angeles:20240118T090000
DTEND;TZID=America/Los_Angeles:20240118T110000
DTSTAMP:20260421T011449
CREATED:20240103T062234Z
LAST-MODIFIED:20240103T062234Z
UID:24924-1705568400-1705575600@waterwrights.net
SUMMARY:Glenn-Colusa ID 9AM
DESCRIPTION:1st & 3rd Thursdays 9am
URL:https://waterwrights.net/event/glenn-colusa-id-9am-33/
LOCATION:Glenn Colusa ID Meeting\, 344 E Laurel Street Willows\, California\, 95988
END:VEVENT
BEGIN:VEVENT
DTSTART;TZID=America/Los_Angeles:20240118T100000
DTEND;TZID=America/Los_Angeles:20240118T120000
DTSTAMP:20260421T011449
CREATED:20240116T085908Z
LAST-MODIFIED:20240116T085908Z
UID:25202-1705572000-1705579200@waterwrights.net
SUMMARY:Wheeler Ridge Maricopa GSA 10AM
DESCRIPTION:Wheeler Ridge-Maricopa Water Storage District \nWheeler Ridge-Maricopa GSA\nSpecial Board Meeting \nProjects & Management Actions (P/MA) Committee \nThursday\, January 18\, 2024 @ 10:00 A.M.\nDistrict Headquarters Board Room\n12109 Hwy 166\, 6.5 miles west of Mettler\, CA \nOr via GoToMeeting \n(Optional Remote Public Participation Only – See NOTICE Below) \nConference Line: +1 (669) 224-3412\nAccess Code: 801-263-797\nhttps://meet.goto.com/801263797
URL:https://waterwrights.net/event/wheeler-ridge-maricopa-gsa-10am/
LOCATION:Wheeler Ridge Maricopa WD\, 12109 High Way 166\, Bakerfield\, California\, 93312
END:VEVENT
BEGIN:VEVENT
DTSTART;TZID=America/Los_Angeles:20240118T133000
DTEND;TZID=America/Los_Angeles:20240118T153000
DTSTAMP:20260421T011449
CREATED:20240103T062453Z
LAST-MODIFIED:20240103T062453Z
UID:24926-1705584600-1705591800@waterwrights.net
SUMMARY:Richvale ID 1:30PM
DESCRIPTION:3rd Thursday 1:30pm
URL:https://waterwrights.net/event/richvale-id-130pm-8/
LOCATION:Richvale Irrigation District\, PO Box 147\, Richvale\, California\, 95974
END:VEVENT
END:VCALENDAR