BEGIN:VCALENDAR
VERSION:2.0
PRODID:-//Water Wrights - ECPv5.16.4//NONSGML v1.0//EN
CALSCALE:GREGORIAN
METHOD:PUBLISH
X-WR-CALNAME:Water Wrights
X-ORIGINAL-URL:https://waterwrights.net
X-WR-CALDESC:Events for Water Wrights
BEGIN:VTIMEZONE
TZID:America/Los_Angeles
BEGIN:DAYLIGHT
TZOFFSETFROM:-0800
TZOFFSETTO:-0700
TZNAME:PDT
DTSTART:20240310T100000
END:DAYLIGHT
BEGIN:STANDARD
TZOFFSETFROM:-0700
TZOFFSETTO:-0800
TZNAME:PST
DTSTART:20241103T090000
END:STANDARD
END:VTIMEZONE
BEGIN:VEVENT
DTSTART;TZID=America/Los_Angeles:20240119T100000
DTEND;TZID=America/Los_Angeles:20240119T120000
DTSTAMP:20260421T012703
CREATED:20231227T095641Z
LAST-MODIFIED:20240119T083656Z
UID:24867-1705658400-1705665600@waterwrights.net
SUMMARY:Friant Water Authorithy 10AM
DESCRIPTION:BOARD OF DIRECTORS MEETING | Agenda\nFRIDAY\, JANUARY 19\, 2024 \nCLOSED SESSION – 8:30 AM • OPEN SESSION – 10:30 AM\nBELLO VITA EVENT VENUE 4211 W. GOSHEN AVE.\, VISALIA\, CA 93291
URL:https://waterwrights.net/event/friant-water-authorithy-10am-4/
LOCATION:Friant Water Authority\, 854 N Harvard Ave\,\, Lindsay\, California\, 93247
END:VEVENT
BEGIN:VEVENT
DTSTART;TZID=America/Los_Angeles:20240119T133000
DTEND;TZID=America/Los_Angeles:20240119T153000
DTSTAMP:20260421T012703
CREATED:20240119T083545Z
LAST-MODIFIED:20240119T083545Z
UID:25244-1705671000-1705678200@waterwrights.net
SUMMARY:Kern Water bank Authority 1:30PM
DESCRIPTION:NOTICE \nSPECIAL BOARD OF DIRECTORS MEETING\nNotice is hereby given that pursuant to Section 54956 of the California Government Code\nand the Kern Water Bank Authority Joint Powers Agreement\, the Chairman of the Board of\nDirectors of Kern Water Bank Authority has called a Special Board of Directors Meeting on\nFriday\, January 19\, 2024\, at 1:30 P.M. \nThe meeting will be held in person at the Kern Water Bank Authority Conference Room\, located\nat 1620 Mill Rock Way\, Suite 500\, Bakersfield\, California. Less than a quorum of directors may\nparticipate via conference call from the following teleconference location: 1106 N. 27th Street\,\nTacoma\, WA 98403.\nThe Board will meet in open and closed session.
URL:https://waterwrights.net/event/kern-water-bank-authority-130pm/
LOCATION:Kern Water Bank\, 1620 Mill Rock Way\, Ste 500\, Bakersfield\, California\, 93311
END:VEVENT
END:VCALENDAR