BEGIN:VCALENDAR
VERSION:2.0
PRODID:-//Water Wrights - ECPv5.16.4//NONSGML v1.0//EN
CALSCALE:GREGORIAN
METHOD:PUBLISH
X-WR-CALNAME:Water Wrights
X-ORIGINAL-URL:https://waterwrights.net
X-WR-CALDESC:Events for Water Wrights
BEGIN:VTIMEZONE
TZID:America/Los_Angeles
BEGIN:DAYLIGHT
TZOFFSETFROM:-0800
TZOFFSETTO:-0700
TZNAME:PDT
DTSTART:20240310T100000
END:DAYLIGHT
BEGIN:STANDARD
TZOFFSETFROM:-0700
TZOFFSETTO:-0800
TZNAME:PST
DTSTART:20241103T090000
END:STANDARD
END:VTIMEZONE
BEGIN:VEVENT
DTSTART;TZID=America/Los_Angeles:20240220T090000
DTEND;TZID=America/Los_Angeles:20240220T110000
DTSTAMP:20260419T142815
CREATED:20240203T093037Z
LAST-MODIFIED:20240203T093118Z
UID:25419-1708419600-1708426800@waterwrights.net
SUMMARY:Yuba County WA (entire county) 9AM
DESCRIPTION:1st & 3rd Tuesdays 9am
URL:https://waterwrights.net/event/yuba-county-wa-entire-county-9am-13/
LOCATION:Yuba County WA\, 1220 F Street\, Marysville\, California\, 995901
END:VEVENT
BEGIN:VEVENT
DTSTART;TZID=America/Los_Angeles:20240220T090000
DTEND;TZID=America/Los_Angeles:20240220T110000
DTSTAMP:20260419T142815
CREATED:20240203T095230Z
LAST-MODIFIED:20240203T095230Z
UID:25425-1708419600-1708426800@waterwrights.net
SUMMARY:Western Canal WD 9AM
DESCRIPTION:3rd Tuesday 9am
URL:https://waterwrights.net/event/western-canal-wd-9am-12/
LOCATION:Western Canal WD\, PO Box 190 Richval\, Richval\, California\, 95974
END:VEVENT
BEGIN:VEVENT
DTSTART;TZID=America/Los_Angeles:20240220T100000
DTEND;TZID=America/Los_Angeles:20240220T120000
DTSTAMP:20260419T142815
CREATED:20240219T082703Z
LAST-MODIFIED:20240219T082703Z
UID:25681-1708423200-1708430400@waterwrights.net
SUMMARY:Kings River WA 10AM
DESCRIPTION:EXECUTIVE COMMITTEE MEETING OF THE\nKINGS RIVER WATER ASSOCIATION\nTUESDAY\, FEBRUARY 20\, 2024 AT 10:00 A.M. \nMeeting Locations\nKings River Water Association\n4888 E. Jensen Avenue\nFresno\, CA 93725
URL:https://waterwrights.net/event/kings-river-wa-10am/
LOCATION:Kings River WA\, 4888 E. Jensen Avenue\, Fresno\, CA\, 93725\, United States
END:VEVENT
BEGIN:VEVENT
DTSTART;TZID=America/Los_Angeles:20240220T100000
DTEND;TZID=America/Los_Angeles:20240220T120000
DTSTAMP:20260419T142815
CREATED:20240219T090210Z
LAST-MODIFIED:20240219T090210Z
UID:25687-1708423200-1708430400@waterwrights.net
SUMMARY:South of Kern River GSP 10AM
DESCRIPTION:South of Kern River Executive Committee \nRegular Meeting\nTuesday\, February 20\, 2024\n10:00 a.m.to 12:00 p.m.
URL:https://waterwrights.net/event/south-of-kern-river-gsp-10am-7/
LOCATION:20401 E. Bear Mountain Blvd. Arvin\, CA 93203\, 20401 E. Bear mountain blvd\, Arvin\, CA\, 93203\, United States
END:VEVENT
BEGIN:VEVENT
DTSTART;TZID=America/Los_Angeles:20240220T130000
DTEND;TZID=America/Los_Angeles:20240220T150000
DTSTAMP:20260419T142815
CREATED:20240201T075617Z
LAST-MODIFIED:20240201T075617Z
UID:25339-1708434000-1708441200@waterwrights.net
SUMMARY:Westlands WD 1PM
DESCRIPTION:3rd Tuesday 1pm
URL:https://waterwrights.net/event/westlands-wd-1pm-7/
LOCATION:Westlands WD\, 3130 N. Fresno St\, Fresno\, California\, 93703
END:VEVENT
BEGIN:VEVENT
DTSTART;TZID=America/Los_Angeles:20240220T130000
DTEND;TZID=America/Los_Angeles:20240220T150000
DTSTAMP:20260419T142815
CREATED:20240203T085115Z
LAST-MODIFIED:20240203T085115Z
UID:25399-1708434000-1708441200@waterwrights.net
SUMMARY:Kern Delta WD 1PM
DESCRIPTION:1st & 3rdTuesdays 1pm
URL:https://waterwrights.net/event/kern-delta-wd-1pm-21/
LOCATION:Kern Delta WD\, 501 Taft High Way\, Bakersfield\, California\, 93307
END:VEVENT
BEGIN:VEVENT
DTSTART;TZID=America/Los_Angeles:20240220T150000
DTEND;TZID=America/Los_Angeles:20240220T170000
DTSTAMP:20260419T142815
CREATED:20240219T091002Z
LAST-MODIFIED:20240219T091002Z
UID:25689-1708441200-1708448400@waterwrights.net
SUMMARY:Mid Kaweah GSA 3PM
DESCRIPTION:Advisory Committee Regular Meeting\nFebruary 20th\, 2024 – 3:00pm\nLocation\nTulare Irrigation District\n6826 Avenue 240\nTulare\, CA 93274
URL:https://waterwrights.net/event/mid-kaweah-gsa-3pm-21/
LOCATION:Mid Kaweah GSA\, 491 North M Street\, tulare\, CA\, 93274\, United States
END:VEVENT
END:VCALENDAR