BEGIN:VCALENDAR
VERSION:2.0
PRODID:-//Water Wrights - ECPv5.16.4//NONSGML v1.0//EN
CALSCALE:GREGORIAN
METHOD:PUBLISH
X-WR-CALNAME:Water Wrights
X-ORIGINAL-URL:https://waterwrights.net
X-WR-CALDESC:Events for Water Wrights
BEGIN:VTIMEZONE
TZID:America/Los_Angeles
BEGIN:DAYLIGHT
TZOFFSETFROM:-0800
TZOFFSETTO:-0700
TZNAME:PDT
DTSTART:20240310T100000
END:DAYLIGHT
BEGIN:STANDARD
TZOFFSETFROM:-0700
TZOFFSETTO:-0800
TZNAME:PST
DTSTART:20241103T090000
END:STANDARD
END:VTIMEZONE
BEGIN:VEVENT
DTSTART;VALUE=DATE:20240222
DTEND;VALUE=DATE:20240224
DTSTAMP:20260419T130205
CREATED:20240129T063655Z
LAST-MODIFIED:20240129T063655Z
UID:25306-1708560000-1708732799@waterwrights.net
SUMMARY:Family Farm Alliance Conference Reno\, NV
DESCRIPTION:EVENTS
URL:https://waterwrights.net/event/family-farm-alliance-conference-reno-nv/
END:VEVENT
BEGIN:VEVENT
DTSTART;TZID=America/Los_Angeles:20240222T090000
DTEND;TZID=America/Los_Angeles:20240222T110000
DTSTAMP:20260419T130205
CREATED:20240203T082037Z
LAST-MODIFIED:20240208T064857Z
UID:25381-1708592400-1708599600@waterwrights.net
SUMMARY:Porterville ID 9AM
DESCRIPTION:The Regular PORTERVILLE IRRIGATION DISTRICT Board of Directors meeting scheduled for\nTUESDAY\, FEBRUARY 13\, 2024\nhas been adjourned to \nTHURSDAY\, FEBRUARY 22\, 2024 AT 9:00 A.M.
URL:https://waterwrights.net/event/porterville-id-9am-19/
END:VEVENT
BEGIN:VEVENT
DTSTART;TZID=America/Los_Angeles:20240222T090000
DTEND;TZID=America/Los_Angeles:20240222T110000
DTSTAMP:20260419T130205
CREATED:20240219T085356Z
LAST-MODIFIED:20240219T085356Z
UID:25685-1708592400-1708599600@waterwrights.net
SUMMARY:Porterville Irrigation District 9AM
DESCRIPTION:PORTERVILLE\nIRRIGATION DISTRICT\nBOARD MEETING AGENDA\nFebruary 22\, 2024-9:00 a.m. 22086 Avenue 160\, Porterville CA 93257
URL:https://waterwrights.net/event/porterville-irrigation-district-9am/
LOCATION:22086 avenue 160\, Porterville CA 93257\, 22086 avenue 160\, Porterville\, CA\, 93257\, United States
END:VEVENT
BEGIN:VEVENT
DTSTART;TZID=America/Los_Angeles:20240222T180000
DTEND;TZID=America/Los_Angeles:20240222T200000
DTSTAMP:20260419T130205
CREATED:20240203T095555Z
LAST-MODIFIED:20240203T095555Z
UID:25427-1708624800-1708632000@waterwrights.net
SUMMARY:North Kings GSA 6PM
DESCRIPTION:FEB 22
URL:https://waterwrights.net/event/north-kings-gsa-6pm-21/
LOCATION:North Kings GSA\, FID 2907 S Maple Avenue\, Fresno\, California\, 93725
END:VEVENT
END:VCALENDAR