BEGIN:VCALENDAR
VERSION:2.0
PRODID:-//Water Wrights - ECPv5.16.4//NONSGML v1.0//EN
CALSCALE:GREGORIAN
METHOD:PUBLISH
X-WR-CALNAME:Water Wrights
X-ORIGINAL-URL:https://waterwrights.net
X-WR-CALDESC:Events for Water Wrights
BEGIN:VTIMEZONE
TZID:America/Los_Angeles
BEGIN:DAYLIGHT
TZOFFSETFROM:-0800
TZOFFSETTO:-0700
TZNAME:PDT
DTSTART:20240310T100000
END:DAYLIGHT
BEGIN:STANDARD
TZOFFSETFROM:-0700
TZOFFSETTO:-0800
TZNAME:PST
DTSTART:20241103T090000
END:STANDARD
END:VTIMEZONE
BEGIN:VEVENT
DTSTART;TZID=America/Los_Angeles:20240305T090000
DTEND;TZID=America/Los_Angeles:20240305T110000
DTSTAMP:20260419T113514
CREATED:20240227T074459Z
LAST-MODIFIED:20240227T074459Z
UID:25777-1709629200-1709636400@waterwrights.net
SUMMARY:Kaweah Delta WCD 9AM
DESCRIPTION:1st Tuesday 9am
URL:https://waterwrights.net/event/kaweah-delta-wcd-9am-21/
LOCATION:Kaweah Delta WCD\, 2975 N. Farmersville Blvd Farmersville\, California\, 93223
END:VEVENT
BEGIN:VEVENT
DTSTART;TZID=America/Los_Angeles:20240305T090000
DTEND;TZID=America/Los_Angeles:20240305T110000
DTSTAMP:20260419T113514
CREATED:20240228T055900Z
LAST-MODIFIED:20240228T055900Z
UID:25842-1709629200-1709636400@waterwrights.net
SUMMARY:Yuba County WA (entire county) 9AM
DESCRIPTION:1st & 3rd Tuesdays 9am
URL:https://waterwrights.net/event/yuba-county-wa-entire-county-9am-14/
LOCATION:Yuba County WA\, 1220 F Street\, Marysville\, California\, 995901
END:VEVENT
BEGIN:VEVENT
DTSTART;TZID=America/Los_Angeles:20240305T130000
DTEND;TZID=America/Los_Angeles:20240305T150000
DTSTAMP:20260419T113514
CREATED:20240228T053222Z
LAST-MODIFIED:20240228T053222Z
UID:25816-1709643600-1709650800@waterwrights.net
SUMMARY:Kern Delta WD 1PM
DESCRIPTION:1st & 3rdTuesdays 1pm
URL:https://waterwrights.net/event/kern-delta-wd-1pm-22/
LOCATION:Kern Delta WD\, 501 Taft High Way\, Bakersfield\, California\, 93307
END:VEVENT
BEGIN:VEVENT
DTSTART;TZID=America/Los_Angeles:20240305T140000
DTEND;TZID=America/Los_Angeles:20240305T160000
DTSTAMP:20260419T113514
CREATED:20240228T064156Z
LAST-MODIFIED:20240228T064156Z
UID:25860-1709647200-1709654400@waterwrights.net
SUMMARY:Eastern Tule GSA 2PM
DESCRIPTION:1st Tuesday 2pm
URL:https://waterwrights.net/event/eastern-tule-gsa-2pm-20/
LOCATION:Eastern Tule GSA\, 881 W. Morton Avenue\, Suite D\, Porterville\, California\, 93257
END:VEVENT
BEGIN:VEVENT
DTSTART;TZID=America/Los_Angeles:20240305T150000
DTEND;TZID=America/Los_Angeles:20240305T170000
DTSTAMP:20260419T113514
CREATED:20240304T025832Z
LAST-MODIFIED:20240304T025832Z
UID:25888-1709650800-1709658000@waterwrights.net
SUMMARY:Mid-Kaweah GSA 3PM
DESCRIPTION:Advisory Committee Regular Meeting\nMarch 5th\, 2024 – 3:00pm\nLocation\nTulare Irrigation District\n6826 Avenue 240\nTulare\, CA 93274
URL:https://waterwrights.net/event/mid-kaweah-gsa-3pm-23/
LOCATION:Mid Kaweah GSA\, 491 North M Street\, tulare\, CA\, 93274\, United States
END:VEVENT
END:VCALENDAR