BEGIN:VCALENDAR
VERSION:2.0
PRODID:-//Water Wrights - ECPv5.16.4//NONSGML v1.0//EN
CALSCALE:GREGORIAN
METHOD:PUBLISH
X-WR-CALNAME:Water Wrights
X-ORIGINAL-URL:https://waterwrights.net
X-WR-CALDESC:Events for Water Wrights
BEGIN:VTIMEZONE
TZID:America/Los_Angeles
BEGIN:DAYLIGHT
TZOFFSETFROM:-0800
TZOFFSETTO:-0700
TZNAME:PDT
DTSTART:20240310T100000
END:DAYLIGHT
BEGIN:STANDARD
TZOFFSETFROM:-0700
TZOFFSETTO:-0800
TZNAME:PST
DTSTART:20241103T090000
END:STANDARD
END:VTIMEZONE
BEGIN:VEVENT
DTSTART;TZID=America/Los_Angeles:20240313T080000
DTEND;TZID=America/Los_Angeles:20240313T100000
DTSTAMP:20260419T114347
CREATED:20240227T080219Z
LAST-MODIFIED:20240311T044902Z
UID:25797-1710316800-1710324000@waterwrights.net
SUMMARY:Wheeler Ridge Maricopa WD 8AM
DESCRIPTION:Wednesday’s Board meeting will be accessible in person and via GoToMeeting. We expect the open session portion of the meeting to begin at 9:30 a.m. \nThe remainder of the Board packet will be sent out Monday.
URL:https://waterwrights.net/event/wheeler-ridge-maricopa-wd-8am-11/
LOCATION:Wheeler Ridge Maricopa WD\, 12109 High Way 166\, Bakerfield\, California\, 93312
END:VEVENT
BEGIN:VEVENT
DTSTART;TZID=America/Los_Angeles:20240313T090000
DTEND;TZID=America/Los_Angeles:20240313T110000
DTSTAMP:20260419T114347
CREATED:20240227T080614Z
LAST-MODIFIED:20240227T080614Z
UID:25799-1710320400-1710327600@waterwrights.net
SUMMARY:Shafter Wasco ID 9AM
DESCRIPTION:2nd Wednesday 9am
URL:https://waterwrights.net/event/shafter-wasco-id-9am-13/
LOCATION:Shafter Wasco ID\, 16294 Highway 43\, Wasco\, California\, 93280
END:VEVENT
BEGIN:VEVENT
DTSTART;TZID=America/Los_Angeles:20240313T113000
DTEND;TZID=America/Los_Angeles:20240313T133000
DTSTAMP:20260419T114347
CREATED:20240227T073115Z
LAST-MODIFIED:20240227T073115Z
UID:25769-1710329400-1710336600@waterwrights.net
SUMMARY:Orange Cove ID 11:45am
DESCRIPTION:2nd Wednesday 11:45am
URL:https://waterwrights.net/event/orange-cove-id-1145am-10/
LOCATION:Orange Cove ID\, 1130 Park Ave\, Orange Cove\, California\, 93646
END:VEVENT
BEGIN:VEVENT
DTSTART;TZID=America/Los_Angeles:20240313T123000
DTEND;TZID=America/Los_Angeles:20240313T143000
DTSTAMP:20260419T114347
CREATED:20240227T075432Z
LAST-MODIFIED:20240227T075432Z
UID:25793-1710333000-1710340200@waterwrights.net
SUMMARY:Semitropic WD 12:30PM
DESCRIPTION:2nd Wednesday 12:30
URL:https://waterwrights.net/event/semitropic-wd-1230pm-9/
LOCATION:Semitropic WD\, 1101 Central Avenue\, Wasco\, California\, 93280
END:VEVENT
BEGIN:VEVENT
DTSTART;TZID=America/Los_Angeles:20240313T130000
DTEND;TZID=America/Los_Angeles:20240313T150000
DTSTAMP:20260419T114347
CREATED:20240227T072657Z
LAST-MODIFIED:20240227T072657Z
UID:25765-1710334800-1710342000@waterwrights.net
SUMMARY:Consolidated ID 1PM
DESCRIPTION:2nd Wednesday 1pm
URL:https://waterwrights.net/event/consolidated-id-1pm-18/
LOCATION:2255 Chandler Street\, Selma\, CA 93662
END:VEVENT
BEGIN:VEVENT
DTSTART;TZID=America/Los_Angeles:20240313T130000
DTEND;TZID=America/Los_Angeles:20240313T150000
DTSTAMP:20260419T114347
CREATED:20240227T074024Z
LAST-MODIFIED:20240227T074024Z
UID:25773-1710334800-1710342000@waterwrights.net
SUMMARY:Dudley Ridge WD 1PM
DESCRIPTION:2nd Wednesday 1pm
URL:https://waterwrights.net/event/dudley-ridge-wd-1pm-10/
LOCATION:286 W. Cromwell Fresno CA 93711\, 286 W. Cromwell\, Fresno\, CA\, 93711\, United States
END:VEVENT
BEGIN:VEVENT
DTSTART;TZID=America/Los_Angeles:20240313T130000
DTEND;TZID=America/Los_Angeles:20240313T150000
DTSTAMP:20260419T114347
CREATED:20240311T044540Z
LAST-MODIFIED:20240311T044540Z
UID:25922-1710334800-1710342000@waterwrights.net
SUMMARY:Central Kings GSA 1PM
DESCRIPTION:Central Kings Groundwater Sustainability Agency (CKGSA)\nConsolidated Irrigation District\nDate: March 13\, 2024\nTime: 1:00 P.M.\nLocation: 2255 Chandler Street\, Selma\, CA 93662
URL:https://waterwrights.net/event/central-kings-gsa-1pm-10/
LOCATION:2255 Chandler Street\, Selma\, CA 93662
END:VEVENT
BEGIN:VEVENT
DTSTART;TZID=America/Los_Angeles:20240313T133000
DTEND;TZID=America/Los_Angeles:20240313T153000
DTSTAMP:20260419T114347
CREATED:20240227T070736Z
LAST-MODIFIED:20240227T070736Z
UID:25755-1710336600-1710343800@waterwrights.net
SUMMARY:Chowchilla WD 1:30PM
DESCRIPTION:2nd Wednesday 1:30pm
URL:https://waterwrights.net/event/chowchilla-wd-130pm-15/
LOCATION:Chowchilla WD\, 327 S Chowchilla Blvd\,\, Chowchilla\,\, California\, 93610
END:VEVENT
END:VCALENDAR