BEGIN:VCALENDAR
VERSION:2.0
PRODID:-//Water Wrights - ECPv5.16.4//NONSGML v1.0//EN
CALSCALE:GREGORIAN
METHOD:PUBLISH
X-WR-CALNAME:Water Wrights
X-ORIGINAL-URL:https://waterwrights.net
X-WR-CALDESC:Events for Water Wrights
BEGIN:VTIMEZONE
TZID:America/Los_Angeles
BEGIN:DAYLIGHT
TZOFFSETFROM:-0800
TZOFFSETTO:-0700
TZNAME:PDT
DTSTART:20240310T100000
END:DAYLIGHT
BEGIN:STANDARD
TZOFFSETFROM:-0700
TZOFFSETTO:-0800
TZNAME:PST
DTSTART:20241103T090000
END:STANDARD
END:VTIMEZONE
BEGIN:VEVENT
DTSTART;TZID=America/Los_Angeles:20240314T090000
DTEND;TZID=America/Los_Angeles:20240314T110000
DTSTAMP:20260419T115531
CREATED:20240227T081526Z
LAST-MODIFIED:20240227T081526Z
UID:25803-1710406800-1710414000@waterwrights.net
SUMMARY:Cawelo WD 9AM
DESCRIPTION:2nd Thursday 9am
URL:https://waterwrights.net/event/cawelo-wd-9am-12/
LOCATION:Cawelo WD\, 17207 Industrial Farm Road\, Bakersfield\, California\, 93308
END:VEVENT
BEGIN:VEVENT
DTSTART;TZID=America/Los_Angeles:20240314T093000
DTEND;TZID=America/Los_Angeles:20240314T113000
DTSTAMP:20260419T115531
CREATED:20240227T072908Z
LAST-MODIFIED:20240227T072908Z
UID:25767-1710408600-1710415800@waterwrights.net
SUMMARY:Alta ID 9:30AM
DESCRIPTION:2nd Thursday 9:30am
URL:https://waterwrights.net/event/alta-id-930am-18/
LOCATION:Alta ID\, 289 N. L street\, dinuba\, CA\, 93646\, United States
END:VEVENT
BEGIN:VEVENT
DTSTART;TZID=America/Los_Angeles:20240314T100000
DTEND;TZID=America/Los_Angeles:20240314T120000
DTSTAMP:20260419T115531
CREATED:20240227T071024Z
LAST-MODIFIED:20240227T071024Z
UID:25757-1710410400-1710417600@waterwrights.net
SUMMARY:Triangle T WD & GSA 10AM
DESCRIPTION:2nd Thursday 10am
URL:https://waterwrights.net/event/triangle-t-wd-gsa-10am-9/
LOCATION:Triangle T WD/GSA\, 4400 Hays Drive\, Chowchilla\, California\, 93610
END:VEVENT
BEGIN:VEVENT
DTSTART;TZID=America/Los_Angeles:20240314T100000
DTEND;TZID=America/Los_Angeles:20240314T120000
DTSTAMP:20260419T115531
CREATED:20240228T055813Z
LAST-MODIFIED:20240228T055813Z
UID:25840-1710410400-1710417600@waterwrights.net
SUMMARY:Butte WD 10AM
DESCRIPTION:2nd Thursday 10am
URL:https://waterwrights.net/event/butte-wd-10am-10/
LOCATION:Butte WD\, 735 Virginia Street\, Gridley\, California\, 95948
END:VEVENT
BEGIN:VEVENT
DTSTART;TZID=America/Los_Angeles:20240314T133000
DTEND;TZID=America/Los_Angeles:20240314T153000
DTSTAMP:20260419T115531
CREATED:20240227T074725Z
LAST-MODIFIED:20240227T074725Z
UID:25781-1710423000-1710430200@waterwrights.net
SUMMARY:Exeter ID 1:30PM
DESCRIPTION:2nd Thursday 1:30pm
URL:https://waterwrights.net/event/exeter-id-130pm-9/
LOCATION:150 E Street Exeter CA 93221\, 150 E street\, exeter\, CA\, 93221\, United States
END:VEVENT
BEGIN:VEVENT
DTSTART;TZID=America/Los_Angeles:20240314T143000
DTEND;TZID=America/Los_Angeles:20240314T163000
DTSTAMP:20260419T115531
CREATED:20240228T054055Z
LAST-MODIFIED:20240228T054055Z
UID:25824-1710426600-1710433800@waterwrights.net
SUMMARY:Kern Tulare WD 2:30PM
DESCRIPTION:2nd Thursday 2:30pm
URL:https://waterwrights.net/event/kern-tulare-wd-230pm-10/
LOCATION:Kern Tulare WD\, 5001 California Ave Ste 202\, Bakersfield\, 93309
END:VEVENT
BEGIN:VEVENT
DTSTART;TZID=America/Los_Angeles:20240314T150000
DTEND;TZID=America/Los_Angeles:20240314T170000
DTSTAMP:20260419T115531
CREATED:20240311T051454Z
LAST-MODIFIED:20240311T051454Z
UID:25927-1710428400-1710435600@waterwrights.net
SUMMARY:Fresno ID 3PM
DESCRIPTION:Fresno Irrigation District Regular Board of\nDirectors Meeting – March 14\, 2024 \nFresno Irrigation District Office\n2907 S. Maple Avenue\nFresno\, CA\, 93725
URL:https://waterwrights.net/event/fresno-id-3pm-18/
LOCATION:Fresno Irrigation District\, 2097 S. Mapel Ave\, Fresno\, California\, 93725
END:VEVENT
BEGIN:VEVENT
DTSTART;TZID=America/Los_Angeles:20240314T160000
DTEND;TZID=America/Los_Angeles:20240314T180000
DTSTAMP:20260419T115531
CREATED:20240228T053852Z
LAST-MODIFIED:20240301T155031Z
UID:25822-1710432000-1710439200@waterwrights.net
SUMMARY:Delano Earlimart ID 4PM
DESCRIPTION:2nd Thursday 4pm
URL:https://waterwrights.net/event/delano-earlimart-id-4pm-12/
LOCATION:Delano Earlimart ID\, 14181 Avenue 24\, Delano\, 93215
END:VEVENT
END:VCALENDAR