BEGIN:VCALENDAR
VERSION:2.0
PRODID:-//Water Wrights - ECPv5.16.4//NONSGML v1.0//EN
CALSCALE:GREGORIAN
METHOD:PUBLISH
X-WR-CALNAME:Water Wrights
X-ORIGINAL-URL:https://waterwrights.net
X-WR-CALDESC:Events for Water Wrights
BEGIN:VTIMEZONE
TZID:America/Los_Angeles
BEGIN:DAYLIGHT
TZOFFSETFROM:-0800
TZOFFSETTO:-0700
TZNAME:PDT
DTSTART:20240310T100000
END:DAYLIGHT
BEGIN:STANDARD
TZOFFSETFROM:-0700
TZOFFSETTO:-0800
TZNAME:PST
DTSTART:20241103T090000
END:STANDARD
END:VTIMEZONE
BEGIN:VEVENT
DTSTART;TZID=America/Los_Angeles:20240319T080000
DTEND;TZID=America/Los_Angeles:20240321T170000
DTSTAMP:20260419T115225
CREATED:20240313T175255Z
LAST-MODIFIED:20240313T175255Z
UID:25944-1710835200-1711040400@waterwrights.net
SUMMARY:ASFMRA Conference 8am-5pm Bakersfield
DESCRIPTION:Starts:  March 19\, 2024 08:00 AM (PT)\nEnds:  March 21\, 2024 05:00 PM (PT)\n\n\n\n\n\n\n\n\n\nThe California Chapter\, ASFMRA is proud to bring the Outlook Agribusiness Conference to Bakersfield for 2024! As California’s Premiere Agribusiness Conference\, Outlook 2024 promises an exceptional three days of education\, networking\, and unmatched opportunities for today’s agribusiness professionals. We hope you will join us for all or part of this year’s engaging program!
URL:https://waterwrights.net/event/asfmra-conference-8am-5pm-bakersfield/
END:VEVENT
BEGIN:VEVENT
DTSTART;TZID=America/Los_Angeles:20240320T070000
DTEND;TZID=America/Los_Angeles:20240320T090000
DTSTAMP:20260419T115225
CREATED:20240227T081122Z
LAST-MODIFIED:20240227T081122Z
UID:25801-1710918000-1710925200@waterwrights.net
SUMMARY:North Kern WSD 7AM
DESCRIPTION:3rd Wednesday 7am
URL:https://waterwrights.net/event/north-kern-wsd-7am-10/
LOCATION:North Kern Water Service District\, 33380 Cawelo Extended\, Bakersfield\, California\, 93308
END:VEVENT
BEGIN:VEVENT
DTSTART;TZID=America/Los_Angeles:20240320T080000
DTEND;TZID=America/Los_Angeles:20240320T170000
DTSTAMP:20260419T115225
CREATED:20240227T075925Z
LAST-MODIFIED:20240227T075925Z
UID:25795-1710921600-1710954000@waterwrights.net
SUMMARY:Buena Vista WSD
DESCRIPTION:3rd Wednesday time varies
URL:https://waterwrights.net/event/buena-vista-wsd-13/
LOCATION:525 Main Street Buttonwillow CA 93206\, 525 Main street\, buttonwillow\, CA\, 93206\, United States
END:VEVENT
END:VCALENDAR