BEGIN:VCALENDAR
VERSION:2.0
PRODID:-//Water Wrights - ECPv5.16.4//NONSGML v1.0//EN
CALSCALE:GREGORIAN
METHOD:PUBLISH
X-WR-CALNAME:Water Wrights
X-ORIGINAL-URL:https://waterwrights.net
X-WR-CALDESC:Events for Water Wrights
BEGIN:VTIMEZONE
TZID:America/Los_Angeles
BEGIN:DAYLIGHT
TZOFFSETFROM:-0800
TZOFFSETTO:-0700
TZNAME:PDT
DTSTART:20240310T100000
END:DAYLIGHT
BEGIN:STANDARD
TZOFFSETFROM:-0700
TZOFFSETTO:-0800
TZNAME:PST
DTSTART:20241103T090000
END:STANDARD
END:VTIMEZONE
BEGIN:VEVENT
DTSTART;TZID=America/Los_Angeles:20240325T140000
DTEND;TZID=America/Los_Angeles:20240325T160000
DTSTAMP:20260419T115257
CREATED:20240228T055702Z
LAST-MODIFIED:20240228T055702Z
UID:25838-1711375200-1711382400@waterwrights.net
SUMMARY:North San Joaquin WCD 2PM
DESCRIPTION:Last Monday 2pm
URL:https://waterwrights.net/event/north-san-joaquin-wcd-2pm-7/
LOCATION:North San Joaquin WCD\, 498 East Kettleman Lane\, Lodi\, CA\, 95240\, United States
END:VEVENT
BEGIN:VEVENT
DTSTART;TZID=America/Los_Angeles:20240325T140000
DTEND;TZID=America/Los_Angeles:20240325T160000
DTSTAMP:20260419T115257
CREATED:20240324T092143Z
LAST-MODIFIED:20240324T092143Z
UID:26013-1711375200-1711382400@waterwrights.net
SUMMARY:North San Joaquin WCD 2PM
DESCRIPTION:NORTH SAN JOAQUIN WATER CONSERVATION DISTRICT\nNOTICE OF MEETING AND PUBLIC HEARING AND AGENDA FOR\nREGULAR MEETING OF THE BOARD OF DIRECTORS \nMonday\, March 25\, 2024\n2:00 p.m. \nLodi Grape Festival Grounds- Barrel Room\n413 E. Lockeford St\, Lodi CA 95240
URL:https://waterwrights.net/event/north-san-joaquin-wcd-2pm-8/
LOCATION:North San Joaquin WCD\, 498 East Kettleman Lane\, Lodi\, CA\, 95240\, United States
END:VEVENT
END:VCALENDAR