BEGIN:VCALENDAR
VERSION:2.0
PRODID:-//Water Wrights - ECPv5.16.4//NONSGML v1.0//EN
CALSCALE:GREGORIAN
METHOD:PUBLISH
X-WR-CALNAME:Water Wrights
X-ORIGINAL-URL:https://waterwrights.net
X-WR-CALDESC:Events for Water Wrights
BEGIN:VTIMEZONE
TZID:America/Los_Angeles
BEGIN:DAYLIGHT
TZOFFSETFROM:-0800
TZOFFSETTO:-0700
TZNAME:PDT
DTSTART:20240310T100000
END:DAYLIGHT
BEGIN:STANDARD
TZOFFSETFROM:-0700
TZOFFSETTO:-0800
TZNAME:PST
DTSTART:20241103T090000
END:STANDARD
END:VTIMEZONE
BEGIN:VEVENT
DTSTART;TZID=America/Los_Angeles:20240401T133000
DTEND;TZID=America/Los_Angeles:20240401T153000
DTSTAMP:20260419T101208
CREATED:20240324T090714Z
LAST-MODIFIED:20240324T090816Z
UID:26005-1711978200-1711985400@waterwrights.net
SUMMARY:Greater Kaweah GSA 1:30PM combined meeting
DESCRIPTION:Combined \nRural Communities & Stakeholder Committees \nMeeting \nMonday\, April 1st\, 2024 @ 1:30 p.m.
URL:https://waterwrights.net/event/greater-kaweah-gsa-130pm-combined-meeting-2/
LOCATION:Greater Kaweah GSA\, Kaweah Delta WCD offices\, California
END:VEVENT
END:VCALENDAR