BEGIN:VCALENDAR
VERSION:2.0
PRODID:-//Water Wrights - ECPv5.16.4//NONSGML v1.0//EN
CALSCALE:GREGORIAN
METHOD:PUBLISH
X-WR-CALNAME:Water Wrights
X-ORIGINAL-URL:https://waterwrights.net
X-WR-CALDESC:Events for Water Wrights
BEGIN:VTIMEZONE
TZID:America/Los_Angeles
BEGIN:DAYLIGHT
TZOFFSETFROM:-0800
TZOFFSETTO:-0700
TZNAME:PDT
DTSTART:20240310T100000
END:DAYLIGHT
BEGIN:STANDARD
TZOFFSETFROM:-0700
TZOFFSETTO:-0800
TZNAME:PST
DTSTART:20241103T090000
END:STANDARD
END:VTIMEZONE
BEGIN:VEVENT
DTSTART;TZID=America/Los_Angeles:20240404T090000
DTEND;TZID=America/Los_Angeles:20240404T230000
DTSTAMP:20260419T102648
CREATED:20240329T002225Z
LAST-MODIFIED:20240329T002225Z
UID:26126-1712221200-1712271600@waterwrights.net
SUMMARY:Glenn-Colusa ID 9AM
DESCRIPTION:1st & 3rd Thursdays 9am
URL:https://waterwrights.net/event/glenn-colusa-id-9am-38/
LOCATION:Glenn Colusa ID Meeting\, 344 E Laurel Street Willows\, California\, 95988
END:VEVENT
BEGIN:VEVENT
DTSTART;TZID=America/Los_Angeles:20240404T093000
DTEND;TZID=America/Los_Angeles:20240404T113000
DTSTAMP:20260419T102648
CREATED:20240401T030156Z
LAST-MODIFIED:20240401T030156Z
UID:26202-1712223000-1712230200@waterwrights.net
SUMMARY:San Luis & Delta-Mendota 9:30AM
DESCRIPTION:Notice of San Luis & Delta-Mendota Water Authority Board of Directors Regular Meeting Thursday\, April 4\, 2024\, 9:30 a.m. SLDMWA Boardroom 842 6th Street\, Los Banos
URL:https://waterwrights.net/event/san-luis-delta-mendota-930am-20/
LOCATION:San Luis Delta Mendota\, 842 6th Street\, Los Banos\, California\, 93635
END:VEVENT
BEGIN:VEVENT
DTSTART;TZID=America/Los_Angeles:20240404T100000
DTEND;TZID=America/Los_Angeles:20240404T120000
DTSTAMP:20260419T102648
CREATED:20240329T011720Z
LAST-MODIFIED:20240329T011720Z
UID:26148-1712224800-1712232000@waterwrights.net
SUMMARY:Kern River GSA 10AM
DESCRIPTION:1st Thursday 10am
URL:https://waterwrights.net/event/kern-river-gsa-10am-18/
LOCATION:Kern River GSA\, N. 1600 Truxtun Ave\, Bakersfield\, CA\, 93301\, United States
END:VEVENT
END:VCALENDAR