BEGIN:VCALENDAR
VERSION:2.0
PRODID:-//Water Wrights - ECPv5.16.4//NONSGML v1.0//EN
CALSCALE:GREGORIAN
METHOD:PUBLISH
X-WR-CALNAME:Water Wrights
X-ORIGINAL-URL:https://waterwrights.net
X-WR-CALDESC:Events for Water Wrights
BEGIN:VTIMEZONE
TZID:America/Los_Angeles
BEGIN:DAYLIGHT
TZOFFSETFROM:-0800
TZOFFSETTO:-0700
TZNAME:PDT
DTSTART:20240310T100000
END:DAYLIGHT
BEGIN:STANDARD
TZOFFSETFROM:-0700
TZOFFSETTO:-0800
TZNAME:PST
DTSTART:20241103T090000
END:STANDARD
END:VTIMEZONE
BEGIN:VEVENT
DTSTART;TZID=America/Los_Angeles:20240409T080000
DTEND;TZID=America/Los_Angeles:20240409T170000
DTSTAMP:20260419T103341
CREATED:20240328T221815Z
LAST-MODIFIED:20240328T221815Z
UID:26094-1712649600-1712682000@waterwrights.net
SUMMARY:Rosedale Rio Bravo WSD 8AM
DESCRIPTION:2nd Tuesday 8am
URL:https://waterwrights.net/event/rosedale-rio-bravo-wsd-8am-11/
LOCATION:Rosedale Rio Bravo WSD\, 849 Allen Road\, Bakersfield\, California\, 93314
END:VEVENT
BEGIN:VEVENT
DTSTART;TZID=America/Los_Angeles:20240409T090000
DTEND;TZID=America/Los_Angeles:20240409T110000
DTSTAMP:20260419T103341
CREATED:20240327T062303Z
LAST-MODIFIED:20240327T062303Z
UID:26061-1712653200-1712660400@waterwrights.net
SUMMARY:Tulare ID 9AM
DESCRIPTION:2nd Tuesday 9am
URL:https://waterwrights.net/event/tulare-id-9am-24/
LOCATION:Tulare ID\, 6826 Avenue 240\, Tulare\, California\, 93274
END:VEVENT
BEGIN:VEVENT
DTSTART;TZID=America/Los_Angeles:20240409T090000
DTEND;TZID=America/Los_Angeles:20240409T110000
DTSTAMP:20260419T103341
CREATED:20240327T063716Z
LAST-MODIFIED:20240327T063716Z
UID:26069-1712653200-1712660400@waterwrights.net
SUMMARY:Lower Tule River ID 9AM
DESCRIPTION:2nd Tuesday 9am
URL:https://waterwrights.net/event/lower-tule-river-id-9am-20/
LOCATION:Lower Tule River ID\, 357 East Olive Ave\, Tipton\, California\, 93272
END:VEVENT
BEGIN:VEVENT
DTSTART;TZID=America/Los_Angeles:20240409T090000
DTEND;TZID=America/Los_Angeles:20240409T110000
DTSTAMP:20260419T103341
CREATED:20240327T063821Z
LAST-MODIFIED:20240327T063821Z
UID:26071-1712653200-1712660400@waterwrights.net
SUMMARY:Porterville ID 9AM
DESCRIPTION:2nd Tuesday 9am
URL:https://waterwrights.net/event/porterville-id-9am-21/
LOCATION:California
END:VEVENT
BEGIN:VEVENT
DTSTART;TZID=America/Los_Angeles:20240409T090000
DTEND;TZID=America/Los_Angeles:20240409T110000
DTSTAMP:20260419T103341
CREATED:20240328T233645Z
LAST-MODIFIED:20240328T233645Z
UID:26112-1712653200-1712660400@waterwrights.net
SUMMARY:Modesto ID 9AM
DESCRIPTION:2nd Tuesday 9am
URL:https://waterwrights.net/event/modesto-id-9am-16/
LOCATION:Modesto ID\, 1231 11 Street\, Modesto\, California\, 95354
END:VEVENT
BEGIN:VEVENT
DTSTART;TZID=America/Los_Angeles:20240409T093000
DTEND;TZID=America/Los_Angeles:20240409T113000
DTSTAMP:20260419T103341
CREATED:20240328T234002Z
LAST-MODIFIED:20240328T234002Z
UID:26116-1712655000-1712662200@waterwrights.net
SUMMARY:Central Delta WA 9:30AM
DESCRIPTION:2nd Tuesday 9:30am
URL:https://waterwrights.net/event/central-delta-wa-930am-11/
LOCATION:Central Delta WA\, 235 E Weber\, Stockton\, CA\, 95202\, United States
END:VEVENT
BEGIN:VEVENT
DTSTART;TZID=America/Los_Angeles:20240409T100000
DTEND;TZID=America/Los_Angeles:20240409T120000
DTSTAMP:20260419T103341
CREATED:20240327T052208Z
LAST-MODIFIED:20240327T052208Z
UID:26047-1712656800-1712664000@waterwrights.net
SUMMARY:James ID 10AM
DESCRIPTION:2nd Tuesday 10am
URL:https://waterwrights.net/event/james-id-10am-12/
LOCATION:James ID\, 8749 ninth street\, san joaquin\, CA\, 93660\, United States
END:VEVENT
BEGIN:VEVENT
DTSTART;TZID=America/Los_Angeles:20240409T120000
DTEND;TZID=America/Los_Angeles:20240409T140000
DTSTAMP:20260419T103341
CREATED:20240328T222601Z
LAST-MODIFIED:20240328T222601Z
UID:26100-1712664000-1712671200@waterwrights.net
SUMMARY:Arvin Edison WSD 12PM
DESCRIPTION:2nd Tuesday Noon
URL:https://waterwrights.net/event/arvin-edison-wsd-12pm-10/
LOCATION:Arvin Edison WSD\, 20401 Bear Mountain Blvd\, Arvin\, California\, 93203
END:VEVENT
BEGIN:VEVENT
DTSTART;TZID=America/Los_Angeles:20240409T130000
DTEND;TZID=America/Los_Angeles:20240409T150000
DTSTAMP:20260419T103341
CREATED:20240329T011149Z
LAST-MODIFIED:20240329T011149Z
UID:26142-1712667600-1712674800@waterwrights.net
SUMMARY:Mid Kings River GSA 1PM
DESCRIPTION:2nd Tuesday 1pm
URL:https://waterwrights.net/event/mid-kings-river-gsa-1pm-14/
LOCATION:Mid Kings River GSA\, 200 Campus Dr.\, Hanford\, CA\, 93230\, United States
END:VEVENT
BEGIN:VEVENT
DTSTART;TZID=America/Los_Angeles:20240409T130000
DTEND;TZID=America/Los_Angeles:20240409T150000
DTSTAMP:20260419T103341
CREATED:20240329T011549Z
LAST-MODIFIED:20240329T011549Z
UID:26144-1712667600-1712674800@waterwrights.net
SUMMARY:El Rico GSA 1PM
DESCRIPTION:2nd Tuesday 1pm
URL:https://waterwrights.net/event/el-rico-gsa-1pm-15/
LOCATION:El Rico GSA\, 1001 Chase Avenue\,\, Corcoran\, California\, 93212
END:VEVENT
BEGIN:VEVENT
DTSTART;TZID=America/Los_Angeles:20240409T133000
DTEND;TZID=America/Los_Angeles:20240409T153000
DTSTAMP:20260419T103341
CREATED:20240327T062956Z
LAST-MODIFIED:20240327T062956Z
UID:26067-1712669400-1712676600@waterwrights.net
SUMMARY:Lindsay Strathmore ID 1:30PM
DESCRIPTION:2nd Tuesday 1:30pm
URL:https://waterwrights.net/event/lindsay-strathmore-id-130pm-12/
LOCATION:Lindsay Strathmore ID\, 23260 Round vally Road\, Lindsay\, CA\, 93247\, United States
END:VEVENT
BEGIN:VEVENT
DTSTART;TZID=America/Los_Angeles:20240409T140000
DTEND;TZID=America/Los_Angeles:20240409T160000
DTSTAMP:20260419T103341
CREATED:20240327T062850Z
LAST-MODIFIED:20240327T062850Z
UID:26065-1712671200-1712678400@waterwrights.net
SUMMARY:Lindmore ID 2PM
DESCRIPTION:2nd Tuesday 2pm
URL:https://waterwrights.net/event/lindmore-id-2pm-13/
LOCATION:Lindmore ID\, 315 E. Lindmore Street\, Lindsay\, California\, 93247
END:VEVENT
BEGIN:VEVENT
DTSTART;TZID=America/Los_Angeles:20240409T150000
DTEND;TZID=America/Los_Angeles:20240409T170000
DTSTAMP:20260419T103341
CREATED:20240328T230724Z
LAST-MODIFIED:20240328T230724Z
UID:26106-1712674800-1712682000@waterwrights.net
SUMMARY:Kern Water Bank 3PM
DESCRIPTION:2nd Tuesday 3pm
URL:https://waterwrights.net/event/kern-water-bank-3pm-28/
LOCATION:Kern Water Bank\, 1620 Mill Rock Way\, Ste 500\, Bakersfield\, California\, 93311
END:VEVENT
BEGIN:VEVENT
DTSTART;TZID=America/Los_Angeles:20240409T150000
DTEND;TZID=America/Los_Angeles:20240409T170000
DTSTAMP:20260419T103341
CREATED:20240329T010435Z
LAST-MODIFIED:20240329T010435Z
UID:26138-1712674800-1712682000@waterwrights.net
SUMMARY:Mid Kaweah GSA 3PM
DESCRIPTION:2nd Tuesday 3pm
URL:https://waterwrights.net/event/mid-kaweah-gsa-3pm-24/
LOCATION:Mid Kaweah GSA\, 491 North M Street\, tulare\, CA\, 93274\, United States
END:VEVENT
END:VCALENDAR