BEGIN:VCALENDAR
VERSION:2.0
PRODID:-//Water Wrights - ECPv5.16.4//NONSGML v1.0//EN
CALSCALE:GREGORIAN
METHOD:PUBLISH
X-WR-CALNAME:Water Wrights
X-ORIGINAL-URL:https://waterwrights.net
X-WR-CALDESC:Events for Water Wrights
BEGIN:VTIMEZONE
TZID:America/Los_Angeles
BEGIN:DAYLIGHT
TZOFFSETFROM:-0800
TZOFFSETTO:-0700
TZNAME:PDT
DTSTART:20240310T100000
END:DAYLIGHT
BEGIN:STANDARD
TZOFFSETFROM:-0700
TZOFFSETTO:-0800
TZNAME:PST
DTSTART:20241103T090000
END:STANDARD
END:VTIMEZONE
BEGIN:VEVENT
DTSTART;TZID=America/Los_Angeles:20240411T090000
DTEND;TZID=America/Los_Angeles:20240411T110000
DTSTAMP:20260419T115618
CREATED:20240328T220740Z
LAST-MODIFIED:20240328T220740Z
UID:26092-1712826000-1712833200@waterwrights.net
SUMMARY:Cawelo WD 9AM
DESCRIPTION:2nd Thursday 9am
URL:https://waterwrights.net/event/cawelo-wd-9am-13/
LOCATION:Cawelo WD\, 17207 Industrial Farm Road\, Bakersfield\, California\, 93308
END:VEVENT
BEGIN:VEVENT
DTSTART;TZID=America/Los_Angeles:20240411T093000
DTEND;TZID=America/Los_Angeles:20240411T113000
DTSTAMP:20260419T115618
CREATED:20240327T060425Z
LAST-MODIFIED:20240327T060425Z
UID:26055-1712827800-1712835000@waterwrights.net
SUMMARY:Alta ID 9:30AM
DESCRIPTION:2nd Thursday 9:30am
URL:https://waterwrights.net/event/alta-id-930am-19/
LOCATION:Alta ID\, 289 N. L street\, dinuba\, CA\, 93646\, United States
END:VEVENT
BEGIN:VEVENT
DTSTART;TZID=America/Los_Angeles:20240411T100000
DTEND;TZID=America/Los_Angeles:20240411T120000
DTSTAMP:20260419T115618
CREATED:20240328T235307Z
LAST-MODIFIED:20240328T235307Z
UID:26120-1712829600-1712836800@waterwrights.net
SUMMARY:Butte WD 10AM
DESCRIPTION:2nd Thursday 10am
URL:https://waterwrights.net/event/butte-wd-10am-11/
LOCATION:Butte WD\, 735 Virginia Street\, Gridley\, California\, 95948
END:VEVENT
BEGIN:VEVENT
DTSTART;TZID=America/Los_Angeles:20240411T133000
DTEND;TZID=America/Los_Angeles:20240411T153000
DTSTAMP:20260419T115618
CREATED:20240327T062517Z
LAST-MODIFIED:20240327T062517Z
UID:26063-1712842200-1712849400@waterwrights.net
SUMMARY:Exeter ID 1:30PM
DESCRIPTION:2nd Thursday 1:30pm
URL:https://waterwrights.net/event/exeter-id-130pm-10/
LOCATION:150 E Street Exeter CA 93221\, 150 E street\, exeter\, CA\, 93221\, United States
END:VEVENT
BEGIN:VEVENT
DTSTART;TZID=America/Los_Angeles:20240411T140000
DTEND;TZID=America/Los_Angeles:20240411T153000
DTSTAMP:20260419T115618
CREATED:20240327T051222Z
LAST-MODIFIED:20240410T185538Z
UID:26045-1712844000-1712849400@waterwrights.net
SUMMARY:Triangle T WD & GSA 10AM
DESCRIPTION:2nd Thursday 10am
URL:https://waterwrights.net/event/triangle-t-wd-gsa-10am-10/
LOCATION:Triangle T WD/GSA\, 4400 Hays Drive\, Chowchilla\, California\, 93610
END:VEVENT
BEGIN:VEVENT
DTSTART;TZID=America/Los_Angeles:20240411T143000
DTEND;TZID=America/Los_Angeles:20240411T163000
DTSTAMP:20260419T115618
CREATED:20240328T230625Z
LAST-MODIFIED:20240328T230625Z
UID:26104-1712845800-1712853000@waterwrights.net
SUMMARY:Kern Tulare WD 2:30PM
DESCRIPTION:2nd Thursday 2:30pm
URL:https://waterwrights.net/event/kern-tulare-wd-230pm-11/
LOCATION:Kern Tulare WD\, 5001 California Ave Ste 202\, Bakersfield\, 93309
END:VEVENT
BEGIN:VEVENT
DTSTART;TZID=America/Los_Angeles:20240411T150000
DTEND;TZID=America/Los_Angeles:20240411T170000
DTSTAMP:20260419T115618
CREATED:20240327T053256Z
LAST-MODIFIED:20240409T191518Z
UID:26051-1712847600-1712854800@waterwrights.net
SUMMARY:Fresno ID 3PM
DESCRIPTION:Fresno Irrigation District Regular Board of\nDirectors Meeting – April 11\, 2024 \nFresno Irrigation District Office\n2907 S. Maple Avenue\nFresno\, CA\, 93725
URL:https://waterwrights.net/event/fresno-id-3pm-19/
LOCATION:Fresno Irrigation District\, 2097 S. Mapel Ave\, Fresno\, California\, 93725
END:VEVENT
BEGIN:VEVENT
DTSTART;TZID=America/Los_Angeles:20240411T160000
DTEND;TZID=America/Los_Angeles:20240411T180000
DTSTAMP:20260419T115618
CREATED:20240328T225016Z
LAST-MODIFIED:20240328T225016Z
UID:26102-1712851200-1712858400@waterwrights.net
SUMMARY:Delano Earlimart ID 4PM
DESCRIPTION:2nd Thursday 4pm
URL:https://waterwrights.net/event/delano-earlimart-id-4pm-13/
LOCATION:Delano Earlimart ID\, 14181 Avenue 24\, Delano\, 93215
END:VEVENT
END:VCALENDAR