BEGIN:VCALENDAR
VERSION:2.0
PRODID:-//Water Wrights - ECPv5.16.4//NONSGML v1.0//EN
CALSCALE:GREGORIAN
METHOD:PUBLISH
X-WR-CALNAME:Water Wrights
X-ORIGINAL-URL:https://waterwrights.net
X-WR-CALDESC:Events for Water Wrights
BEGIN:VTIMEZONE
TZID:America/Los_Angeles
BEGIN:DAYLIGHT
TZOFFSETFROM:-0800
TZOFFSETTO:-0700
TZNAME:PDT
DTSTART:20240310T100000
END:DAYLIGHT
BEGIN:STANDARD
TZOFFSETFROM:-0700
TZOFFSETTO:-0800
TZNAME:PST
DTSTART:20241103T090000
END:STANDARD
END:VTIMEZONE
BEGIN:VEVENT
DTSTART;TZID=America/Los_Angeles:20240412T133000
DTEND;TZID=America/Los_Angeles:20240412T143000
DTSTAMP:20260419T103320
CREATED:20240410T184954Z
LAST-MODIFIED:20240410T185040Z
UID:26250-1712928600-1712932200@waterwrights.net
SUMMARY:North Kings GSA Advisory Committee 1:30pm Clovis
DESCRIPTION:The NKGSA Adv Cmt will meet at the Clovis Police Dept room at 1:30pm on Friday April 12
URL:https://waterwrights.net/event/north-kings-gsa-advisory-committee-130pm-clovis/
END:VEVENT
END:VCALENDAR