BEGIN:VCALENDAR
VERSION:2.0
PRODID:-//Water Wrights - ECPv5.16.4//NONSGML v1.0//EN
CALSCALE:GREGORIAN
METHOD:PUBLISH
X-WR-CALNAME:Water Wrights
X-ORIGINAL-URL:https://waterwrights.net
X-WR-CALDESC:Events for Water Wrights
BEGIN:VTIMEZONE
TZID:America/Los_Angeles
BEGIN:DAYLIGHT
TZOFFSETFROM:-0800
TZOFFSETTO:-0700
TZNAME:PDT
DTSTART:20240310T100000
END:DAYLIGHT
BEGIN:STANDARD
TZOFFSETFROM:-0700
TZOFFSETTO:-0800
TZNAME:PST
DTSTART:20241103T090000
END:STANDARD
END:VTIMEZONE
BEGIN:VEVENT
DTSTART;TZID=America/Los_Angeles:20240416T090000
DTEND;TZID=America/Los_Angeles:20240416T110000
DTSTAMP:20260419T101510
CREATED:20240327T052344Z
LAST-MODIFIED:20240327T052344Z
UID:26049-1713258000-1713265200@waterwrights.net
SUMMARY:Westlands WD 9AM
DESCRIPTION:3rd Tuesday 9am
URL:https://waterwrights.net/event/westlands-wd-9am-8/
LOCATION:Westlands WD\, 3130 N. Fresno St\, Fresno\, California\, 93703
END:VEVENT
BEGIN:VEVENT
DTSTART;TZID=America/Los_Angeles:20240416T090000
DTEND;TZID=America/Los_Angeles:20240416T110000
DTSTAMP:20260419T101510
CREATED:20240328T235544Z
LAST-MODIFIED:20240328T235544Z
UID:26124-1713258000-1713265200@waterwrights.net
SUMMARY:Yuba County WA (entire county) 9AM
DESCRIPTION:1st & 3rd Tuesdays 9am
URL:https://waterwrights.net/event/yuba-county-wa-entire-county-9am-17/
LOCATION:Yuba County WA\, 1220 F Street\, Marysville\, California\, 995901
END:VEVENT
BEGIN:VEVENT
DTSTART;TZID=America/Los_Angeles:20240416T090000
DTEND;TZID=America/Los_Angeles:20240416T110000
DTSTAMP:20260419T101510
CREATED:20240329T004637Z
LAST-MODIFIED:20240329T004637Z
UID:26132-1713258000-1713265200@waterwrights.net
SUMMARY:Western Canal WD 9AM
DESCRIPTION:3rd Tuesday 9am
URL:https://waterwrights.net/event/western-canal-wd-9am-14/
LOCATION:Western Canal WD\, PO Box 190 Richval\, Richval\, California\, 95974
END:VEVENT
BEGIN:VEVENT
DTSTART;TZID=America/Los_Angeles:20240416T093000
DTEND;TZID=America/Los_Angeles:20240416T170000
DTSTAMP:20260419T101510
CREATED:20240325T160046Z
LAST-MODIFIED:20240325T160900Z
UID:26024-1713259800-1713286800@waterwrights.net
SUMMARY:State Board Hearing Tulare Lake Subbasin Probation 9:30am Sacramento
DESCRIPTION:The State Water Resources Control Board will hold a hearing to decide whether or not to place the Tulare Lake Subbasin on probation for producing an inadequate Groundwater Sustainability Plan. For more information click here.
URL:https://waterwrights.net/event/state-board-hearing-tulare-lake-subbasin-probation-930am-sacramento/
LOCATION:California
END:VEVENT
BEGIN:VEVENT
DTSTART;TZID=America/Los_Angeles:20240416T093000
DTEND;TZID=America/Los_Angeles:20240416T170000
DTSTAMP:20260419T101510
CREATED:20240409T034657Z
LAST-MODIFIED:20240409T034657Z
UID:26239-1713259800-1713286800@waterwrights.net
SUMMARY:Tulare Lake Subbasin Probationary Hearing State Board Sacramento
DESCRIPTION:Probationary Hearing – April 16\, 2024\nOn Tuesday\, April 16\, 2024\, the State Water Board will hold a public hearing to consider designating the Tulare Lake Subbasin as a probationary basin under SGMA. \nTuesday\, April 16\, 2024\, at 9:30 a.m.\nIn-Person Location\nCoastal Hearing Room\nJoe Serna Jr. CalEPA Headquarters Building\n1001 I Street\, Second Floor\nSacramento\, CA 95814 \n\nAgenda | Agenda en Español
URL:https://waterwrights.net/event/tulare-lake-subbasin-probationary-hearing-state-board-sacramento/
LOCATION:California
END:VEVENT
BEGIN:VEVENT
DTSTART;TZID=America/Los_Angeles:20240416T103000
DTEND;TZID=America/Los_Angeles:20240416T123000
DTSTAMP:20260419T101510
CREATED:20240415T063112Z
LAST-MODIFIED:20240415T063112Z
UID:26275-1713263400-1713270600@waterwrights.net
SUMMARY:Special Kings River WA 10:30AM
DESCRIPTION:SPECIAL BOARD OF DIRECTORS’ MEETING OF THE\nKINGS RIVER WATER ASSOCIATION\nTUESDAY\, APRIL 16\, 2024 \nImmediately following the Executive Committee Meeting \nStarting no earlier than 10:30 a.m.\nMeeting Locations\nKings River Water Association\n4888 E. Jensen Avenue\nFresno\, CA 93725\n101 W. Walnut Street\nPasadena\, CA 91103
URL:https://waterwrights.net/event/special-kings-river-wa-1030am/
LOCATION:Kings River WA\, 4888 E. Jensen Avenue\, Fresno\, CA\, 93725\, United States
END:VEVENT
BEGIN:VEVENT
DTSTART;TZID=America/Los_Angeles:20240416T130000
DTEND;TZID=America/Los_Angeles:20240416T150000
DTSTAMP:20260419T101510
CREATED:20240327T050755Z
LAST-MODIFIED:20240327T050755Z
UID:26041-1713272400-1713279600@waterwrights.net
SUMMARY:Madera ID 1PM
DESCRIPTION:3rd Tuesday 1pm
URL:https://waterwrights.net/event/madera-id-1pm-13/
LOCATION:Madera ID\, 12152 Rd 28 1/4\,\, Madera\,\, California\, 93637
END:VEVENT
BEGIN:VEVENT
DTSTART;TZID=America/Los_Angeles:20240416T130000
DTEND;TZID=America/Los_Angeles:20240416T150000
DTSTAMP:20260419T101510
CREATED:20240328T222130Z
LAST-MODIFIED:20240328T222130Z
UID:26098-1713272400-1713279600@waterwrights.net
SUMMARY:Kern Delta WD 1PM
DESCRIPTION:1st & 3rdTuesdays 1pm
URL:https://waterwrights.net/event/kern-delta-wd-1pm-25/
LOCATION:Kern Delta WD\, 501 Taft High Way\, Bakersfield\, California\, 93307
END:VEVENT
END:VCALENDAR