BEGIN:VCALENDAR
VERSION:2.0
PRODID:-//Water Wrights - ECPv5.16.4//NONSGML v1.0//EN
CALSCALE:GREGORIAN
METHOD:PUBLISH
X-WR-CALNAME:Water Wrights
X-ORIGINAL-URL:https://waterwrights.net
X-WR-CALDESC:Events for Water Wrights
BEGIN:VTIMEZONE
TZID:America/Los_Angeles
BEGIN:DAYLIGHT
TZOFFSETFROM:-0800
TZOFFSETTO:-0700
TZNAME:PDT
DTSTART:20240310T100000
END:DAYLIGHT
BEGIN:STANDARD
TZOFFSETFROM:-0700
TZOFFSETTO:-0800
TZNAME:PST
DTSTART:20241103T090000
END:STANDARD
END:VTIMEZONE
BEGIN:VEVENT
DTSTART;TZID=America/Los_Angeles:20240417T070000
DTEND;TZID=America/Los_Angeles:20240417T090000
DTSTAMP:20260419T102648
CREATED:20240328T220609Z
LAST-MODIFIED:20240328T220609Z
UID:26090-1713337200-1713344400@waterwrights.net
SUMMARY:North Kern WSD 7AM
DESCRIPTION:3rd Wednesday 7am
URL:https://waterwrights.net/event/north-kern-wsd-7am-11/
LOCATION:North Kern Water Service District\, 33380 Cawelo Extended\, Bakersfield\, California\, 93308
END:VEVENT
BEGIN:VEVENT
DTSTART;TZID=America/Los_Angeles:20240417T080000
DTEND;TZID=America/Los_Angeles:20240417T170000
DTSTAMP:20260419T102648
CREATED:20240328T220127Z
LAST-MODIFIED:20240328T220127Z
UID:26084-1713340800-1713373200@waterwrights.net
SUMMARY:Buena Vista WSD
DESCRIPTION:3rd Wednesday time varies \nMost likely 12:30
URL:https://waterwrights.net/event/buena-vista-wsd-14/
LOCATION:525 Main Street Buttonwillow CA 93206\, 525 Main street\, buttonwillow\, CA\, 93206\, United States
END:VEVENT
END:VCALENDAR