BEGIN:VCALENDAR
VERSION:2.0
PRODID:-//Water Wrights - ECPv5.16.4//NONSGML v1.0//EN
CALSCALE:GREGORIAN
METHOD:PUBLISH
X-WR-CALNAME:Water Wrights
X-ORIGINAL-URL:https://waterwrights.net
X-WR-CALDESC:Events for Water Wrights
BEGIN:VTIMEZONE
TZID:America/Los_Angeles
BEGIN:DAYLIGHT
TZOFFSETFROM:-0800
TZOFFSETTO:-0700
TZNAME:PDT
DTSTART:20240310T100000
END:DAYLIGHT
BEGIN:STANDARD
TZOFFSETFROM:-0700
TZOFFSETTO:-0800
TZNAME:PST
DTSTART:20241103T090000
END:STANDARD
END:VTIMEZONE
BEGIN:VEVENT
DTSTART;TZID=America/Los_Angeles:20240418T080000
DTEND;TZID=America/Los_Angeles:20240418T170000
DTSTAMP:20260419T101641
CREATED:20240328T233800Z
LAST-MODIFIED:20240328T233800Z
UID:26114-1713427200-1713459600@waterwrights.net
SUMMARY:Oakdale ID 9AM
DESCRIPTION:3rd Thursday 9am
URL:https://waterwrights.net/event/oakdale-id-9am-12/
LOCATION:Oakdale ID\, 1205 East F Street\, Oakdale\, California\, 95361
END:VEVENT
BEGIN:VEVENT
DTSTART;TZID=America/Los_Angeles:20240418T090000
DTEND;TZID=America/Los_Angeles:20240418T110000
DTSTAMP:20260419T101641
CREATED:20240329T002819Z
LAST-MODIFIED:20240329T002819Z
UID:26128-1713430800-1713438000@waterwrights.net
SUMMARY:Glenn-Colusa ID 9AM
DESCRIPTION:1st & 3rd Thursdays 9am
URL:https://waterwrights.net/event/glenn-colusa-id-9am-39/
LOCATION:Glenn Colusa ID Meeting\, 344 E Laurel Street Willows\, California\, 95988
END:VEVENT
BEGIN:VEVENT
DTSTART;TZID=America/Los_Angeles:20240418T133000
DTEND;TZID=America/Los_Angeles:20240418T153000
DTSTAMP:20260419T101641
CREATED:20240329T002946Z
LAST-MODIFIED:20240329T002946Z
UID:26130-1713447000-1713454200@waterwrights.net
SUMMARY:Richvale ID 1:30PM
DESCRIPTION:3rd Thursday 1:30pm
URL:https://waterwrights.net/event/richvale-id-130pm-11/
LOCATION:Richvale Irrigation District\, PO Box 147\, Richvale\, California\, 95974
END:VEVENT
BEGIN:VEVENT
DTSTART;TZID=America/Los_Angeles:20240418T133000
DTEND;TZID=America/Los_Angeles:20240418T153000
DTSTAMP:20260419T101641
CREATED:20240416T053652Z
LAST-MODIFIED:20240416T053652Z
UID:26283-1713447000-1713454200@waterwrights.net
SUMMARY:GKGSA Technical Advisory Committee Meeting 1:30PM
DESCRIPTION:Greater Kaweah GSA Thursday\, April 18\, 2024 @ 1:30 p.m.
URL:https://waterwrights.net/event/gkgsa-technical-advisory-committee-meeting-130pm/
LOCATION:Greater Kaweah GSA\, Kaweah Delta WCD offices\, California
END:VEVENT
BEGIN:VEVENT
DTSTART;TZID=America/Los_Angeles:20240418T170000
DTEND;TZID=America/Los_Angeles:20240418T210000
DTSTAMP:20260419T101641
CREATED:20240409T034000Z
LAST-MODIFIED:20240409T034000Z
UID:26237-1713459600-1713474000@waterwrights.net
SUMMARY:Fresno County Farm Bureau Bounty of the County 5pm
DESCRIPTION:The Fresno County Farm Bureau hosts the Bounty of the County 2024 at Woolf Lakes Park \nApril 18\, 2024\, 5:00 PM \nSanger\, 11646 Ashlan Ave\, Sanger\, CA 93657\, USA \nhttps://www.fcfb.org/event-details/bounty-of-fresno-county-2024
URL:https://waterwrights.net/event/fresno-county-farm-bureau-bounty-of-the-county-5pm/
LOCATION:California
END:VEVENT
END:VCALENDAR