BEGIN:VCALENDAR
VERSION:2.0
PRODID:-//Water Wrights - ECPv5.16.4//NONSGML v1.0//EN
CALSCALE:GREGORIAN
METHOD:PUBLISH
X-WR-CALNAME:Water Wrights
X-ORIGINAL-URL:https://waterwrights.net
X-WR-CALDESC:Events for Water Wrights
BEGIN:VTIMEZONE
TZID:America/Los_Angeles
BEGIN:DAYLIGHT
TZOFFSETFROM:-0800
TZOFFSETTO:-0700
TZNAME:PDT
DTSTART:20240310T100000
END:DAYLIGHT
BEGIN:STANDARD
TZOFFSETFROM:-0700
TZOFFSETTO:-0800
TZNAME:PST
DTSTART:20241103T090000
END:STANDARD
END:VTIMEZONE
BEGIN:VEVENT
DTSTART;TZID=America/Los_Angeles:20240502T090000
DTEND;TZID=America/Los_Angeles:20240502T110000
DTSTAMP:20260419T084700
CREATED:20240428T072403Z
LAST-MODIFIED:20240428T072403Z
UID:26346-1714640400-1714647600@waterwrights.net
SUMMARY:Glenn-Colusa ID 9AM
DESCRIPTION:1st & 3rd Thursdays 9am
URL:https://waterwrights.net/event/glenn-colusa-id-9am-40/
LOCATION:Glenn Colusa ID Meeting\, 344 E Laurel Street Willows\, California\, 95988
END:VEVENT
BEGIN:VEVENT
DTSTART;TZID=America/Los_Angeles:20240502T100000
DTEND;TZID=America/Los_Angeles:20240502T120000
DTSTAMP:20260419T084700
CREATED:20240428T065747Z
LAST-MODIFIED:20240428T065747Z
UID:26334-1714644000-1714651200@waterwrights.net
SUMMARY:Kern River GSA 10AM
DESCRIPTION:Kern River Groundwater Sustainability Agency\nMAY 2 2024\nREGULAR BOARD MEETING \n10:00 a.m. \nCity of Bakersfield Water Resources Department \n1000 Buena Vista Road\, Bakersfield CA 93311 \nLarge Conference Room
URL:https://waterwrights.net/event/kern-river-gsa-10am-19/
LOCATION:Kings River WA\, 4888 E. Jensen Avenue\, Fresno\, CA\, 93725\, United States
END:VEVENT
BEGIN:VEVENT
DTSTART;TZID=America/Los_Angeles:20240502T100000
DTEND;TZID=America/Los_Angeles:20240502T120000
DTSTAMP:20260419T084700
CREATED:20240428T074202Z
LAST-MODIFIED:20240428T074202Z
UID:26350-1714644000-1714651200@waterwrights.net
SUMMARY:Kern River GSA 10AM
DESCRIPTION:1st Thursday 10am
URL:https://waterwrights.net/event/kern-river-gsa-10am-20/
LOCATION:Kern River GSA\, N. 1600 Truxtun Ave\, Bakersfield\, CA\, 93301\, United States
END:VEVENT
BEGIN:VEVENT
DTSTART;TZID=America/Los_Angeles:20240502T130000
DTEND;TZID=America/Los_Angeles:20240502T150000
DTSTAMP:20260419T084700
CREATED:20240428T065935Z
LAST-MODIFIED:20240428T065935Z
UID:26336-1714654800-1714662000@waterwrights.net
SUMMARY:Tri County Water Authority 1PM
DESCRIPTION:1s Thursday 1pm
URL:https://waterwrights.net/event/tri-county-water-authority-1pm-11/
LOCATION:Triangle T WD/GSA\, 4400 Hays Drive\, Chowchilla\, California\, 93610
END:VEVENT
END:VCALENDAR