BEGIN:VCALENDAR
VERSION:2.0
PRODID:-//Water Wrights - ECPv5.16.4//NONSGML v1.0//EN
CALSCALE:GREGORIAN
METHOD:PUBLISH
X-WR-CALNAME:Water Wrights
X-ORIGINAL-URL:https://waterwrights.net
X-WR-CALDESC:Events for Water Wrights
BEGIN:VTIMEZONE
TZID:America/Los_Angeles
BEGIN:DAYLIGHT
TZOFFSETFROM:-0800
TZOFFSETTO:-0700
TZNAME:PDT
DTSTART:20240310T100000
END:DAYLIGHT
BEGIN:STANDARD
TZOFFSETFROM:-0700
TZOFFSETTO:-0800
TZNAME:PST
DTSTART:20241103T090000
END:STANDARD
END:VTIMEZONE
BEGIN:VEVENT
DTSTART;VALUE=DATE:20240507
DTEND;VALUE=DATE:20240510
DTSTAMP:20260419T084201
CREATED:20240129T063821Z
LAST-MODIFIED:20240129T063821Z
UID:25308-1715040000-1715299199@waterwrights.net
SUMMARY:ACWA Spring Conference Sacramento CA
DESCRIPTION:
URL:https://waterwrights.net/event/acwa-spring-conference-sacramento-ca/
END:VEVENT
BEGIN:VEVENT
DTSTART;TZID=America/Los_Angeles:20240507T090000
DTEND;TZID=America/Los_Angeles:20240507T110000
DTSTAMP:20260419T084201
CREATED:20240428T070647Z
LAST-MODIFIED:20240428T070837Z
UID:26338-1715072400-1715079600@waterwrights.net
SUMMARY:Kaweah Delta WCD 9AM
DESCRIPTION:1st Tuesday 9am
URL:https://waterwrights.net/event/kaweah-delta-wcd-9am-23/
LOCATION:Kaweah Delta WCD\, 2975 N. Farmersville Blvd Farmersville\, California\, 93223
END:VEVENT
BEGIN:VEVENT
DTSTART;TZID=America/Los_Angeles:20240507T090000
DTEND;TZID=America/Los_Angeles:20240507T110000
DTSTAMP:20260419T084201
CREATED:20240507T042041Z
LAST-MODIFIED:20240507T042041Z
UID:26465-1715072400-1715079600@waterwrights.net
SUMMARY:Yuba WA 9AM
DESCRIPTION:The agenda for the regular meeting of the Yuba Water Agency Board of Directors on May 7\, 2024 at 9:00 A.M. has been published.
URL:https://waterwrights.net/event/yuba-wa-9am-3/
LOCATION:Yuba County WA\, 1220 F Street\, Marysville\, California\, 995901
END:VEVENT
BEGIN:VEVENT
DTSTART;TZID=America/Los_Angeles:20240507T130000
DTEND;TZID=America/Los_Angeles:20240507T150000
DTSTAMP:20260419T084201
CREATED:20240428T071001Z
LAST-MODIFIED:20240428T071001Z
UID:26340-1715086800-1715094000@waterwrights.net
SUMMARY:Kern Delta WD 1PM
DESCRIPTION:1st & 3rdTuesdays 1pm
URL:https://waterwrights.net/event/kern-delta-wd-1pm-26/
LOCATION:Kern Delta WD\, 501 Taft High Way\, Bakersfield\, California\, 93307
END:VEVENT
BEGIN:VEVENT
DTSTART;TZID=America/Los_Angeles:20240507T140000
DTEND;TZID=America/Los_Angeles:20240507T160000
DTSTAMP:20260419T084201
CREATED:20240428T074027Z
LAST-MODIFIED:20240428T074027Z
UID:26348-1715090400-1715097600@waterwrights.net
SUMMARY:Eastern Tule GSA 2PM
DESCRIPTION:1st Tuesday 2pm
URL:https://waterwrights.net/event/eastern-tule-gsa-2pm-22/
LOCATION:Eastern Tule GSA\, 881 W. Morton Avenue\, Suite D\, Porterville\, California\, 93257
END:VEVENT
END:VCALENDAR