BEGIN:VCALENDAR
VERSION:2.0
PRODID:-//Water Wrights - ECPv5.16.4//NONSGML v1.0//EN
CALSCALE:GREGORIAN
METHOD:PUBLISH
X-WR-CALNAME:Water Wrights
X-ORIGINAL-URL:https://waterwrights.net
X-WR-CALDESC:Events for Water Wrights
BEGIN:VTIMEZONE
TZID:America/Los_Angeles
BEGIN:DAYLIGHT
TZOFFSETFROM:-0800
TZOFFSETTO:-0700
TZNAME:PDT
DTSTART:20240310T100000
END:DAYLIGHT
BEGIN:STANDARD
TZOFFSETFROM:-0700
TZOFFSETTO:-0800
TZNAME:PST
DTSTART:20241103T090000
END:STANDARD
END:VTIMEZONE
BEGIN:VEVENT
DTSTART;VALUE=DATE:20240507
DTEND;VALUE=DATE:20240510
DTSTAMP:20260419T084221
CREATED:20240129T063821Z
LAST-MODIFIED:20240129T063821Z
UID:25308-1715040000-1715299199@waterwrights.net
SUMMARY:ACWA Spring Conference Sacramento CA
DESCRIPTION:
URL:https://waterwrights.net/event/acwa-spring-conference-sacramento-ca/
END:VEVENT
BEGIN:VEVENT
DTSTART;TZID=America/Los_Angeles:20240509T090000
DTEND;TZID=America/Los_Angeles:20240509T110000
DTSTAMP:20260419T084221
CREATED:20240501T063223Z
LAST-MODIFIED:20240501T063223Z
UID:26408-1715245200-1715252400@waterwrights.net
SUMMARY:Cawelo WD 9AM
DESCRIPTION:2nd Thursday 9am
URL:https://waterwrights.net/event/cawelo-wd-9am-14/
LOCATION:Cawelo WD\, 17207 Industrial Farm Road\, Bakersfield\, California\, 93308
END:VEVENT
BEGIN:VEVENT
DTSTART;TZID=America/Los_Angeles:20240509T090000
DTEND;TZID=America/Los_Angeles:20240509T110000
DTSTAMP:20260419T084221
CREATED:20240507T042834Z
LAST-MODIFIED:20240507T042834Z
UID:26468-1715245200-1715252400@waterwrights.net
SUMMARY:South of Kern River 9AM
DESCRIPTION:South of Kern River Executive Committee\nRegular Meeting\nThursday\, May 9\, 2024\n9:00 a.m.to 11:00 a.m.\nIn Person: Arvin-Edison Water Storage District Headquarters\n20401 E. Bear Mountain Blvd. Arvin\, CA 93203
URL:https://waterwrights.net/event/south-of-kern-river-9am/
LOCATION:20401 E. Bear Mountain Blvd. Arvin\, CA 93203\, 20401 E. Bear mountain blvd\, Arvin\, CA\, 93203\, United States
END:VEVENT
BEGIN:VEVENT
DTSTART;TZID=America/Los_Angeles:20240509T093000
DTEND;TZID=America/Los_Angeles:20240509T113000
DTSTAMP:20260419T084221
CREATED:20240501T055127Z
LAST-MODIFIED:20240501T055127Z
UID:26376-1715247000-1715254200@waterwrights.net
SUMMARY:Alta ID 9:30AM
DESCRIPTION:2nd Thursday 9:30am
URL:https://waterwrights.net/event/alta-id-930am-20/
LOCATION:Alta ID\, 289 N. L street\, dinuba\, CA\, 93646\, United States
END:VEVENT
BEGIN:VEVENT
DTSTART;TZID=America/Los_Angeles:20240509T100000
DTEND;TZID=America/Los_Angeles:20240509T120000
DTSTAMP:20260419T084221
CREATED:20240501T053216Z
LAST-MODIFIED:20240501T053216Z
UID:26366-1715248800-1715256000@waterwrights.net
SUMMARY:Triangle T WD & GSA 10AM
DESCRIPTION:2nd Thursday 10am
URL:https://waterwrights.net/event/triangle-t-wd-gsa-10am-11/
LOCATION:Triangle T WD/GSA\, 4400 Hays Drive\, Chowchilla\, California\, 93610
END:VEVENT
BEGIN:VEVENT
DTSTART;TZID=America/Los_Angeles:20240509T130000
DTEND;TZID=America/Los_Angeles:20240509T150000
DTSTAMP:20260419T084221
CREATED:20240507T043324Z
LAST-MODIFIED:20240507T043324Z
UID:26470-1715259600-1715266800@waterwrights.net
SUMMARY:Kings County WD 1PM
DESCRIPTION:MEETING OF THE\nBOARD OF DIRECTORS\nThursday\, May 9\, 2024 – Convenes at 1:00 p.m.
URL:https://waterwrights.net/event/kings-county-wd-1pm-5/
LOCATION:Kings County WD\, 200 Campus Drive\, Hanford\, California\, 93230
END:VEVENT
BEGIN:VEVENT
DTSTART;TZID=America/Los_Angeles:20240509T133000
DTEND;TZID=America/Los_Angeles:20240509T153000
DTSTAMP:20260419T084221
CREATED:20240501T061536Z
LAST-MODIFIED:20240501T061536Z
UID:26386-1715261400-1715268600@waterwrights.net
SUMMARY:Exeter ID 1:30PM
DESCRIPTION:2nd Thursday 1:30pm
URL:https://waterwrights.net/event/exeter-id-130pm-11/
LOCATION:150 E Street Exeter CA 93221\, 150 E street\, exeter\, CA\, 93221\, United States
END:VEVENT
BEGIN:VEVENT
DTSTART;TZID=America/Los_Angeles:20240509T143000
DTEND;TZID=America/Los_Angeles:20240509T163000
DTSTAMP:20260419T084221
CREATED:20240501T063725Z
LAST-MODIFIED:20240501T063725Z
UID:26418-1715265000-1715272200@waterwrights.net
SUMMARY:Kern Tulare WD 2:30PM
DESCRIPTION:2nd Thursday 2:30pm
URL:https://waterwrights.net/event/kern-tulare-wd-230pm-12/
LOCATION:Kern Tulare WD\, 5001 California Ave Ste 202\, Bakersfield\, 93309
END:VEVENT
BEGIN:VEVENT
DTSTART;TZID=America/Los_Angeles:20240509T150000
DTEND;TZID=America/Los_Angeles:20240509T170000
DTSTAMP:20260419T084221
CREATED:20240502T054500Z
LAST-MODIFIED:20240507T043458Z
UID:26448-1715266800-1715274000@waterwrights.net
SUMMARY:Mid Kaweah GSA 3PM
DESCRIPTION:Advisory Committee Regular Meeting\n*THURSDAY* May 9th\, 2024 – 3:00pm\nLocation\nTulare Irrigation District\n6826 Avenue 240\nTulare\, CA 93274
URL:https://waterwrights.net/event/mid-kaweah-gsa-3pm-25/
LOCATION:Mid Kaweah GSA\, 491 North M Street\, tulare\, CA\, 93274\, United States
END:VEVENT
BEGIN:VEVENT
DTSTART;TZID=America/Los_Angeles:20240509T160000
DTEND;TZID=America/Los_Angeles:20240509T180000
DTSTAMP:20260419T084221
CREATED:20240501T063624Z
LAST-MODIFIED:20240501T063624Z
UID:26416-1715270400-1715277600@waterwrights.net
SUMMARY:Delano Earlimart ID 4PM
DESCRIPTION:2nd Thursday 4pm
URL:https://waterwrights.net/event/delano-earlimart-id-4pm-14/
LOCATION:Delano Earlimart ID\, 14181 Avenue 24\, Delano\, 93215
END:VEVENT
END:VCALENDAR