BEGIN:VCALENDAR
VERSION:2.0
PRODID:-//Water Wrights - ECPv5.16.4//NONSGML v1.0//EN
CALSCALE:GREGORIAN
METHOD:PUBLISH
X-WR-CALNAME:Water Wrights
X-ORIGINAL-URL:https://waterwrights.net
X-WR-CALDESC:Events for Water Wrights
BEGIN:VTIMEZONE
TZID:America/Los_Angeles
BEGIN:DAYLIGHT
TZOFFSETFROM:-0800
TZOFFSETTO:-0700
TZNAME:PDT
DTSTART:20240310T100000
END:DAYLIGHT
BEGIN:STANDARD
TZOFFSETFROM:-0700
TZOFFSETTO:-0800
TZNAME:PST
DTSTART:20241103T090000
END:STANDARD
END:VTIMEZONE
BEGIN:VEVENT
DTSTART;TZID=America/Los_Angeles:20240514T080000
DTEND;TZID=America/Los_Angeles:20240514T100000
DTSTAMP:20260420T055455
CREATED:20240501T063325Z
LAST-MODIFIED:20240501T063325Z
UID:26410-1715673600-1715680800@waterwrights.net
SUMMARY:Rosedale Rio Bravo WSD 8AM
DESCRIPTION:2nd Tuesday 8am
URL:https://waterwrights.net/event/rosedale-rio-bravo-wsd-8am-12/
LOCATION:Rosedale Rio Bravo WSD\, 849 Allen Road\, Bakersfield\, California\, 93314
END:VEVENT
BEGIN:VEVENT
DTSTART;TZID=America/Los_Angeles:20240514T080000
DTEND;TZID=America/Los_Angeles:20240514T100000
DTSTAMP:20260420T055455
CREATED:20240513T040445Z
LAST-MODIFIED:20240513T040445Z
UID:26492-1715673600-1715680800@waterwrights.net
SUMMARY:Wheeler Ridge-Maricopa WSD 8AM
DESCRIPTION:Wheeler Ridge-Maricopa Water Storage District \nWheeler Ridge-Maricopa GSA\nRegular Board Meeting\nTuesday\, May 14\, 2024 @ 8:00 A.M.\nDistrict Headquarters Board Room\n12109 Hwy 166\, 6.5 miles west of Mettler\, CA
URL:https://waterwrights.net/event/wheeler-ridge-maricopa-wsd-8am/
LOCATION:Wheeler Ridge Maricopa WD\, 12109 High Way 166\, Bakerfield\, California\, 93312
END:VEVENT
BEGIN:VEVENT
DTSTART;TZID=America/Los_Angeles:20240514T090000
DTEND;TZID=America/Los_Angeles:20240514T110000
DTSTAMP:20260420T055455
CREATED:20240501T055627Z
LAST-MODIFIED:20240501T055627Z
UID:26380-1715677200-1715684400@waterwrights.net
SUMMARY:Corcoran ID 9AM
DESCRIPTION:2nd Tuesday 9am
URL:https://waterwrights.net/event/corcoran-id-9am-12/
LOCATION:1150 6 1/2 Ave Corcoran CA 93212\, 1150 6 1/2 Ave\, corcoran\, CA\, 93212\, United States
END:VEVENT
BEGIN:VEVENT
DTSTART;TZID=America/Los_Angeles:20240514T090000
DTEND;TZID=America/Los_Angeles:20240514T110000
DTSTAMP:20260420T055455
CREATED:20240501T060801Z
LAST-MODIFIED:20240501T060801Z
UID:26384-1715677200-1715684400@waterwrights.net
SUMMARY:Tulare ID 9AM
DESCRIPTION:2nd Tuesday 9am
URL:https://waterwrights.net/event/tulare-id-9am-25/
LOCATION:Tulare ID\, 6826 Avenue 240\, Tulare\, California\, 93274
END:VEVENT
BEGIN:VEVENT
DTSTART;TZID=America/Los_Angeles:20240514T090000
DTEND;TZID=America/Los_Angeles:20240514T110000
DTSTAMP:20260420T055455
CREATED:20240501T062002Z
LAST-MODIFIED:20240501T062002Z
UID:26392-1715677200-1715684400@waterwrights.net
SUMMARY:Lower Tule River ID 9AM
DESCRIPTION:2nd Tuesday 9am
URL:https://waterwrights.net/event/lower-tule-river-id-9am-21/
LOCATION:Lower Tule River ID\, 357 East Olive Ave\, Tipton\, California\, 93272
END:VEVENT
BEGIN:VEVENT
DTSTART;TZID=America/Los_Angeles:20240514T090000
DTEND;TZID=America/Los_Angeles:20240514T110000
DTSTAMP:20260420T055455
CREATED:20240513T041455Z
LAST-MODIFIED:20240513T041455Z
UID:26497-1715677200-1715684400@waterwrights.net
SUMMARY:Porterville ID 9AM
DESCRIPTION:BOARD MEETING AGENDA\nMay 14\, 2024 – 9:00 a.m.\n22086 Avenue 160\, Porterville CA 93257
URL:https://waterwrights.net/event/porterville-id-9am-23/
LOCATION:22086 avenue 160\, Porterville CA 93257\, 22086 avenue 160\, Porterville\, CA\, 93257\, United States
END:VEVENT
BEGIN:VEVENT
DTSTART;TZID=America/Los_Angeles:20240514T093000
DTEND;TZID=America/Los_Angeles:20240514T113000
DTSTAMP:20260420T055455
CREATED:20240502T051733Z
LAST-MODIFIED:20240502T051733Z
UID:26430-1715679000-1715686200@waterwrights.net
SUMMARY:Central Delta WA 9:30AM
DESCRIPTION:2nd Tuesday 9:30am
URL:https://waterwrights.net/event/central-delta-wa-930am-12/
LOCATION:Central Delta WA\, 235 E Weber\, Stockton\, CA\, 95202\, United States
END:VEVENT
BEGIN:VEVENT
DTSTART;TZID=America/Los_Angeles:20240514T100000
DTEND;TZID=America/Los_Angeles:20240514T120000
DTSTAMP:20260420T055455
CREATED:20240501T053950Z
LAST-MODIFIED:20240501T053950Z
UID:26368-1715680800-1715688000@waterwrights.net
SUMMARY:James ID 10AM
DESCRIPTION:2nd Tuesday 10am
URL:https://waterwrights.net/event/james-id-10am-13/
LOCATION:James ID\, 8749 ninth street\, san joaquin\, CA\, 93660\, United States
END:VEVENT
BEGIN:VEVENT
DTSTART;TZID=America/Los_Angeles:20240514T100000
DTEND;TZID=America/Los_Angeles:20240514T120000
DTSTAMP:20260420T055455
CREATED:20240502T053410Z
LAST-MODIFIED:20240502T053410Z
UID:26434-1715680800-1715688000@waterwrights.net
SUMMARY:Butte WD 10AM
DESCRIPTION:N O T I C E / A G E N D A\nR E G U A L R B O A R D M E E T I N G O F T H E B O A R D O F D I R E C T O R S O F\nB U T T E W A T E R D I S T R I C T\nM A R C H 1 4 \, 2 0 2 4 A T 1 0 : 0 0 A M
URL:https://waterwrights.net/event/butte-wd-10am-12/
LOCATION:Butte WD\, 735 Virginia Street\, Gridley\, California\, 95948
END:VEVENT
BEGIN:VEVENT
DTSTART;TZID=America/Los_Angeles:20240514T120000
DTEND;TZID=America/Los_Angeles:20240514T140000
DTSTAMP:20260420T055455
CREATED:20240501T063524Z
LAST-MODIFIED:20240501T063524Z
UID:26414-1715688000-1715695200@waterwrights.net
SUMMARY:Arvin Edison WSD 12PM
DESCRIPTION:2nd Tuesday Noon
URL:https://waterwrights.net/event/arvin-edison-wsd-12pm-11/
LOCATION:Arvin Edison WSD\, 20401 Bear Mountain Blvd\, Arvin\, California\, 93203
END:VEVENT
BEGIN:VEVENT
DTSTART;TZID=America/Los_Angeles:20240514T130000
DTEND;TZID=America/Los_Angeles:20240514T150000
DTSTAMP:20260420T055455
CREATED:20240502T054604Z
LAST-MODIFIED:20240502T054604Z
UID:26450-1715691600-1715698800@waterwrights.net
SUMMARY:Mid Kings River GSA 1PM
DESCRIPTION:2nd Tuesday 1pm
URL:https://waterwrights.net/event/mid-kings-river-gsa-1pm-15/
LOCATION:Mid Kings River GSA\, 200 Campus Dr.\, Hanford\, CA\, 93230\, United States
END:VEVENT
BEGIN:VEVENT
DTSTART;TZID=America/Los_Angeles:20240514T130000
DTEND;TZID=America/Los_Angeles:20240514T150000
DTSTAMP:20260420T055455
CREATED:20240502T054651Z
LAST-MODIFIED:20240502T054651Z
UID:26452-1715691600-1715698800@waterwrights.net
SUMMARY:El Rico GSA 1PM
DESCRIPTION:2nd Tuesday 1pm
URL:https://waterwrights.net/event/el-rico-gsa-1pm-16/
LOCATION:El Rico GSA\, 1001 Chase Avenue\,\, Corcoran\, California\, 93212
END:VEVENT
BEGIN:VEVENT
DTSTART;TZID=America/Los_Angeles:20240514T133000
DTEND;TZID=America/Los_Angeles:20240514T153000
DTSTAMP:20260420T055455
CREATED:20240501T061819Z
LAST-MODIFIED:20240501T061819Z
UID:26390-1715693400-1715700600@waterwrights.net
SUMMARY:Lindsay Strathmore ID 1:30PM
DESCRIPTION:2nd Tuesday 1:30pm
URL:https://waterwrights.net/event/lindsay-strathmore-id-130pm-13/
LOCATION:Lindsay Strathmore ID\, 23260 Round vally Road\, Lindsay\, CA\, 93247\, United States
END:VEVENT
BEGIN:VEVENT
DTSTART;TZID=America/Los_Angeles:20240514T140000
DTEND;TZID=America/Los_Angeles:20240514T160000
DTSTAMP:20260420T055455
CREATED:20240513T040228Z
LAST-MODIFIED:20240513T040228Z
UID:26490-1715695200-1715702400@waterwrights.net
SUMMARY:Lindmore ID 2PM
DESCRIPTION:Board of directors meeting \nTuesday may 14 2PM
URL:https://waterwrights.net/event/lindmore-id-2pm-15/
LOCATION:Lindmore ID\, 315 E. Lindmore Street\, Lindsay\, California\, 93247
END:VEVENT
BEGIN:VEVENT
DTSTART;TZID=America/Los_Angeles:20240514T150000
DTEND;TZID=America/Los_Angeles:20240514T170000
DTSTAMP:20260420T055455
CREATED:20240501T063804Z
LAST-MODIFIED:20240501T063804Z
UID:26420-1715698800-1715706000@waterwrights.net
SUMMARY:Kern Water Bank 3PM
DESCRIPTION:2nd Tuesday 3pm
URL:https://waterwrights.net/event/kern-water-bank-3pm-29/
LOCATION:Kern Tulare WD\, 5001 California Ave Ste 202\, Bakersfield\, 93309
END:VEVENT
END:VCALENDAR